BEGIN:VCALENDAR
VERSION:2.0
PRODID:-//Marion Salem Church - ECPv6.15.20//NONSGML v1.0//EN
CALSCALE:GREGORIAN
METHOD:PUBLISH
X-WR-CALNAME:Marion Salem Church
X-ORIGINAL-URL:https://marionsalemchurch.org
X-WR-CALDESC:Events for Marion Salem Church
REFRESH-INTERVAL;VALUE=DURATION:PT1H
X-Robots-Tag:noindex
X-PUBLISHED-TTL:PT1H
BEGIN:VTIMEZONE
TZID:America/New_York
BEGIN:DAYLIGHT
TZOFFSETFROM:-0500
TZOFFSETTO:-0400
TZNAME:EDT
DTSTART:20230312T070000
END:DAYLIGHT
BEGIN:STANDARD
TZOFFSETFROM:-0400
TZOFFSETTO:-0500
TZNAME:EST
DTSTART:20231105T060000
END:STANDARD
BEGIN:DAYLIGHT
TZOFFSETFROM:-0500
TZOFFSETTO:-0400
TZNAME:EDT
DTSTART:20240310T070000
END:DAYLIGHT
BEGIN:STANDARD
TZOFFSETFROM:-0400
TZOFFSETTO:-0500
TZNAME:EST
DTSTART:20241103T060000
END:STANDARD
BEGIN:DAYLIGHT
TZOFFSETFROM:-0500
TZOFFSETTO:-0400
TZNAME:EDT
DTSTART:20250309T070000
END:DAYLIGHT
BEGIN:STANDARD
TZOFFSETFROM:-0400
TZOFFSETTO:-0500
TZNAME:EST
DTSTART:20251102T060000
END:STANDARD
END:VTIMEZONE
BEGIN:VEVENT
DTSTART;TZID=America/New_York:20240515T130000
DTEND;TZID=America/New_York:20240515T150000
DTSTAMP:20260422T011613
CREATED:20240513T130525Z
LAST-MODIFIED:20240513T130525Z
UID:1000-1715778000-1715785200@marionsalemchurch.org
SUMMARY:Knitting/Crafts Group
DESCRIPTION:You don’t have to know how to knit. We will teach you. This is a fun group activity.
URL:https://marionsalemchurch.org/event/knitting-crafts-group/
CATEGORIES:Church
END:VEVENT
BEGIN:VEVENT
DTSTART;TZID=America/New_York:20240515T190000
DTEND;TZID=America/New_York:20240515T200000
DTSTAMP:20260422T011613
CREATED:20240513T131211Z
LAST-MODIFIED:20240513T131211Z
UID:1002-1715799600-1715803200@marionsalemchurch.org
SUMMARY:Bible Study
DESCRIPTION:Join Pastor Jason for an engaging time of discussion as the group explores basic teachings of Christian Faith.\nThis is a paced study and you can drop in anytime.\n(No Study—Annual Conference May 22 and No Study—Ad Council\, May 29)
URL:https://marionsalemchurch.org/event/bible-study-8/
CATEGORIES:Church
END:VEVENT
END:VCALENDAR