BEGIN:VCALENDAR
VERSION:2.0
PRODID:-//Marion Salem Church - ECPv6.15.20//NONSGML v1.0//EN
CALSCALE:GREGORIAN
METHOD:PUBLISH
X-WR-CALNAME:Marion Salem Church
X-ORIGINAL-URL:https://marionsalemchurch.org
X-WR-CALDESC:Events for Marion Salem Church
REFRESH-INTERVAL;VALUE=DURATION:PT1H
X-Robots-Tag:noindex
X-PUBLISHED-TTL:PT1H
BEGIN:VTIMEZONE
TZID:America/New_York
BEGIN:DAYLIGHT
TZOFFSETFROM:-0500
TZOFFSETTO:-0400
TZNAME:EDT
DTSTART:20250309T070000
END:DAYLIGHT
BEGIN:STANDARD
TZOFFSETFROM:-0400
TZOFFSETTO:-0500
TZNAME:EST
DTSTART:20251102T060000
END:STANDARD
BEGIN:DAYLIGHT
TZOFFSETFROM:-0500
TZOFFSETTO:-0400
TZNAME:EDT
DTSTART:20260308T070000
END:DAYLIGHT
BEGIN:STANDARD
TZOFFSETFROM:-0400
TZOFFSETTO:-0500
TZNAME:EST
DTSTART:20261101T060000
END:STANDARD
BEGIN:DAYLIGHT
TZOFFSETFROM:-0500
TZOFFSETTO:-0400
TZNAME:EDT
DTSTART:20270314T070000
END:DAYLIGHT
BEGIN:STANDARD
TZOFFSETFROM:-0400
TZOFFSETTO:-0500
TZNAME:EST
DTSTART:20271107T060000
END:STANDARD
END:VTIMEZONE
BEGIN:VEVENT
DTSTART;TZID=America/New_York:20260415T061500
DTEND;TZID=America/New_York:20260415T190000
DTSTAMP:20260420T053448
CREATED:20260409T150151Z
LAST-MODIFIED:20260409T150151Z
UID:2638-1776233700-1776279600@marionsalemchurch.org
SUMMARY:Choir Practice
DESCRIPTION:Choir
URL:https://marionsalemchurch.org/event/choir-practice-13/
CATEGORIES:Church
END:VEVENT
BEGIN:VEVENT
DTSTART;TZID=America/New_York:20260415T190000
DTEND;TZID=America/New_York:20260415T200000
DTSTAMP:20260420T053448
CREATED:20260409T143905Z
LAST-MODIFIED:20260409T143905Z
UID:2613-1776279600-1776283200@marionsalemchurch.org
SUMMARY:Basic Christian Faith Study
DESCRIPTION:Join Pastor Jason for an engaging time of discussion as we explore basic teachings of Christian Faith. This is a paced study and you can drop in anytime.  \nApril Studies \n15th: Study continues \n22nd: Study continues \n29th: Study continues
URL:https://marionsalemchurch.org/event/basic-christian-faith-study-april-15-26/
CATEGORIES:Church
ATTACH;FMTTYPE=image/jpeg:https://marionsalemchurch.org/wp-content/uploads/2024/02/Bible-Studies.jpg
END:VEVENT
END:VCALENDAR