BEGIN:VCALENDAR
VERSION:2.0
PRODID:-//Marion Salem Church - ECPv6.15.20//NONSGML v1.0//EN
CALSCALE:GREGORIAN
METHOD:PUBLISH
X-ORIGINAL-URL:https://marionsalemchurch.org
X-WR-CALDESC:Events for Marion Salem Church
REFRESH-INTERVAL;VALUE=DURATION:PT1H
X-Robots-Tag:noindex
X-PUBLISHED-TTL:PT1H
BEGIN:VTIMEZONE
TZID:America/New_York
BEGIN:DAYLIGHT
TZOFFSETFROM:-0500
TZOFFSETTO:-0400
TZNAME:EDT
DTSTART:20230312T070000
END:DAYLIGHT
BEGIN:STANDARD
TZOFFSETFROM:-0400
TZOFFSETTO:-0500
TZNAME:EST
DTSTART:20231105T060000
END:STANDARD
BEGIN:DAYLIGHT
TZOFFSETFROM:-0500
TZOFFSETTO:-0400
TZNAME:EDT
DTSTART:20240310T070000
END:DAYLIGHT
BEGIN:STANDARD
TZOFFSETFROM:-0400
TZOFFSETTO:-0500
TZNAME:EST
DTSTART:20241103T060000
END:STANDARD
BEGIN:DAYLIGHT
TZOFFSETFROM:-0500
TZOFFSETTO:-0400
TZNAME:EDT
DTSTART:20250309T070000
END:DAYLIGHT
BEGIN:STANDARD
TZOFFSETFROM:-0400
TZOFFSETTO:-0500
TZNAME:EST
DTSTART:20251102T060000
END:STANDARD
END:VTIMEZONE
BEGIN:VEVENT
DTSTART;TZID=America/New_York:20240915T183000
DTEND;TZID=America/New_York:20240915T200000
DTSTAMP:20260421T032337
CREATED:20240909T173205Z
LAST-MODIFIED:20240909T173205Z
UID:1399-1726425000-1726430400@marionsalemchurch.org
SUMMARY:Youth Group
DESCRIPTION:Salem Strivers\, our youth group\, will meet.
URL:https://marionsalemchurch.org/event/youth-group/
CATEGORIES:youth
ATTACH;FMTTYPE=image/png:https://marionsalemchurch.org/wp-content/uploads/2024/09/Screenshot-2024-09-09-at-1.16.17-PM.png
END:VEVENT
BEGIN:VEVENT
DTSTART;TZID=America/New_York:20240922T183000
DTEND;TZID=America/New_York:20240922T200000
DTSTAMP:20260421T032337
CREATED:20240909T173320Z
LAST-MODIFIED:20240909T173320Z
UID:1402-1727029800-1727035200@marionsalemchurch.org
SUMMARY:Youth Group
DESCRIPTION:Salem Strivers\, our youth group\, will meet.
URL:https://marionsalemchurch.org/event/youth-group-2/
CATEGORIES:youth
ATTACH;FMTTYPE=image/png:https://marionsalemchurch.org/wp-content/uploads/2024/09/Screenshot-2024-09-09-at-1.16.17-PM-1.png
END:VEVENT
BEGIN:VEVENT
DTSTART;TZID=America/New_York:20240929T183000
DTEND;TZID=America/New_York:20240929T200000
DTSTAMP:20260421T032337
CREATED:20240909T173407Z
LAST-MODIFIED:20240929T204453Z
UID:1405-1727634600-1727640000@marionsalemchurch.org
SUMMARY:Youth Group
DESCRIPTION:Salem Strivers\, our youth group\, will meet.
URL:https://marionsalemchurch.org/event/youth-group-3/
CATEGORIES:youth
ATTACH;FMTTYPE=image/png:https://marionsalemchurch.org/wp-content/uploads/2024/09/Screenshot-2024-09-09-at-1.16.17-PM-1.png
END:VEVENT
END:VCALENDAR