BEGIN:VCALENDAR
VERSION:2.0
PRODID:-//Marion Salem Church - ECPv6.15.20//NONSGML v1.0//EN
CALSCALE:GREGORIAN
METHOD:PUBLISH
X-WR-CALNAME:Marion Salem Church
X-ORIGINAL-URL:https://marionsalemchurch.org
X-WR-CALDESC:Events for Marion Salem Church
REFRESH-INTERVAL;VALUE=DURATION:PT1H
X-Robots-Tag:noindex
X-PUBLISHED-TTL:PT1H
BEGIN:VTIMEZONE
TZID:America/New_York
BEGIN:DAYLIGHT
TZOFFSETFROM:-0500
TZOFFSETTO:-0400
TZNAME:EDT
DTSTART:20240310T070000
END:DAYLIGHT
BEGIN:STANDARD
TZOFFSETFROM:-0400
TZOFFSETTO:-0500
TZNAME:EST
DTSTART:20241103T060000
END:STANDARD
BEGIN:DAYLIGHT
TZOFFSETFROM:-0500
TZOFFSETTO:-0400
TZNAME:EDT
DTSTART:20250309T070000
END:DAYLIGHT
BEGIN:STANDARD
TZOFFSETFROM:-0400
TZOFFSETTO:-0500
TZNAME:EST
DTSTART:20251102T060000
END:STANDARD
BEGIN:DAYLIGHT
TZOFFSETFROM:-0500
TZOFFSETTO:-0400
TZNAME:EDT
DTSTART:20260308T070000
END:DAYLIGHT
BEGIN:STANDARD
TZOFFSETFROM:-0400
TZOFFSETTO:-0500
TZNAME:EST
DTSTART:20261101T060000
END:STANDARD
END:VTIMEZONE
BEGIN:VEVENT
DTSTART;TZID=America/New_York:20250309T183000
DTEND;TZID=America/New_York:20250309T193000
DTSTAMP:20260420T194632
CREATED:20250304T145929Z
LAST-MODIFIED:20250304T145929Z
UID:1855-1741545000-1741548600@marionsalemchurch.org
SUMMARY:Salem Strivers
DESCRIPTION:Join us for Youth Group \nStrivers do all they can to seek after the Lord. Part of that is sharing Christ with others. Remember to invite someone to youth. \n  \nThe Strivers are still looking for a mature disciple of Christ who will help lead their meetings on a weekly basis. Please pray for and help us find this person by sharing it word of mouth.  \n  \nEssentials of Faith III:  \nWhy Do We Need the Bible?  \nThe Bible is a wonderful book filled with poetry\, historical events\, exciting narratives\, and stories from the life of Jesus. Because it is an ancient text\, it can also be intimidating and confusing. Its complexity makes many people wonder if we even need the Bible—can’t we experience God without it? In this six-session series\, author and Bible teacher Lisa Harper unpacks the value and importance of the Bible for everyday believers. In this series\, we will learn about what the Bible is\, how God communicates with us through it\, and why we should read it.
URL:https://marionsalemchurch.org/event/salem-strivers/
CATEGORIES:youth
ATTACH;FMTTYPE=image/png:https://marionsalemchurch.org/wp-content/uploads/2024/09/Screenshot-2024-09-09-at-1.16.17-PM-1.png
END:VEVENT
END:VCALENDAR