BEGIN:VCALENDAR
VERSION:2.0
PRODID:-//Marion Salem Church - ECPv6.15.20//NONSGML v1.0//EN
CALSCALE:GREGORIAN
METHOD:PUBLISH
X-ORIGINAL-URL:https://marionsalemchurch.org
X-WR-CALDESC:Events for Marion Salem Church
REFRESH-INTERVAL;VALUE=DURATION:PT1H
X-Robots-Tag:noindex
X-PUBLISHED-TTL:PT1H
BEGIN:VTIMEZONE
TZID:America/New_York
BEGIN:DAYLIGHT
TZOFFSETFROM:-0500
TZOFFSETTO:-0400
TZNAME:EDT
DTSTART:20240310T070000
END:DAYLIGHT
BEGIN:STANDARD
TZOFFSETFROM:-0400
TZOFFSETTO:-0500
TZNAME:EST
DTSTART:20241103T060000
END:STANDARD
BEGIN:DAYLIGHT
TZOFFSETFROM:-0500
TZOFFSETTO:-0400
TZNAME:EDT
DTSTART:20250309T070000
END:DAYLIGHT
BEGIN:STANDARD
TZOFFSETFROM:-0400
TZOFFSETTO:-0500
TZNAME:EST
DTSTART:20251102T060000
END:STANDARD
BEGIN:DAYLIGHT
TZOFFSETFROM:-0500
TZOFFSETTO:-0400
TZNAME:EDT
DTSTART:20260308T070000
END:DAYLIGHT
BEGIN:STANDARD
TZOFFSETFROM:-0400
TZOFFSETTO:-0500
TZNAME:EST
DTSTART:20261101T060000
END:STANDARD
END:VTIMEZONE
BEGIN:VEVENT
DTSTART;TZID=America/New_York:20251102T180000
DTEND;TZID=America/New_York:20251102T193000
DTSTAMP:20260420T073404
CREATED:20251101T194059Z
LAST-MODIFIED:20251114T204123Z
UID:2242-1762106400-1762111800@marionsalemchurch.org
SUMMARY:Salem Strivers Youth Meeting
DESCRIPTION:Strive for peace with everyone\, and for the holiness without which no one will see the Lord. Hebrews 12:14 \n  \nNovember Schedule: \n11/2: Welcome Pastor Heather—6pm Youth in grades 6-12 and their parents come join us for a time of fellowship and planning! Hotdogs & drinks provided bring a dish to share. \nRegular youth group meetings start at 6pm on Nov. 9\, 16\, 23\, and 30! \nHello!
URL:https://marionsalemchurch.org/event/salem-strivers-youth-meeting/
CATEGORIES:youth
ATTACH;FMTTYPE=image/png:https://marionsalemchurch.org/wp-content/uploads/2024/09/Screenshot-2024-09-09-at-1.16.17-PM-1.png
END:VEVENT
END:VCALENDAR