BEGIN:VCALENDAR
VERSION:2.0
PRODID:-//Marion Salem Church - ECPv6.15.20//NONSGML v1.0//EN
CALSCALE:GREGORIAN
METHOD:PUBLISH
X-ORIGINAL-URL:https://marionsalemchurch.org
X-WR-CALDESC:Events for Marion Salem Church
REFRESH-INTERVAL;VALUE=DURATION:PT1H
X-Robots-Tag:noindex
X-PUBLISHED-TTL:PT1H
BEGIN:VTIMEZONE
TZID:America/New_York
BEGIN:DAYLIGHT
TZOFFSETFROM:-0500
TZOFFSETTO:-0400
TZNAME:EDT
DTSTART:20250309T070000
END:DAYLIGHT
BEGIN:STANDARD
TZOFFSETFROM:-0400
TZOFFSETTO:-0500
TZNAME:EST
DTSTART:20251102T060000
END:STANDARD
BEGIN:DAYLIGHT
TZOFFSETFROM:-0500
TZOFFSETTO:-0400
TZNAME:EDT
DTSTART:20260308T070000
END:DAYLIGHT
BEGIN:STANDARD
TZOFFSETFROM:-0400
TZOFFSETTO:-0500
TZNAME:EST
DTSTART:20261101T060000
END:STANDARD
BEGIN:DAYLIGHT
TZOFFSETFROM:-0500
TZOFFSETTO:-0400
TZNAME:EDT
DTSTART:20270314T070000
END:DAYLIGHT
BEGIN:STANDARD
TZOFFSETFROM:-0400
TZOFFSETTO:-0500
TZNAME:EST
DTSTART:20271107T060000
END:STANDARD
END:VTIMEZONE
BEGIN:VEVENT
DTSTART;VALUE=DATE:20260124
DTEND;VALUE=DATE:20260125
DTSTAMP:20260420T230739
CREATED:20260101T171621Z
LAST-MODIFIED:20260101T171621Z
UID:2420-1769212800-1769299199@marionsalemchurch.org
SUMMARY:Salem Strivers Youth Meeting
DESCRIPTION:Strive for peace with everyone\, and for the holiness without which no one will see the Lord. Hebrews 12:14 \nStrivers Youth Schedule \n \n• Jan 24 (Sat): Winter Jam! \nThe entire church family is invited to join the youth group as we attend Winter Jam 2026 on Saturday\, January 24. Students between 12-18 who are attending without a parent/guardian must have a signed permission/medical form from Pastor Heather. The cost is $15 per person plus additional money for food and drinks at the concert if desired. Join us for an evening of worship and fun with some of the hottest names in Christian music! THERE WILL BE NO YOUTH GROUP ON JANUARY 25 FOLLOWING THIS EVENT! \n• Jan 25: NO YOUTH GROUP
URL:https://marionsalemchurch.org/event/salem-strivers-youth-meeting-jan-24/
CATEGORIES:youth
ATTACH;FMTTYPE=image/png:https://marionsalemchurch.org/wp-content/uploads/2024/09/Screenshot-2024-09-09-at-1.16.17-PM-1.png
END:VEVENT
BEGIN:VEVENT
DTSTART;TZID=America/New_York:20260215T180000
DTEND;TZID=America/New_York:20260215T193000
DTSTAMP:20260420T230739
CREATED:20260202T215934Z
LAST-MODIFIED:20260202T220054Z
UID:2490-1771178400-1771183800@marionsalemchurch.org
SUMMARY:Salem Strivers Youth Meeting
DESCRIPTION:Strive for peace with everyone\, and for the holiness without which no one will see the Lord. Hebrews 12:14 \nStrivers Youth Schedule for February \n• Feb 15\, 6pm: Youth Group \n• Feb 22\, 6pm: Youth Group
URL:https://marionsalemchurch.org/event/salem-strivers-youth-meeting-feb-8/
CATEGORIES:youth
ATTACH;FMTTYPE=image/png:https://marionsalemchurch.org/wp-content/uploads/2024/09/Screenshot-2024-09-09-at-1.16.17-PM-1.png
END:VEVENT
BEGIN:VEVENT
DTSTART;TZID=America/New_York:20260222T180000
DTEND;TZID=America/New_York:20260222T193000
DTSTAMP:20260420T230739
CREATED:20260202T220029Z
LAST-MODIFIED:20260202T220029Z
UID:2492-1771783200-1771788600@marionsalemchurch.org
SUMMARY:Salem Strivers Youth Meeting
DESCRIPTION:Strive for peace with everyone\, and for the holiness without which no one will see the Lord. Hebrews 12:14 \nStrivers Youth Schedule for February \n• Feb 22\, 6pm: Youth Group
URL:https://marionsalemchurch.org/event/salem-strivers-youth-meeting-feb-22/
CATEGORIES:youth
ATTACH;FMTTYPE=image/png:https://marionsalemchurch.org/wp-content/uploads/2024/09/Screenshot-2024-09-09-at-1.16.17-PM-1.png
END:VEVENT
BEGIN:VEVENT
DTSTART;VALUE=DATE:20260306
DTEND;VALUE=DATE:20260307
DTSTAMP:20260420T230739
CREATED:20260302T145559Z
LAST-MODIFIED:20260302T145559Z
UID:2584-1772755200-1772841599@marionsalemchurch.org
SUMMARY:Salem Strivers Youth Project/Meetings
DESCRIPTION:Strive for peace with everyone\, and for the holiness without which no one will see the Lord. Hebrews 12:14 \nStrivers Youth Schedule \n• Mar 6-7 (TBA): Help with set-up\, serving and tearing down at the An-nual Spaghetti Dinner & Auction \n• Mar 8\, 6pm: Youth Group \n• Mar 15\, 6pm: Youth Group \n• Mar 22\, 6pm: Youth Group \n• Mar 28\, 2pm: Help with the Easter Eggstravaganza \n• Mar 29: NO YOUTH GROUP \nHave a blessed Palm Sunday and Holy Week!
URL:https://marionsalemchurch.org/event/salem-strivers-youth-meeting-mar-6-7-26/
CATEGORIES:youth
ATTACH;FMTTYPE=image/png:https://marionsalemchurch.org/wp-content/uploads/2024/09/Screenshot-2024-09-09-at-1.16.17-PM-1.png
END:VEVENT
BEGIN:VEVENT
DTSTART;TZID=America/New_York:20260308T180000
DTEND;TZID=America/New_York:20260308T190000
DTSTAMP:20260420T230739
CREATED:20260302T145726Z
LAST-MODIFIED:20260302T145726Z
UID:2586-1772992800-1772996400@marionsalemchurch.org
SUMMARY:Salem Strivers Youth Meetings
DESCRIPTION:Strive for peace with everyone\, and for the holiness without which no one will see the Lord. Hebrews 12:14 \nStrivers Youth Schedule \n• Mar 8\, 6pm: Youth Group \n• Mar 15\, 6pm: Youth Group \n• Mar 22\, 6pm: Youth Group \n• Mar 28\, 2pm: Help with the Easter Eggstravaganza \n• Mar 29: NO YOUTH GROUP \nHave a blessed Palm Sunday and Holy Week!
URL:https://marionsalemchurch.org/event/salem-strivers-youth-meeting-mar-8-26-2/
CATEGORIES:youth
ATTACH;FMTTYPE=image/png:https://marionsalemchurch.org/wp-content/uploads/2024/09/Screenshot-2024-09-09-at-1.16.17-PM-1.png
END:VEVENT
BEGIN:VEVENT
DTSTART;TZID=America/New_York:20260315T180000
DTEND;TZID=America/New_York:20260315T190000
DTSTAMP:20260420T230739
CREATED:20260302T145811Z
LAST-MODIFIED:20260302T145811Z
UID:2588-1773597600-1773601200@marionsalemchurch.org
SUMMARY:Salem Strivers Youth Meetings
DESCRIPTION:Strive for peace with everyone\, and for the holiness without which no one will see the Lord. Hebrews 12:14 \nStrivers Youth Schedule \n• Mar 15\, 6pm: Youth Group \n• Mar 22\, 6pm: Youth Group \n• Mar 28\, 2pm: Help with the Easter Eggstravaganza \n• Mar 29: NO YOUTH GROUP \nHave a blessed Palm Sunday and Holy Week!
URL:https://marionsalemchurch.org/event/salem-strivers-youth-meeting-mar-15-26/
CATEGORIES:youth
ATTACH;FMTTYPE=image/png:https://marionsalemchurch.org/wp-content/uploads/2024/09/Screenshot-2024-09-09-at-1.16.17-PM-1.png
END:VEVENT
BEGIN:VEVENT
DTSTART;TZID=America/New_York:20260322T180000
DTEND;TZID=America/New_York:20260322T190000
DTSTAMP:20260420T230739
CREATED:20260302T145900Z
LAST-MODIFIED:20260302T145900Z
UID:2590-1774202400-1774206000@marionsalemchurch.org
SUMMARY:Salem Strivers Youth Meetings
DESCRIPTION:Strive for peace with everyone\, and for the holiness without which no one will see the Lord. Hebrews 12:14 \nStrivers Youth Schedule \n• Mar 22\, 6pm: Youth Group \n• Mar 28\, 2pm: Help with the Easter Eggstravaganza \n• Mar 29: NO YOUTH GROUP \nHave a blessed Palm Sunday and Holy Week!
URL:https://marionsalemchurch.org/event/salem-strivers-youth-meeting-mar-22-26/
CATEGORIES:youth
ATTACH;FMTTYPE=image/png:https://marionsalemchurch.org/wp-content/uploads/2024/09/Screenshot-2024-09-09-at-1.16.17-PM-1.png
END:VEVENT
BEGIN:VEVENT
DTSTART;TZID=America/New_York:20260328T140000
DTEND;TZID=America/New_York:20260328T160000
DTSTAMP:20260420T230739
CREATED:20260302T150019Z
LAST-MODIFIED:20260302T150053Z
UID:2592-1774706400-1774713600@marionsalemchurch.org
SUMMARY:Salem Strivers Youth Project
DESCRIPTION:Strive for peace with everyone\, and for the holiness without which no one will see the Lord. Hebrews 12:14 \nStrivers Youth Schedule \n• Mar 28\, 2pm: Help with the Easter Eggstravaganza \n• Mar 29: NO YOUTH GROUP \nHave a blessed Palm Sunday and Holy Week!
URL:https://marionsalemchurch.org/event/salem-strivers-youth-meeting-mar-28-26/
CATEGORIES:youth
ATTACH;FMTTYPE=image/png:https://marionsalemchurch.org/wp-content/uploads/2024/09/Screenshot-2024-09-09-at-1.16.17-PM-1.png
END:VEVENT
BEGIN:VEVENT
DTSTART;TZID=America/New_York:20260412T180000
DTEND;TZID=America/New_York:20260412T190000
DTSTAMP:20260420T230739
CREATED:20260409T145206Z
LAST-MODIFIED:20260409T145206Z
UID:2628-1776016800-1776020400@marionsalemchurch.org
SUMMARY:Salem Strivers Youth Meetings
DESCRIPTION:Strive for peace with everyone\, and for the holiness without which no one will see the Lord. Hebrews 12:14 \nStrivers Youth Schedule \n• April 12 6pm Youth Group \n• April 19 6pm Youth Group \n• April 24-26 Encounter Retreat \n• April 26 NO YOUTH GROUP
URL:https://marionsalemchurch.org/event/salem-strivers-youth-meeting-apr-9-26/
CATEGORIES:youth
ATTACH;FMTTYPE=image/png:https://marionsalemchurch.org/wp-content/uploads/2024/09/Screenshot-2024-09-09-at-1.16.17-PM-1.png
END:VEVENT
BEGIN:VEVENT
DTSTART;TZID=America/New_York:20260419T180000
DTEND;TZID=America/New_York:20260419T190000
DTSTAMP:20260420T230739
CREATED:20260409T145317Z
LAST-MODIFIED:20260409T145317Z
UID:2630-1776621600-1776625200@marionsalemchurch.org
SUMMARY:Salem Strivers Youth Meetings
DESCRIPTION:Strive for peace with everyone\, and for the holiness without which no one will see the Lord. Hebrews 12:14 \nStrivers Youth Schedule \n• April 19 6pm Youth Group \n• April 24-26 Encounter Retreat \n• April 26 NO YOUTH GROUP
URL:https://marionsalemchurch.org/event/salem-strivers-youth-meeting-apr-19-26/
CATEGORIES:youth
ATTACH;FMTTYPE=image/png:https://marionsalemchurch.org/wp-content/uploads/2024/09/Screenshot-2024-09-09-at-1.16.17-PM-1.png
END:VEVENT
BEGIN:VEVENT
DTSTART;VALUE=DATE:20260424
DTEND;VALUE=DATE:20260427
DTSTAMP:20260420T230739
CREATED:20260409T145502Z
LAST-MODIFIED:20260409T145557Z
UID:2632-1776988800-1777247999@marionsalemchurch.org
SUMMARY:Salem Strivers Youth Meetings
DESCRIPTION:Strive for peace with everyone\, and for the holiness without which no one will see the Lord. Hebrews 12:14 \nStrivers Youth Schedule \n• April 24-26 Encounter Retreat \n• April 26 NO YOUTH GROUP
URL:https://marionsalemchurch.org/event/salem-strivers-youth-meeting-apr-24-26/
CATEGORIES:youth
ATTACH;FMTTYPE=image/png:https://marionsalemchurch.org/wp-content/uploads/2024/09/Screenshot-2024-09-09-at-1.16.17-PM-1.png
END:VEVENT
END:VCALENDAR