BEGIN:VCALENDAR
VERSION:2.0
PRODID:-//Marion Salem Church - ECPv6.15.20//NONSGML v1.0//EN
CALSCALE:GREGORIAN
METHOD:PUBLISH
X-ORIGINAL-URL:https://marionsalemchurch.org
X-WR-CALDESC:Events for Marion Salem Church
REFRESH-INTERVAL;VALUE=DURATION:PT1H
X-Robots-Tag:noindex
X-PUBLISHED-TTL:PT1H
BEGIN:VTIMEZONE
TZID:America/New_York
BEGIN:DAYLIGHT
TZOFFSETFROM:-0500
TZOFFSETTO:-0400
TZNAME:EDT
DTSTART:20230312T070000
END:DAYLIGHT
BEGIN:STANDARD
TZOFFSETFROM:-0400
TZOFFSETTO:-0500
TZNAME:EST
DTSTART:20231105T060000
END:STANDARD
BEGIN:DAYLIGHT
TZOFFSETFROM:-0500
TZOFFSETTO:-0400
TZNAME:EDT
DTSTART:20240310T070000
END:DAYLIGHT
BEGIN:STANDARD
TZOFFSETFROM:-0400
TZOFFSETTO:-0500
TZNAME:EST
DTSTART:20241103T060000
END:STANDARD
BEGIN:DAYLIGHT
TZOFFSETFROM:-0500
TZOFFSETTO:-0400
TZNAME:EDT
DTSTART:20250309T070000
END:DAYLIGHT
BEGIN:STANDARD
TZOFFSETFROM:-0400
TZOFFSETTO:-0500
TZNAME:EST
DTSTART:20251102T060000
END:STANDARD
END:VTIMEZONE
BEGIN:VEVENT
DTSTART;TZID=America/New_York:20240204T100000
DTEND;TZID=America/New_York:20240204T110000
DTSTAMP:20260423T034956
CREATED:20240206T204711Z
LAST-MODIFIED:20240206T204711Z
UID:782-1707040800-1707044400@marionsalemchurch.org
SUMMARY:Communion Service
DESCRIPTION:We believe that the bread is an effectual sign of Christ’s body and the cup is an effectual sign of His blood shed for humanity. We believe that it is a means of grace and practice open communion. ALL are welcome to take communion who love Him\, earnestly repent of their sin\, and seek to be at peace with one another. 
URL:https://marionsalemchurch.org/event/communion-service/
CATEGORIES:Church
END:VEVENT
BEGIN:VEVENT
DTSTART;TZID=America/New_York:20240205T140000
DTEND;TZID=America/New_York:20240205T150000
DTSTAMP:20260423T034956
CREATED:20240201T224835Z
LAST-MODIFIED:20240201T224835Z
UID:695-1707141600-1707145200@marionsalemchurch.org
SUMMARY:Bible Study
DESCRIPTION:
URL:https://marionsalemchurch.org/event/bible-study-5/
CATEGORIES:Church
END:VEVENT
BEGIN:VEVENT
DTSTART;TZID=America/New_York:20240206T140000
DTEND;TZID=America/New_York:20240206T150000
DTSTAMP:20260423T034956
CREATED:20240201T225220Z
LAST-MODIFIED:20240201T225220Z
UID:704-1707228000-1707231600@marionsalemchurch.org
SUMMARY:Choir Practice
DESCRIPTION:
URL:https://marionsalemchurch.org/event/choir-practice-4/
CATEGORIES:Church
END:VEVENT
BEGIN:VEVENT
DTSTART;TZID=America/New_York:20240212T140000
DTEND;TZID=America/New_York:20240212T150000
DTSTAMP:20260423T034956
CREATED:20240201T224912Z
LAST-MODIFIED:20240206T204839Z
UID:697-1707746400-1707750000@marionsalemchurch.org
SUMMARY:Bible Study
DESCRIPTION:
URL:https://marionsalemchurch.org/event/bible-study-6/
CATEGORIES:Church
END:VEVENT
BEGIN:VEVENT
DTSTART;TZID=America/New_York:20240213T140000
DTEND;TZID=America/New_York:20240213T150000
DTSTAMP:20260423T034956
CREATED:20240201T225251Z
LAST-MODIFIED:20240201T225251Z
UID:706-1707832800-1707836400@marionsalemchurch.org
SUMMARY:Choir Practice
DESCRIPTION:
URL:https://marionsalemchurch.org/event/choir-practice-5/
CATEGORIES:Church
END:VEVENT
BEGIN:VEVENT
DTSTART;TZID=America/New_York:20240219T140000
DTEND;TZID=America/New_York:20240219T150000
DTSTAMP:20260423T034956
CREATED:20240201T224947Z
LAST-MODIFIED:20240201T224956Z
UID:699-1708351200-1708354800@marionsalemchurch.org
SUMMARY:Bible Study
DESCRIPTION:
URL:https://marionsalemchurch.org/event/bible-studu/
CATEGORIES:Church
END:VEVENT
BEGIN:VEVENT
DTSTART;TZID=America/New_York:20240220T140000
DTEND;TZID=America/New_York:20240220T150000
DTSTAMP:20260423T034956
CREATED:20240201T225315Z
LAST-MODIFIED:20240201T225315Z
UID:708-1708437600-1708441200@marionsalemchurch.org
SUMMARY:Choir Practice
DESCRIPTION:
URL:https://marionsalemchurch.org/event/choir-practice-6/
CATEGORIES:Church
END:VEVENT
BEGIN:VEVENT
DTSTART;TZID=America/New_York:20240226T140000
DTEND;TZID=America/New_York:20240226T150000
DTSTAMP:20260423T034956
CREATED:20240201T225119Z
LAST-MODIFIED:20240201T225119Z
UID:702-1708956000-1708959600@marionsalemchurch.org
SUMMARY:Bible Study
DESCRIPTION:
URL:https://marionsalemchurch.org/event/bible-study-7/
CATEGORIES:Church
END:VEVENT
BEGIN:VEVENT
DTSTART;TZID=America/New_York:20240227T140000
DTEND;TZID=America/New_York:20240227T150000
DTSTAMP:20260423T034956
CREATED:20240201T225343Z
LAST-MODIFIED:20240201T225343Z
UID:710-1709042400-1709046000@marionsalemchurch.org
SUMMARY:Choir Practice
DESCRIPTION:
URL:https://marionsalemchurch.org/event/choir-practice-7/
CATEGORIES:Church
END:VEVENT
BEGIN:VEVENT
DTSTART;TZID=America/New_York:20240514T190000
DTEND;TZID=America/New_York:20240514T200000
DTSTAMP:20260423T034956
CREATED:20240513T130309Z
LAST-MODIFIED:20240513T130309Z
UID:998-1715713200-1715716800@marionsalemchurch.org
SUMMARY:Choir Practice
DESCRIPTION:We welcome new members to the church choir at any time. Please feel free to join us!
URL:https://marionsalemchurch.org/event/choir-practice-8/
CATEGORIES:Church
END:VEVENT
BEGIN:VEVENT
DTSTART;TZID=America/New_York:20240515T130000
DTEND;TZID=America/New_York:20240515T150000
DTSTAMP:20260423T034956
CREATED:20240513T130525Z
LAST-MODIFIED:20240513T130525Z
UID:1000-1715778000-1715785200@marionsalemchurch.org
SUMMARY:Knitting/Crafts Group
DESCRIPTION:You don’t have to know how to knit. We will teach you. This is a fun group activity.
URL:https://marionsalemchurch.org/event/knitting-crafts-group/
CATEGORIES:Church
END:VEVENT
BEGIN:VEVENT
DTSTART;TZID=America/New_York:20240515T190000
DTEND;TZID=America/New_York:20240515T200000
DTSTAMP:20260423T034956
CREATED:20240513T131211Z
LAST-MODIFIED:20240513T131211Z
UID:1002-1715799600-1715803200@marionsalemchurch.org
SUMMARY:Bible Study
DESCRIPTION:Join Pastor Jason for an engaging time of discussion as the group explores basic teachings of Christian Faith.\nThis is a paced study and you can drop in anytime.\n(No Study—Annual Conference May 22 and No Study—Ad Council\, May 29)
URL:https://marionsalemchurch.org/event/bible-study-8/
CATEGORIES:Church
END:VEVENT
BEGIN:VEVENT
DTSTART;TZID=America/New_York:20240521T190000
DTEND;TZID=America/New_York:20240521T200000
DTSTAMP:20260423T034956
CREATED:20240513T131419Z
LAST-MODIFIED:20240513T131419Z
UID:1004-1716318000-1716321600@marionsalemchurch.org
SUMMARY:Choir Practice
DESCRIPTION:We welcome new members to the church choir at any time. Please feel free to join us!
URL:https://marionsalemchurch.org/event/choir-practice-9/
CATEGORIES:Church
END:VEVENT
BEGIN:VEVENT
DTSTART;TZID=America/New_York:20240522T130000
DTEND;TZID=America/New_York:20240522T150000
DTSTAMP:20260423T034956
CREATED:20240513T131803Z
LAST-MODIFIED:20240513T131803Z
UID:1008-1716382800-1716390000@marionsalemchurch.org
SUMMARY:Knitting/Crafts Group
DESCRIPTION:You don’t need to know how to knit. We will teach you!
URL:https://marionsalemchurch.org/event/knitting-crafts-group-2/
CATEGORIES:Church
END:VEVENT
BEGIN:VEVENT
DTSTART;TZID=America/New_York:20240528T190000
DTEND;TZID=America/New_York:20240528T200000
DTSTAMP:20260423T034956
CREATED:20240513T131929Z
LAST-MODIFIED:20240513T131929Z
UID:1010-1716922800-1716926400@marionsalemchurch.org
SUMMARY:Choir Practice
DESCRIPTION:We welcome new members at any time. Join us!
URL:https://marionsalemchurch.org/event/choir-practice-10/
CATEGORIES:Church
END:VEVENT
BEGIN:VEVENT
DTSTART;TZID=America/New_York:20240529T063000
DTEND;TZID=America/New_York:20240529T193000
DTSTAMP:20260423T034956
CREATED:20240513T132015Z
LAST-MODIFIED:20240513T132015Z
UID:1012-1716964200-1717011000@marionsalemchurch.org
SUMMARY:Ad Council Meeting
DESCRIPTION:
URL:https://marionsalemchurch.org/event/ad-council-meeting/
CATEGORIES:Church
END:VEVENT
BEGIN:VEVENT
DTSTART;TZID=America/New_York:20240529T120000
DTEND;TZID=America/New_York:20240529T130000
DTSTAMP:20260423T034956
CREATED:20240513T131627Z
LAST-MODIFIED:20240519T141450Z
UID:1006-1716984000-1716987600@marionsalemchurch.org
SUMMARY:Senior Lunch
DESCRIPTION:Join us in the Family Center. It’s a potluck.
URL:https://marionsalemchurch.org/event/senior-lunch-2/
CATEGORIES:seniors
END:VEVENT
BEGIN:VEVENT
DTSTART;TZID=America/New_York:20240605T130000
DTEND;TZID=America/New_York:20240605T150000
DTSTAMP:20260423T034956
CREATED:20240602T192122Z
LAST-MODIFIED:20240602T192122Z
UID:1152-1717592400-1717599600@marionsalemchurch.org
SUMMARY:Knitting/Craft
DESCRIPTION:You don’t have to know how to know knit; we will teach you! Come join us.
URL:https://marionsalemchurch.org/event/knitting-craft-3/
CATEGORIES:Church
END:VEVENT
BEGIN:VEVENT
DTSTART;TZID=America/New_York:20240606T183000
DTEND;TZID=America/New_York:20240606T193000
DTSTAMP:20260423T034956
CREATED:20240602T192256Z
LAST-MODIFIED:20240602T192256Z
UID:1154-1717698600-1717702200@marionsalemchurch.org
SUMMARY:Finanancial/Admin Meeting
DESCRIPTION:
URL:https://marionsalemchurch.org/event/finanancial-admin-meeting/
CATEGORIES:Church
END:VEVENT
BEGIN:VEVENT
DTSTART;TZID=America/New_York:20240609T183000
DTEND;TZID=America/New_York:20240609T213000
DTSTAMP:20260423T034956
CREATED:20240602T195124Z
LAST-MODIFIED:20240602T195124Z
UID:1185-1717957800-1717968600@marionsalemchurch.org
SUMMARY:Youth-Strivers End-of-Year Party
DESCRIPTION:June 9th will be our last youth group meeting before the summer break. Pastor Jason is planning on special food for this evening as well as extra games in fact\, this will be an extended evening going until 9:30pm. \nATTENTION YOUTH CHAPERONES! We especially need extra chaperones for the 9th as this will be our close of the school year party! If you can only join us for a few minutes at the beginning\, we’d like to have a time of prayer together with all those who have been with us. \nFrom Pastor Jason:\nSummer break… it is not my normal practice to take a summer break from youth group. From the time I was in youth through leading a group as a youth minister\, I continued a consistent schedule. However\, my responsibilities and attention as a pastor are divided between many things and I find it necessary to ease up a little for my own sake. That said\, Marion Salem Church is committed to our youth and finding a youth minister that will be working with students directly. Our prayer is that by summer’s end\, that person will be on staff. \n 
URL:https://marionsalemchurch.org/event/youth-strivers-end-of-year-party/
CATEGORIES:youth
END:VEVENT
BEGIN:VEVENT
DTSTART;TZID=America/New_York:20240611T183000
DTEND;TZID=America/New_York:20240611T193000
DTSTAMP:20260423T034956
CREATED:20240602T192431Z
LAST-MODIFIED:20240602T192431Z
UID:1156-1718130600-1718134200@marionsalemchurch.org
SUMMARY:Planning Meeting for Ice Cream Social
DESCRIPTION:We welcome your input! Join us.
URL:https://marionsalemchurch.org/event/planning-meeting-for-ice-cream-social/
CATEGORIES:Church
END:VEVENT
BEGIN:VEVENT
DTSTART;TZID=America/New_York:20240612T130000
DTEND;TZID=America/New_York:20240612T150000
DTSTAMP:20260423T034956
CREATED:20240602T192631Z
LAST-MODIFIED:20240602T192631Z
UID:1161-1718197200-1718204400@marionsalemchurch.org
SUMMARY:Knitting/Craft
DESCRIPTION:You don’t have to know how to knit. We will teach you! Join us.
URL:https://marionsalemchurch.org/event/knitting-craft-4/
CATEGORIES:Church
END:VEVENT
BEGIN:VEVENT
DTSTART;TZID=America/New_York:20240612T190000
DTEND;TZID=America/New_York:20240612T200000
DTSTAMP:20260423T034956
CREATED:20240602T192727Z
LAST-MODIFIED:20240602T193247Z
UID:1163-1718218800-1718222400@marionsalemchurch.org
SUMMARY:Bible Study
DESCRIPTION:Join Pastor Jason for an engaging time of discussion as we explore basic teachings of Christian faith. This is a paced study and you can drop in anytime.
URL:https://marionsalemchurch.org/event/bible-study-9/
CATEGORIES:Church
END:VEVENT
BEGIN:VEVENT
DTSTART;TZID=America/New_York:20240619T130000
DTEND;TZID=America/New_York:20240619T150000
DTSTAMP:20260423T034956
CREATED:20240602T192830Z
LAST-MODIFIED:20240602T192830Z
UID:1165-1718802000-1718809200@marionsalemchurch.org
SUMMARY:Knitting/Craft
DESCRIPTION:You don’t need to know how to knit. We will teach you. Join us!
URL:https://marionsalemchurch.org/event/knitting-craft-5/
CATEGORIES:Church
END:VEVENT
BEGIN:VEVENT
DTSTART;VALUE=DATE:20240622
DTEND;VALUE=DATE:20240623
DTSTAMP:20260423T034956
CREATED:20240602T192923Z
LAST-MODIFIED:20240602T192923Z
UID:1167-1719014400-1719100799@marionsalemchurch.org
SUMMARY:Claridon Alumni Banquet
DESCRIPTION:Would you like to help? Check in the church office.
URL:https://marionsalemchurch.org/event/claridon-alumni-banquet/
CATEGORIES:Church
END:VEVENT
BEGIN:VEVENT
DTSTART;TZID=America/New_York:20240626T120000
DTEND;TZID=America/New_York:20240626T130000
DTSTAMP:20260423T034956
CREATED:20240602T194002Z
LAST-MODIFIED:20240602T194038Z
UID:1178-1719403200-1719406800@marionsalemchurch.org
SUMMARY:Senior Luncheon
DESCRIPTION:Join us at Noon in the Family Center for a Senior Luncheon.
URL:https://marionsalemchurch.org/event/senior-luncheon/
CATEGORIES:seniors
END:VEVENT
BEGIN:VEVENT
DTSTART;TZID=America/New_York:20240626T130000
DTEND;TZID=America/New_York:20240626T150000
DTSTAMP:20260423T034956
CREATED:20240602T193010Z
LAST-MODIFIED:20240602T193010Z
UID:1169-1719406800-1719414000@marionsalemchurch.org
SUMMARY:Knitting/Craft
DESCRIPTION:Join us! We’d love to teach you how to knit or just come to chat!
URL:https://marionsalemchurch.org/event/knitting-craft-6/
CATEGORIES:Church
END:VEVENT
BEGIN:VEVENT
DTSTART;TZID=America/New_York:20240626T190000
DTEND;TZID=America/New_York:20240626T200000
DTSTAMP:20260423T034956
CREATED:20240602T193045Z
LAST-MODIFIED:20240602T193327Z
UID:1171-1719428400-1719432000@marionsalemchurch.org
SUMMARY:Bible Study
DESCRIPTION:Join Pastor Jason for an engaging time of discussion as we explore basic teachings of Christian faith. This is a paced study and you can drop in anytime.
URL:https://marionsalemchurch.org/event/bible-study-10/
CATEGORIES:Church
END:VEVENT
BEGIN:VEVENT
DTSTART;TZID=America/New_York:20240630T110000
DTEND;TZID=America/New_York:20240630T113000
DTSTAMP:20260423T034956
CREATED:20240602T194252Z
LAST-MODIFIED:20240602T194252Z
UID:1180-1719745200-1719747000@marionsalemchurch.org
SUMMARY:Peanut Butter Sandwich Making
DESCRIPTION:Join us right after worship. (Time is approximate)
URL:https://marionsalemchurch.org/event/peanut-butter-sandwich-making/
CATEGORIES:Church
END:VEVENT
BEGIN:VEVENT
DTSTART;TZID=America/New_York:20240708T150000
DTEND;TZID=America/New_York:20240708T170000
DTSTAMP:20260423T034956
CREATED:20240706T133205Z
LAST-MODIFIED:20240706T133826Z
UID:1221-1720450800-1720458000@marionsalemchurch.org
SUMMARY:Noodle Making
DESCRIPTION:NOODLE MAKING. Please join us beginning at 3 pm to start the process of making the noodles. Following noodle making\, we will have a potluck dinner. Ham sandwiches will be provided. Please bring a covered dish.
URL:https://marionsalemchurch.org/event/noodle-making/
CATEGORIES:Church
END:VEVENT
END:VCALENDAR