BEGIN:VCALENDAR
VERSION:2.0
PRODID:-//Marion Salem Church - ECPv6.15.20//NONSGML v1.0//EN
CALSCALE:GREGORIAN
METHOD:PUBLISH
X-WR-CALNAME:Marion Salem Church
X-ORIGINAL-URL:https://marionsalemchurch.org
X-WR-CALDESC:Events for Marion Salem Church
REFRESH-INTERVAL;VALUE=DURATION:PT1H
X-Robots-Tag:noindex
X-PUBLISHED-TTL:PT1H
BEGIN:VTIMEZONE
TZID:America/New_York
BEGIN:DAYLIGHT
TZOFFSETFROM:-0500
TZOFFSETTO:-0400
TZNAME:EDT
DTSTART:20240310T070000
END:DAYLIGHT
BEGIN:STANDARD
TZOFFSETFROM:-0400
TZOFFSETTO:-0500
TZNAME:EST
DTSTART:20241103T060000
END:STANDARD
BEGIN:DAYLIGHT
TZOFFSETFROM:-0500
TZOFFSETTO:-0400
TZNAME:EDT
DTSTART:20250309T070000
END:DAYLIGHT
BEGIN:STANDARD
TZOFFSETFROM:-0400
TZOFFSETTO:-0500
TZNAME:EST
DTSTART:20251102T060000
END:STANDARD
BEGIN:DAYLIGHT
TZOFFSETFROM:-0500
TZOFFSETTO:-0400
TZNAME:EDT
DTSTART:20260308T070000
END:DAYLIGHT
BEGIN:STANDARD
TZOFFSETFROM:-0400
TZOFFSETTO:-0500
TZNAME:EST
DTSTART:20261101T060000
END:STANDARD
END:VTIMEZONE
BEGIN:VEVENT
DTSTART;VALUE=DATE:20250526
DTEND;VALUE=DATE:20250527
DTSTAMP:20260422T065959
CREATED:20250509T143711Z
LAST-MODIFIED:20250509T144023Z
UID:2002-1748217600-1748303999@marionsalemchurch.org
SUMMARY:Memorial Day
DESCRIPTION:
URL:https://marionsalemchurch.org/event/memorial-day/
CATEGORIES:Church
ATTACH;FMTTYPE=image/png:https://marionsalemchurch.org/wp-content/uploads/2025/05/Screenshot-2025-05-09-at-10.39.45-AM.png
END:VEVENT
BEGIN:VEVENT
DTSTART;TZID=America/New_York:20250528T120000
DTEND;TZID=America/New_York:20250528T130000
DTSTAMP:20260422T065959
CREATED:20250509T142325Z
LAST-MODIFIED:20250509T142325Z
UID:1979-1748433600-1748437200@marionsalemchurch.org
SUMMARY:Senior Lunch
DESCRIPTION:Come join the fun!
URL:https://marionsalemchurch.org/event/senior-lunch-7-2/
CATEGORIES:seniors
ATTACH;FMTTYPE=image/png:https://marionsalemchurch.org/wp-content/uploads/2025/04/Screenshot-2025-04-15-at-10.23.09-AM.png
END:VEVENT
BEGIN:VEVENT
DTSTART;TZID=America/New_York:20250528T130000
DTEND;TZID=America/New_York:20250528T140000
DTSTAMP:20260422T065959
CREATED:20250509T142642Z
LAST-MODIFIED:20250509T142642Z
UID:1985-1748437200-1748440800@marionsalemchurch.org
SUMMARY:Knitting/Crafts
DESCRIPTION:Join us for fun and fellowship.
URL:https://marionsalemchurch.org/event/knitting-crafts-2-2-2-2-2/
CATEGORIES:seniors
ATTACH;FMTTYPE=image/jpeg:https://marionsalemchurch.org/wp-content/uploads/2024/09/yarn.jpg
END:VEVENT
BEGIN:VEVENT
DTSTART;TZID=America/New_York:20250528T190000
DTEND;TZID=America/New_York:20250528T200000
DTSTAMP:20260422T065959
CREATED:20250509T143612Z
LAST-MODIFIED:20250509T143612Z
UID:2000-1748458800-1748462400@marionsalemchurch.org
SUMMARY:Basic Christian Faith Study
DESCRIPTION:Join Pastor Jason for an engaging time of discussion as we explore basic teachings of Christian Faith. This is a paced study and you can drop in anytime. 
URL:https://marionsalemchurch.org/event/basic-christian-faith-study-4-2-2-2-2/
CATEGORIES:Church
ATTACH;FMTTYPE=image/jpeg:https://marionsalemchurch.org/wp-content/uploads/2024/02/Bible-Studies.jpg
END:VEVENT
BEGIN:VEVENT
DTSTART;TZID=America/New_York:20250603T173000
DTEND;TZID=America/New_York:20250603T190000
DTSTAMP:20260422T065959
CREATED:20250526T153821Z
LAST-MODIFIED:20250526T153821Z
UID:2033-1748971800-1748977200@marionsalemchurch.org
SUMMARY:RHEMA Fun Night
DESCRIPTION:
URL:https://marionsalemchurch.org/event/rhema-fun-night/
CATEGORIES:Church
END:VEVENT
BEGIN:VEVENT
DTSTART;TZID=America/New_York:20250604T130000
DTEND;TZID=America/New_York:20250604T140000
DTSTAMP:20260422T065959
CREATED:20250526T153343Z
LAST-MODIFIED:20250526T153343Z
UID:2023-1749042000-1749045600@marionsalemchurch.org
SUMMARY:Knitting/Crafts
DESCRIPTION:Join us for fun and fellowship.
URL:https://marionsalemchurch.org/event/knitting-crafts-2-2-2-2-3/
CATEGORIES:seniors
ATTACH;FMTTYPE=image/jpeg:https://marionsalemchurch.org/wp-content/uploads/2024/09/yarn.jpg
END:VEVENT
BEGIN:VEVENT
DTSTART;TZID=America/New_York:20250611T130000
DTEND;TZID=America/New_York:20250611T140000
DTSTAMP:20260422T065959
CREATED:20250526T153424Z
LAST-MODIFIED:20250526T153424Z
UID:2025-1749646800-1749650400@marionsalemchurch.org
SUMMARY:Knitting/Crafts
DESCRIPTION:Join us for fun and fellowship.
URL:https://marionsalemchurch.org/event/knitting-crafts-2-2-2-2-3-2/
CATEGORIES:seniors
ATTACH;FMTTYPE=image/jpeg:https://marionsalemchurch.org/wp-content/uploads/2024/09/yarn.jpg
END:VEVENT
BEGIN:VEVENT
DTSTART;TZID=America/New_York:20250614T150000
DTEND;TZID=America/New_York:20250614T160000
DTSTAMP:20260422T065959
CREATED:20250526T155340Z
LAST-MODIFIED:20250526T155340Z
UID:2045-1749913200-1749916800@marionsalemchurch.org
SUMMARY:Afternoon Movie Time
DESCRIPTION:Join us for a break from the heat for an afternoon movie! Popcorn and Kool-Aid will be provided. \nEach movie will be followed by a brief talk about how parts of each movie relate to our faith and the Bible. \nThese events are for all ages! \nMovies to TBA. We will post a poll on the church facebook with options to decide which movies will be seen. \nUpcoming dates: June 14\, July 12 and August 16. \nSee you there!
URL:https://marionsalemchurch.org/event/afternoon-movie-time/
CATEGORIES:youth
ATTACH;FMTTYPE=image/png:https://marionsalemchurch.org/wp-content/uploads/2025/05/Screenshot-2025-05-26-at-11.52.49-AM.png
END:VEVENT
BEGIN:VEVENT
DTSTART;TZID=America/New_York:20250618T130000
DTEND;TZID=America/New_York:20250618T140000
DTSTAMP:20260422T065959
CREATED:20250526T153454Z
LAST-MODIFIED:20250526T153454Z
UID:2027-1750251600-1750255200@marionsalemchurch.org
SUMMARY:Knitting/Crafts
DESCRIPTION:Join us for fun and fellowship.
URL:https://marionsalemchurch.org/event/knitting-crafts-2-2-2-2-3-2-2/
CATEGORIES:seniors
ATTACH;FMTTYPE=image/jpeg:https://marionsalemchurch.org/wp-content/uploads/2024/09/yarn.jpg
END:VEVENT
BEGIN:VEVENT
DTSTART;TZID=America/New_York:20250625T120000
DTEND;TZID=America/New_York:20250625T130000
DTSTAMP:20260422T065959
CREATED:20250526T153553Z
LAST-MODIFIED:20250526T153553Z
UID:2031-1750852800-1750856400@marionsalemchurch.org
SUMMARY:Senior Lunch
DESCRIPTION:Come join the fun!
URL:https://marionsalemchurch.org/event/senior-lunch-7-2-2/
CATEGORIES:seniors
ATTACH;FMTTYPE=image/png:https://marionsalemchurch.org/wp-content/uploads/2025/04/Screenshot-2025-04-15-at-10.23.09-AM.png
END:VEVENT
BEGIN:VEVENT
DTSTART;TZID=America/New_York:20250625T130000
DTEND;TZID=America/New_York:20250625T140000
DTSTAMP:20260422T065959
CREATED:20250526T153518Z
LAST-MODIFIED:20250526T153518Z
UID:2029-1750856400-1750860000@marionsalemchurch.org
SUMMARY:Knitting/Crafts
DESCRIPTION:Join us for fun and fellowship.
URL:https://marionsalemchurch.org/event/knitting-crafts-2-2-2-2-3-2-2-2/
CATEGORIES:seniors
ATTACH;FMTTYPE=image/jpeg:https://marionsalemchurch.org/wp-content/uploads/2024/09/yarn.jpg
END:VEVENT
BEGIN:VEVENT
DTSTART;TZID=America/New_York:20250625T190000
DTEND;TZID=America/New_York:20250625T200000
DTSTAMP:20260422T065959
CREATED:20250526T155457Z
LAST-MODIFIED:20250526T155457Z
UID:2048-1750878000-1750881600@marionsalemchurch.org
SUMMARY:Basic Christian Faith Study
DESCRIPTION:Join Pastor Jason for an engaging time of discussion as we explore basic teachings of Christian Faith. This is a paced study and you can drop in anytime. 
URL:https://marionsalemchurch.org/event/basic-christian-faith-study-4-2-2-2-2-2/
CATEGORIES:Church
ATTACH;FMTTYPE=image/jpeg:https://marionsalemchurch.org/wp-content/uploads/2024/02/Bible-Studies.jpg
END:VEVENT
BEGIN:VEVENT
DTSTART;TZID=America/New_York:20250709T170000
DTEND;TZID=America/New_York:20250709T190000
DTSTAMP:20260422T065959
CREATED:20250526T154042Z
LAST-MODIFIED:20250526T154504Z
UID:2035-1752080400-1752087600@marionsalemchurch.org
SUMMARY:Ice Cream Social July 9
DESCRIPTION:Save the date and join us for the Marion Salem Ice Cream Social\, July 9\, 5-7pm
URL:https://marionsalemchurch.org/event/ice-cream-social-july-9/
ATTACH;FMTTYPE=image/png:https://marionsalemchurch.org/wp-content/uploads/2025/05/Screenshot-2025-05-26-at-11.41.30-AM-1.png
END:VEVENT
BEGIN:VEVENT
DTSTART;TZID=America/New_York:20250720T180000
DTEND;TZID=America/New_York:20250722T201500
DTSTAMP:20260422T065959
CREATED:20250526T154817Z
LAST-MODIFIED:20250719T142702Z
UID:2042-1753034400-1753215300@marionsalemchurch.org
SUMMARY:Vacation Bible School
DESCRIPTION:All ages are invited! This is a Family Affair! \nWonderful sessions—Bible story\, imagination station\, music\, games and more! \nMore than 100 kids\, parents\, grandparents\, helpers have signed up for this year’s \nTrue North: Trusting Jesus in a Wild World Vacation Bible School. \nDinner include at 6pm. \n  \n 
URL:https://marionsalemchurch.org/event/vacation-bible-school-2/
CATEGORIES:Church
ATTACH;FMTTYPE=image/png:https://marionsalemchurch.org/wp-content/uploads/2025/05/Screenshot-2025-05-26-at-11.45.55-AM.png
END:VEVENT
BEGIN:VEVENT
DTSTART;TZID=America/New_York:20250728T160000
DTEND;TZID=America/New_York:20250728T170000
DTSTAMP:20260422T065959
CREATED:20250719T142401Z
LAST-MODIFIED:20250719T142401Z
UID:2077-1753718400-1753722000@marionsalemchurch.org
SUMMARY:Video Study
DESCRIPTION:In July and August we will take on a short-term study from our GMC Bishops: \nLessons in Scriptural Holiness. \nThe trailer video for this 8-part study is available at \nhttps://www.youtube.com/watch?v=JAOtGicW698.
URL:https://marionsalemchurch.org/event/video-study/
CATEGORIES:Church
END:VEVENT
BEGIN:VEVENT
DTSTART;TZID=America/New_York:20250730T190000
DTEND;TZID=America/New_York:20250730T200000
DTSTAMP:20260422T065959
CREATED:20250719T142840Z
LAST-MODIFIED:20250719T142840Z
UID:2082-1753902000-1753905600@marionsalemchurch.org
SUMMARY:Basic Christian Faith Study
DESCRIPTION:Join Pastor Jason for an engaging time of discussion as we explore basic teachings of Christian Faith. This is a paced study and you can drop in anytime. 
URL:https://marionsalemchurch.org/event/basic-christian-faith-study-4-2-2-2-3/
CATEGORIES:Church
ATTACH;FMTTYPE=image/jpeg:https://marionsalemchurch.org/wp-content/uploads/2024/02/Bible-Studies.jpg
END:VEVENT
BEGIN:VEVENT
DTSTART;TZID=America/New_York:20250806T130000
DTEND;TZID=America/New_York:20250806T140000
DTSTAMP:20260422T065959
CREATED:20250811T214634Z
LAST-MODIFIED:20250811T214634Z
UID:2147-1754485200-1754488800@marionsalemchurch.org
SUMMARY:Knitting/Crafts
DESCRIPTION:Join us for fun and fellowship.
URL:https://marionsalemchurch.org/event/knitting-crafts-2-2-2-2-3-2-2-2-2/
CATEGORIES:seniors
ATTACH;FMTTYPE=image/jpeg:https://marionsalemchurch.org/wp-content/uploads/2024/09/yarn.jpg
END:VEVENT
BEGIN:VEVENT
DTSTART;TZID=America/New_York:20250806T190000
DTEND;TZID=America/New_York:20250806T200000
DTSTAMP:20260422T065959
CREATED:20250811T213956Z
LAST-MODIFIED:20250811T213956Z
UID:2135-1754506800-1754510400@marionsalemchurch.org
SUMMARY:Basic Christian Faith Study
DESCRIPTION:Join Pastor Jason for an engaging time of discussion as we explore basic teachings of Christian Faith. This is a paced study and you can drop in anytime. 
URL:https://marionsalemchurch.org/event/basic-christian-faith-study-4-2-2-2-3-2/
CATEGORIES:Church
ATTACH;FMTTYPE=image/jpeg:https://marionsalemchurch.org/wp-content/uploads/2024/02/Bible-Studies.jpg
END:VEVENT
BEGIN:VEVENT
DTSTART;TZID=America/New_York:20250811T160000
DTEND;TZID=America/New_York:20250811T170000
DTSTAMP:20260422T065959
CREATED:20250811T214327Z
LAST-MODIFIED:20250811T214327Z
UID:2141-1754928000-1754931600@marionsalemchurch.org
SUMMARY:Bishop's Video Study
DESCRIPTION:In August we will take on a short term study from our GMC Bishops: Lessons in Scriptural Holiness. The trailer video for this 8-part study is available at https://www.youtube.com/watch?v=JAOtGicW698 . \nWe will meet every Monday in August.
URL:https://marionsalemchurch.org/event/bishops-video-study/
CATEGORIES:Church
END:VEVENT
BEGIN:VEVENT
DTSTART;TZID=America/New_York:20250813T130000
DTEND;TZID=America/New_York:20250813T140000
DTSTAMP:20260422T065959
CREATED:20250811T214703Z
LAST-MODIFIED:20250811T214703Z
UID:2149-1755090000-1755093600@marionsalemchurch.org
SUMMARY:Knitting/Crafts
DESCRIPTION:Join us for fun and fellowship.
URL:https://marionsalemchurch.org/event/knitting-crafts-2-2-2-2-3-2-2-2-2-2/
CATEGORIES:seniors
ATTACH;FMTTYPE=image/jpeg:https://marionsalemchurch.org/wp-content/uploads/2024/09/yarn.jpg
END:VEVENT
BEGIN:VEVENT
DTSTART;TZID=America/New_York:20250816T130000
DTEND;TZID=America/New_York:20250816T150000
DTSTAMP:20260422T065959
CREATED:20250811T215031Z
LAST-MODIFIED:20250811T215059Z
UID:2155-1755349200-1755356400@marionsalemchurch.org
SUMMARY:Saturday Afternoon Movie Break
DESCRIPTION:Join us for a break from the heat for an afternoon movie! Popcorn and Kool-Aid will be provided. Each movie will be followed by a brief talk about how parts of each movie relate to our faith and the Bible. These events are for all ages! \nMovies TBA! We will post a poll on the church Facebook page with options to decide which movies will be shown.
URL:https://marionsalemchurch.org/event/saturday-afternoon-movie-break/
CATEGORIES:Church
END:VEVENT
BEGIN:VEVENT
DTSTART;TZID=America/New_York:20250818T160000
DTEND;TZID=America/New_York:20250818T170000
DTSTAMP:20260422T065959
CREATED:20250811T214405Z
LAST-MODIFIED:20250811T214405Z
UID:2143-1755532800-1755536400@marionsalemchurch.org
SUMMARY:Bishop's Video Study
DESCRIPTION:In August we will take on a short term study from our GMC Bishops: Lessons in Scriptural Holiness. The trailer video for this 8-part study is available at https://www.youtube.com/watch?v=JAOtGicW698 . \nWe will meet every Monday in August.
URL:https://marionsalemchurch.org/event/bishops-video-study-2/
CATEGORIES:Church
END:VEVENT
BEGIN:VEVENT
DTSTART;TZID=America/New_York:20250820T130000
DTEND;TZID=America/New_York:20250820T140000
DTSTAMP:20260422T065959
CREATED:20250811T214726Z
LAST-MODIFIED:20250811T214726Z
UID:2151-1755694800-1755698400@marionsalemchurch.org
SUMMARY:Knitting/Crafts
DESCRIPTION:Join us for fun and fellowship.
URL:https://marionsalemchurch.org/event/knitting-crafts-2-2-2-2-3-2-2-2-2-3/
CATEGORIES:seniors
ATTACH;FMTTYPE=image/jpeg:https://marionsalemchurch.org/wp-content/uploads/2024/09/yarn.jpg
END:VEVENT
BEGIN:VEVENT
DTSTART;TZID=America/New_York:20250820T190000
DTEND;TZID=America/New_York:20250820T200000
DTSTAMP:20260422T065959
CREATED:20250811T214029Z
LAST-MODIFIED:20250811T214029Z
UID:2137-1755716400-1755720000@marionsalemchurch.org
SUMMARY:Basic Christian Faith Study
DESCRIPTION:Join Pastor Jason for an engaging time of discussion as we explore basic teachings of Christian Faith. This is a paced study and you can drop in anytime. 
URL:https://marionsalemchurch.org/event/basic-christian-faith-study-4-2-2-2-3-2-2/
CATEGORIES:Church
ATTACH;FMTTYPE=image/jpeg:https://marionsalemchurch.org/wp-content/uploads/2024/02/Bible-Studies.jpg
END:VEVENT
BEGIN:VEVENT
DTSTART;TZID=America/New_York:20250825T160000
DTEND;TZID=America/New_York:20250825T170000
DTSTAMP:20260422T065959
CREATED:20250811T214431Z
LAST-MODIFIED:20250811T214431Z
UID:2145-1756137600-1756141200@marionsalemchurch.org
SUMMARY:Bishop's Video Study
DESCRIPTION:In August we will take on a short term study from our GMC Bishops: Lessons in Scriptural Holiness. The trailer video for this 8-part study is available at https://www.youtube.com/watch?v=JAOtGicW698 . \nWe will meet every Monday in August.
URL:https://marionsalemchurch.org/event/bishops-video-study-3/
CATEGORIES:Church
END:VEVENT
BEGIN:VEVENT
DTSTART;TZID=America/New_York:20250827T130000
DTEND;TZID=America/New_York:20250827T140000
DTSTAMP:20260422T065959
CREATED:20250811T214751Z
LAST-MODIFIED:20250811T214751Z
UID:2153-1756299600-1756303200@marionsalemchurch.org
SUMMARY:Knitting/Crafts
DESCRIPTION:Join us for fun and fellowship.
URL:https://marionsalemchurch.org/event/knitting-crafts-2-2-2-2-3-2-2-2-2-3-2/
CATEGORIES:seniors
ATTACH;FMTTYPE=image/jpeg:https://marionsalemchurch.org/wp-content/uploads/2024/09/yarn.jpg
END:VEVENT
BEGIN:VEVENT
DTSTART;TZID=America/New_York:20250827T190000
DTEND;TZID=America/New_York:20250827T200000
DTSTAMP:20260422T065959
CREATED:20250811T214100Z
LAST-MODIFIED:20250811T214100Z
UID:2139-1756321200-1756324800@marionsalemchurch.org
SUMMARY:Basic Christian Faith Study
DESCRIPTION:Join Pastor Jason for an engaging time of discussion as we explore basic teachings of Christian Faith. This is a paced study and you can drop in anytime. 
URL:https://marionsalemchurch.org/event/basic-christian-faith-study-4-2-2-2-3-2-2-2/
CATEGORIES:Church
ATTACH;FMTTYPE=image/jpeg:https://marionsalemchurch.org/wp-content/uploads/2024/02/Bible-Studies.jpg
END:VEVENT
BEGIN:VEVENT
DTSTART;TZID=America/New_York:20250903T130000
DTEND;TZID=America/New_York:20250903T140000
DTSTAMP:20260422T065959
CREATED:20250903T133342Z
LAST-MODIFIED:20250905T133351Z
UID:2183-1756904400-1756908000@marionsalemchurch.org
SUMMARY:Knitting/Crafts
DESCRIPTION:Join us for fun and fellowship.
URL:https://marionsalemchurch.org/event/knitting-crafts-2-2-2-2-3-2-2-2-2-3-2-2/
CATEGORIES:seniors
ATTACH;FMTTYPE=image/jpeg:https://marionsalemchurch.org/wp-content/uploads/2024/09/yarn.jpg
END:VEVENT
BEGIN:VEVENT
DTSTART;TZID=America/New_York:20250903T190000
DTEND;TZID=America/New_York:20250903T200000
DTSTAMP:20260422T065959
CREATED:20250901T133739Z
LAST-MODIFIED:20250905T133750Z
UID:2189-1756926000-1756929600@marionsalemchurch.org
SUMMARY:Basic Christian Faith Study
DESCRIPTION:Join Pastor Jason for an engaging time of discussion as we explore basic teachings of Christian Faith. This is a paced study and you can drop in anytime.  \nThe Natural State of Humanity
URL:https://marionsalemchurch.org/event/basic-christian-faith-study-sept-3/
CATEGORIES:Church
ATTACH;FMTTYPE=image/jpeg:https://marionsalemchurch.org/wp-content/uploads/2024/02/Bible-Studies.jpg
END:VEVENT
BEGIN:VEVENT
DTSTART;TZID=America/New_York:20250908T160000
DTEND;TZID=America/New_York:20250908T170000
DTSTAMP:20260422T065959
CREATED:20250905T133113Z
LAST-MODIFIED:20250905T133113Z
UID:2179-1757347200-1757350800@marionsalemchurch.org
SUMMARY:Monday Afternoon Bible Study
DESCRIPTION:Sept. 8th we will conclude our study from our GMC Bishops: Lessons in Scriptural Holiness. \nStarting on Mon. Sept. 15th we will enter into the Book of Acts with the second part of the Bible Live! Series. You do not need to have attend the previous Matthew Bible Live! Series to drop into the Acts class. Come and learn about the historical\, cultural\, and theological background of the first Christians. \n9/22: Acts Live! \n9/29: no study—Pastor’s vacation \n10/6: no study—Pastor’s vacation \n10/13 study resume
URL:https://marionsalemchurch.org/event/monday-afternoon-bible-study/
CATEGORIES:Church
ATTACH;FMTTYPE=image/png:https://marionsalemchurch.org/wp-content/uploads/2024/09/Screenshot-2024-09-09-at-12.57.03-PM-2.png
END:VEVENT
END:VCALENDAR