BEGIN:VCALENDAR
VERSION:2.0
PRODID:-//Marion Salem Church - ECPv6.15.20//NONSGML v1.0//EN
CALSCALE:GREGORIAN
METHOD:PUBLISH
X-ORIGINAL-URL:https://marionsalemchurch.org
X-WR-CALDESC:Events for Marion Salem Church
REFRESH-INTERVAL;VALUE=DURATION:PT1H
X-Robots-Tag:noindex
X-PUBLISHED-TTL:PT1H
BEGIN:VTIMEZONE
TZID:America/New_York
BEGIN:DAYLIGHT
TZOFFSETFROM:-0500
TZOFFSETTO:-0400
TZNAME:EDT
DTSTART:20240310T070000
END:DAYLIGHT
BEGIN:STANDARD
TZOFFSETFROM:-0400
TZOFFSETTO:-0500
TZNAME:EST
DTSTART:20241103T060000
END:STANDARD
BEGIN:DAYLIGHT
TZOFFSETFROM:-0500
TZOFFSETTO:-0400
TZNAME:EDT
DTSTART:20250309T070000
END:DAYLIGHT
BEGIN:STANDARD
TZOFFSETFROM:-0400
TZOFFSETTO:-0500
TZNAME:EST
DTSTART:20251102T060000
END:STANDARD
BEGIN:DAYLIGHT
TZOFFSETFROM:-0500
TZOFFSETTO:-0400
TZNAME:EDT
DTSTART:20260308T070000
END:DAYLIGHT
BEGIN:STANDARD
TZOFFSETFROM:-0400
TZOFFSETTO:-0500
TZNAME:EST
DTSTART:20261101T060000
END:STANDARD
END:VTIMEZONE
BEGIN:VEVENT
DTSTART;TZID=America/New_York:20250818T160000
DTEND;TZID=America/New_York:20250818T170000
DTSTAMP:20260422T185817
CREATED:20250811T214405Z
LAST-MODIFIED:20250811T214405Z
UID:2143-1755532800-1755536400@marionsalemchurch.org
SUMMARY:Bishop's Video Study
DESCRIPTION:In August we will take on a short term study from our GMC Bishops: Lessons in Scriptural Holiness. The trailer video for this 8-part study is available at https://www.youtube.com/watch?v=JAOtGicW698 . \nWe will meet every Monday in August.
URL:https://marionsalemchurch.org/event/bishops-video-study-2/
CATEGORIES:Church
END:VEVENT
BEGIN:VEVENT
DTSTART;TZID=America/New_York:20250820T130000
DTEND;TZID=America/New_York:20250820T140000
DTSTAMP:20260422T185817
CREATED:20250811T214726Z
LAST-MODIFIED:20250811T214726Z
UID:2151-1755694800-1755698400@marionsalemchurch.org
SUMMARY:Knitting/Crafts
DESCRIPTION:Join us for fun and fellowship.
URL:https://marionsalemchurch.org/event/knitting-crafts-2-2-2-2-3-2-2-2-2-3/
CATEGORIES:seniors
ATTACH;FMTTYPE=image/jpeg:https://marionsalemchurch.org/wp-content/uploads/2024/09/yarn.jpg
END:VEVENT
BEGIN:VEVENT
DTSTART;TZID=America/New_York:20250820T190000
DTEND;TZID=America/New_York:20250820T200000
DTSTAMP:20260422T185817
CREATED:20250811T214029Z
LAST-MODIFIED:20250811T214029Z
UID:2137-1755716400-1755720000@marionsalemchurch.org
SUMMARY:Basic Christian Faith Study
DESCRIPTION:Join Pastor Jason for an engaging time of discussion as we explore basic teachings of Christian Faith. This is a paced study and you can drop in anytime. 
URL:https://marionsalemchurch.org/event/basic-christian-faith-study-4-2-2-2-3-2-2/
CATEGORIES:Church
ATTACH;FMTTYPE=image/jpeg:https://marionsalemchurch.org/wp-content/uploads/2024/02/Bible-Studies.jpg
END:VEVENT
BEGIN:VEVENT
DTSTART;TZID=America/New_York:20250825T160000
DTEND;TZID=America/New_York:20250825T170000
DTSTAMP:20260422T185817
CREATED:20250811T214431Z
LAST-MODIFIED:20250811T214431Z
UID:2145-1756137600-1756141200@marionsalemchurch.org
SUMMARY:Bishop's Video Study
DESCRIPTION:In August we will take on a short term study from our GMC Bishops: Lessons in Scriptural Holiness. The trailer video for this 8-part study is available at https://www.youtube.com/watch?v=JAOtGicW698 . \nWe will meet every Monday in August.
URL:https://marionsalemchurch.org/event/bishops-video-study-3/
CATEGORIES:Church
END:VEVENT
BEGIN:VEVENT
DTSTART;TZID=America/New_York:20250827T130000
DTEND;TZID=America/New_York:20250827T140000
DTSTAMP:20260422T185817
CREATED:20250811T214751Z
LAST-MODIFIED:20250811T214751Z
UID:2153-1756299600-1756303200@marionsalemchurch.org
SUMMARY:Knitting/Crafts
DESCRIPTION:Join us for fun and fellowship.
URL:https://marionsalemchurch.org/event/knitting-crafts-2-2-2-2-3-2-2-2-2-3-2/
CATEGORIES:seniors
ATTACH;FMTTYPE=image/jpeg:https://marionsalemchurch.org/wp-content/uploads/2024/09/yarn.jpg
END:VEVENT
BEGIN:VEVENT
DTSTART;TZID=America/New_York:20250827T190000
DTEND;TZID=America/New_York:20250827T200000
DTSTAMP:20260422T185817
CREATED:20250811T214100Z
LAST-MODIFIED:20250811T214100Z
UID:2139-1756321200-1756324800@marionsalemchurch.org
SUMMARY:Basic Christian Faith Study
DESCRIPTION:Join Pastor Jason for an engaging time of discussion as we explore basic teachings of Christian Faith. This is a paced study and you can drop in anytime. 
URL:https://marionsalemchurch.org/event/basic-christian-faith-study-4-2-2-2-3-2-2-2/
CATEGORIES:Church
ATTACH;FMTTYPE=image/jpeg:https://marionsalemchurch.org/wp-content/uploads/2024/02/Bible-Studies.jpg
END:VEVENT
BEGIN:VEVENT
DTSTART;TZID=America/New_York:20250903T130000
DTEND;TZID=America/New_York:20250903T140000
DTSTAMP:20260422T185817
CREATED:20250903T133342Z
LAST-MODIFIED:20250905T133351Z
UID:2183-1756904400-1756908000@marionsalemchurch.org
SUMMARY:Knitting/Crafts
DESCRIPTION:Join us for fun and fellowship.
URL:https://marionsalemchurch.org/event/knitting-crafts-2-2-2-2-3-2-2-2-2-3-2-2/
CATEGORIES:seniors
ATTACH;FMTTYPE=image/jpeg:https://marionsalemchurch.org/wp-content/uploads/2024/09/yarn.jpg
END:VEVENT
BEGIN:VEVENT
DTSTART;TZID=America/New_York:20250903T190000
DTEND;TZID=America/New_York:20250903T200000
DTSTAMP:20260422T185817
CREATED:20250901T133739Z
LAST-MODIFIED:20250905T133750Z
UID:2189-1756926000-1756929600@marionsalemchurch.org
SUMMARY:Basic Christian Faith Study
DESCRIPTION:Join Pastor Jason for an engaging time of discussion as we explore basic teachings of Christian Faith. This is a paced study and you can drop in anytime.  \nThe Natural State of Humanity
URL:https://marionsalemchurch.org/event/basic-christian-faith-study-sept-3/
CATEGORIES:Church
ATTACH;FMTTYPE=image/jpeg:https://marionsalemchurch.org/wp-content/uploads/2024/02/Bible-Studies.jpg
END:VEVENT
BEGIN:VEVENT
DTSTART;TZID=America/New_York:20250908T160000
DTEND;TZID=America/New_York:20250908T170000
DTSTAMP:20260422T185817
CREATED:20250905T133113Z
LAST-MODIFIED:20250905T133113Z
UID:2179-1757347200-1757350800@marionsalemchurch.org
SUMMARY:Monday Afternoon Bible Study
DESCRIPTION:Sept. 8th we will conclude our study from our GMC Bishops: Lessons in Scriptural Holiness. \nStarting on Mon. Sept. 15th we will enter into the Book of Acts with the second part of the Bible Live! Series. You do not need to have attend the previous Matthew Bible Live! Series to drop into the Acts class. Come and learn about the historical\, cultural\, and theological background of the first Christians. \n9/22: Acts Live! \n9/29: no study—Pastor’s vacation \n10/6: no study—Pastor’s vacation \n10/13 study resume
URL:https://marionsalemchurch.org/event/monday-afternoon-bible-study/
CATEGORIES:Church
ATTACH;FMTTYPE=image/png:https://marionsalemchurch.org/wp-content/uploads/2024/09/Screenshot-2024-09-09-at-12.57.03-PM-2.png
END:VEVENT
BEGIN:VEVENT
DTSTART;TZID=America/New_York:20250910T130000
DTEND;TZID=America/New_York:20250910T140000
DTSTAMP:20260422T185817
CREATED:20250905T133456Z
LAST-MODIFIED:20250905T133502Z
UID:2185-1757509200-1757512800@marionsalemchurch.org
SUMMARY:Knitting/Crafts
DESCRIPTION:Join us for fun and fellowship.
URL:https://marionsalemchurch.org/event/knitting-crafts-sept-10/
CATEGORIES:seniors
ATTACH;FMTTYPE=image/jpeg:https://marionsalemchurch.org/wp-content/uploads/2024/09/yarn.jpg
END:VEVENT
BEGIN:VEVENT
DTSTART;TZID=America/New_York:20250910T190000
DTEND;TZID=America/New_York:20250910T200000
DTSTAMP:20260422T185817
CREATED:20250905T133956Z
LAST-MODIFIED:20250905T133956Z
UID:2191-1757530800-1757534400@marionsalemchurch.org
SUMMARY:Basic Christian Faith Study
DESCRIPTION:Join Pastor Jason for an engaging time of discussion as we explore basic teachings of Christian Faith. This is a paced study and you can drop in anytime.  \nThe Natural State of Humanity
URL:https://marionsalemchurch.org/event/basic-christian-faith-study-sept-10/
CATEGORIES:Church
ATTACH;FMTTYPE=image/jpeg:https://marionsalemchurch.org/wp-content/uploads/2024/02/Bible-Studies.jpg
END:VEVENT
BEGIN:VEVENT
DTSTART;TZID=America/New_York:20250915T160000
DTEND;TZID=America/New_York:20250915T170000
DTSTAMP:20260422T185817
CREATED:20250905T133223Z
LAST-MODIFIED:20250905T133223Z
UID:2181-1757952000-1757955600@marionsalemchurch.org
SUMMARY:Monday Afternoon Bible Study
DESCRIPTION:Starting on Mon. Sept. 15th we will enter into the Book of Acts with the second part of the Bible Live! Series. You do not need to have attend the previous Matthew Bible Live! Series to drop into the Acts class. Come and learn about the historical\, cultural\, and theological background of the first Christians. \n9/22: Acts Live! \n9/29: no study—Pastor’s vacation \n10/6: no study—Pastor’s vacation \n10/13 study resume
URL:https://marionsalemchurch.org/event/monday-afternoon-bible-study-2/
CATEGORIES:Church
ATTACH;FMTTYPE=image/png:https://marionsalemchurch.org/wp-content/uploads/2024/09/Screenshot-2024-09-09-at-12.57.03-PM-2.png
END:VEVENT
BEGIN:VEVENT
DTSTART;TZID=America/New_York:20250917T130000
DTEND;TZID=America/New_York:20250917T140000
DTSTAMP:20260422T185817
CREATED:20250905T133548Z
LAST-MODIFIED:20250905T133548Z
UID:2187-1758114000-1758117600@marionsalemchurch.org
SUMMARY:Knitting/Crafts
DESCRIPTION:Join us for fun and fellowship.
URL:https://marionsalemchurch.org/event/knitting-crafts-sept-17/
CATEGORIES:seniors
ATTACH;FMTTYPE=image/jpeg:https://marionsalemchurch.org/wp-content/uploads/2024/09/yarn.jpg
END:VEVENT
BEGIN:VEVENT
DTSTART;TZID=America/New_York:20250917T190000
DTEND;TZID=America/New_York:20250917T200000
DTSTAMP:20260422T185817
CREATED:20250905T134117Z
LAST-MODIFIED:20250905T134117Z
UID:2193-1758135600-1758139200@marionsalemchurch.org
SUMMARY:Basic Christian Faith Study
DESCRIPTION:Join Pastor Jason for an engaging time of discussion as we explore basic teachings of Christian Faith. This is a paced study and you can drop in anytime.  \nThe Natural State of Humanity
URL:https://marionsalemchurch.org/event/basic-christian-faith-study-sept-17/
CATEGORIES:Church
ATTACH;FMTTYPE=image/jpeg:https://marionsalemchurch.org/wp-content/uploads/2024/02/Bible-Studies.jpg
END:VEVENT
BEGIN:VEVENT
DTSTART;TZID=America/New_York:20250921T100000
DTEND;TZID=America/New_York:20250921T110000
DTSTAMP:20260422T185817
CREATED:20250811T215253Z
LAST-MODIFIED:20250905T132652Z
UID:2157-1758448800-1758452400@marionsalemchurch.org
SUMMARY:Back to Church Sunday
DESCRIPTION:Join us for Back to Church Sunday. \nInvite family\, friends and neighbors! \nEveryone is welcome. \n 
URL:https://marionsalemchurch.org/event/back-to-church-sunday-2/
CATEGORIES:Church
ATTACH;FMTTYPE=image/png:https://marionsalemchurch.org/wp-content/uploads/2025/08/Screenshot-2025-08-11-at-5.51.31-PM.png
END:VEVENT
BEGIN:VEVENT
DTSTART;TZID=America/New_York:20250924T120000
DTEND;TZID=America/New_York:20250924T130000
DTSTAMP:20260422T185817
CREATED:20250905T134456Z
LAST-MODIFIED:20250905T135026Z
UID:2197-1758715200-1758718800@marionsalemchurch.org
SUMMARY:Senior Lunch
DESCRIPTION:Join us for Senior Lunch! \nFood: Tacos \nPlease bring salad or dessert to share \n 
URL:https://marionsalemchurch.org/event/senior-lunch-9-24/
CATEGORIES:seniors
ATTACH;FMTTYPE=image/png:https://marionsalemchurch.org/wp-content/uploads/2025/04/Screenshot-2025-04-15-at-10.23.09-AM.png
END:VEVENT
BEGIN:VEVENT
DTSTART;TZID=America/New_York:20250924T190000
DTEND;TZID=America/New_York:20250924T200000
DTSTAMP:20260422T185817
CREATED:20250905T134206Z
LAST-MODIFIED:20250905T134222Z
UID:2195-1758740400-1758744000@marionsalemchurch.org
SUMMARY:Basic Christian Faith Study
DESCRIPTION:Join Pastor Jason for an engaging time of discussion as we explore basic teachings of Christian Faith. This is a paced study and you can drop in anytime.  \nThe Natural State of Humanity
URL:https://marionsalemchurch.org/event/basic-christian-faith-study-sept-24/
CATEGORIES:Church
ATTACH;FMTTYPE=image/jpeg:https://marionsalemchurch.org/wp-content/uploads/2024/02/Bible-Studies.jpg
END:VEVENT
BEGIN:VEVENT
DTSTART;TZID=America/New_York:20251102T100000
DTEND;TZID=America/New_York:20251102T113000
DTSTAMP:20260422T185817
CREATED:20251101T195227Z
LAST-MODIFIED:20251114T205358Z
UID:2255-1762077600-1762083000@marionsalemchurch.org
SUMMARY:All Saints Sunday
DESCRIPTION:We will be observing All Saints Sunday on Sun. Nov. 2nd. All members who have passed in the last year will be recognized. In addition\, anyone who has lost a loved one since November 1st last year is welcome to send name\, date of passing\, and a picture to Pastor Jason to include in the memorial during worship that day.
URL:https://marionsalemchurch.org/event/all-saints-sunday-2/
CATEGORIES:Church
ATTACH;FMTTYPE=image/png:https://marionsalemchurch.org/wp-content/uploads/2025/11/Screenshot-2025-11-14-at-3.51.05-PM.png
END:VEVENT
BEGIN:VEVENT
DTSTART;TZID=America/New_York:20251102T180000
DTEND;TZID=America/New_York:20251102T193000
DTSTAMP:20260422T185817
CREATED:20251101T194059Z
LAST-MODIFIED:20251114T204123Z
UID:2242-1762106400-1762111800@marionsalemchurch.org
SUMMARY:Salem Strivers Youth Meeting
DESCRIPTION:Strive for peace with everyone\, and for the holiness without which no one will see the Lord. Hebrews 12:14 \n  \nNovember Schedule: \n11/2: Welcome Pastor Heather—6pm Youth in grades 6-12 and their parents come join us for a time of fellowship and planning! Hotdogs & drinks provided bring a dish to share. \nRegular youth group meetings start at 6pm on Nov. 9\, 16\, 23\, and 30! \nHello!
URL:https://marionsalemchurch.org/event/salem-strivers-youth-meeting/
CATEGORIES:youth
ATTACH;FMTTYPE=image/png:https://marionsalemchurch.org/wp-content/uploads/2024/09/Screenshot-2024-09-09-at-1.16.17-PM-1.png
END:VEVENT
BEGIN:VEVENT
DTSTART;TZID=America/New_York:20251103T160000
DTEND;TZID=America/New_York:20251103T170000
DTSTAMP:20260422T185817
CREATED:20251101T193400Z
LAST-MODIFIED:20251114T203418Z
UID:2234-1762185600-1762189200@marionsalemchurch.org
SUMMARY:Monday Afternoon Bible Study
DESCRIPTION:The second part of the Bible Live! Series with the Book of Acts. You do not need to have attend the previous Matthew Bible Live! Series to drop into the Acts class. Come and learn about the historical\, cultural\, and theological background of the first Christians. \n11/3: Acts 5:12-6:7 \n11/10: Acts 6:8-8:1 \n11/17: Acts 8:2-40 \n11/24: Acts 9:1-31 \nAfternoon study will be on hiatus after November until daylight returns.
URL:https://marionsalemchurch.org/event/monday-afternoon-bible-study-2-2/
CATEGORIES:Church
ATTACH;FMTTYPE=image/png:https://marionsalemchurch.org/wp-content/uploads/2024/09/Screenshot-2024-09-09-at-12.57.03-PM-2.png
END:VEVENT
BEGIN:VEVENT
DTSTART;TZID=America/New_York:20251103T183000
DTEND;TZID=America/New_York:20251103T193000
DTSTAMP:20260422T185817
CREATED:20251101T195945Z
LAST-MODIFIED:20251114T210025Z
UID:2264-1762194600-1762198200@marionsalemchurch.org
SUMMARY:SPRC Meeting
DESCRIPTION:
URL:https://marionsalemchurch.org/event/sprc-meeting/
CATEGORIES:Church
END:VEVENT
BEGIN:VEVENT
DTSTART;VALUE=DATE:20251104
DTEND;VALUE=DATE:20251105
DTSTAMP:20260422T185817
CREATED:20251101T200136Z
LAST-MODIFIED:20251114T210149Z
UID:2266-1762214400-1762300799@marionsalemchurch.org
SUMMARY:Election Day
DESCRIPTION:
URL:https://marionsalemchurch.org/event/election-day/
CATEGORIES:Church
END:VEVENT
BEGIN:VEVENT
DTSTART;TZID=America/New_York:20251105T130000
DTEND;TZID=America/New_York:20251105T140000
DTSTAMP:20260422T185817
CREATED:20251101T200519Z
LAST-MODIFIED:20251114T210531Z
UID:2272-1762347600-1762351200@marionsalemchurch.org
SUMMARY:Knitting/Crafting
DESCRIPTION:Come join the fun! \n 
URL:https://marionsalemchurch.org/event/knitting-crafting-12/
CATEGORIES:Church
ATTACH;FMTTYPE=image/jpeg:https://marionsalemchurch.org/wp-content/uploads/2024/09/yarn.jpg
END:VEVENT
BEGIN:VEVENT
DTSTART;TZID=America/New_York:20251109T180000
DTEND;TZID=America/New_York:20251109T193000
DTSTAMP:20260422T185817
CREATED:20251101T194221Z
LAST-MODIFIED:20251114T204234Z
UID:2244-1762711200-1762716600@marionsalemchurch.org
SUMMARY:Salem Strivers Youth Meeting
DESCRIPTION:Strive for peace with everyone\, and for the holiness without which no one will see the Lord. Hebrews 12:14 \n  \nNovember Schedule: \nRegular youth group meetings start at 6pm on Nov. 9\, 16\, 23\, and 30!
URL:https://marionsalemchurch.org/event/salem-strivers-youth-meeting-2/
CATEGORIES:youth
ATTACH;FMTTYPE=image/png:https://marionsalemchurch.org/wp-content/uploads/2024/09/Screenshot-2024-09-09-at-1.16.17-PM-1.png
END:VEVENT
BEGIN:VEVENT
DTSTART;TZID=America/New_York:20251110T160000
DTEND;TZID=America/New_York:20251110T170000
DTSTAMP:20260422T185817
CREATED:20251101T193457Z
LAST-MODIFIED:20251114T203516Z
UID:2236-1762790400-1762794000@marionsalemchurch.org
SUMMARY:Monday Afternoon Bible Study
DESCRIPTION:The second part of the Bible Live! Series with the Book of Acts. You do not need to have attend the previous Matthew Bible Live! Series to drop into the Acts class. Come and learn about the historical\, cultural\, and theological background of the first Christians. \n11/10: Acts 6:8-8:1 \n11/17: Acts 8:2-40 \n11/24: Acts 9:1-31 \nAfternoon study will be on hiatus after November until daylight returns.
URL:https://marionsalemchurch.org/event/monday-afternoon-bible-study-2-2-2/
CATEGORIES:Church
ATTACH;FMTTYPE=image/png:https://marionsalemchurch.org/wp-content/uploads/2024/09/Screenshot-2024-09-09-at-12.57.03-PM-2.png
END:VEVENT
BEGIN:VEVENT
DTSTART;VALUE=DATE:20251111
DTEND;VALUE=DATE:20251112
DTSTAMP:20260422T185817
CREATED:20251101T200249Z
LAST-MODIFIED:20251114T210302Z
UID:2270-1762819200-1762905599@marionsalemchurch.org
SUMMARY:Veterans Day
DESCRIPTION:
URL:https://marionsalemchurch.org/event/veterans-day/
CATEGORIES:Church
END:VEVENT
BEGIN:VEVENT
DTSTART;TZID=America/New_York:20251112T130000
DTEND;TZID=America/New_York:20251112T140000
DTSTAMP:20260422T185817
CREATED:20251101T200618Z
LAST-MODIFIED:20251114T210634Z
UID:2274-1762952400-1762956000@marionsalemchurch.org
SUMMARY:Knitting/Crafting
DESCRIPTION:Come join the fun! \n 
URL:https://marionsalemchurch.org/event/knitting-crafting-12-2/
CATEGORIES:Church
ATTACH;FMTTYPE=image/jpeg:https://marionsalemchurch.org/wp-content/uploads/2024/09/yarn.jpg
END:VEVENT
BEGIN:VEVENT
DTSTART;TZID=America/New_York:20251112T190000
DTEND;TZID=America/New_York:20251112T200000
DTSTAMP:20260422T185817
CREATED:20251101T192957Z
LAST-MODIFIED:20251114T203031Z
UID:2229-1762974000-1762977600@marionsalemchurch.org
SUMMARY:Basic Christian Faith Study
DESCRIPTION:Join Pastor Jason for an engaging time of discussion as we explore basic teachings of Christian Faith. This is a paced study and you can drop in anytime.  \n 
URL:https://marionsalemchurch.org/event/basic-christian-faith-study-sept-24-2/
CATEGORIES:Church
ATTACH;FMTTYPE=image/jpeg:https://marionsalemchurch.org/wp-content/uploads/2024/02/Bible-Studies.jpg
END:VEVENT
BEGIN:VEVENT
DTSTART;TZID=America/New_York:20251116T110000
DTEND;TZID=America/New_York:20251116T120000
DTSTAMP:20260422T185817
CREATED:20251114T205615Z
LAST-MODIFIED:20251114T205626Z
UID:2258-1763290800-1763294400@marionsalemchurch.org
SUMMARY:All Church Thanksgiving Dinner
DESCRIPTION:All Church Thanksgiving Dinner Nov. 16 after worship \nThank you to the Genesis Class for providing turkey & potatoes while we complete the meal with sides and desserts!
URL:https://marionsalemchurch.org/event/all-church-thanksgiving-dinner/
CATEGORIES:Church
ATTACH;FMTTYPE=image/png:https://marionsalemchurch.org/wp-content/uploads/2025/11/Screenshot-2025-11-14-at-3.55.08-PM.png
END:VEVENT
BEGIN:VEVENT
DTSTART;TZID=America/New_York:20251116T180000
DTEND;TZID=America/New_York:20251116T193000
DTSTAMP:20260422T185817
CREATED:20251114T204318Z
LAST-MODIFIED:20251114T204318Z
UID:2246-1763316000-1763321400@marionsalemchurch.org
SUMMARY:Salem Strivers Youth Meeting
DESCRIPTION:Strive for peace with everyone\, and for the holiness without which no one will see the Lord. Hebrews 12:14 \n  \nNovember Schedule: \nRegular youth group meetings start at 6pm on Nov. 16\, 23\, and 30!
URL:https://marionsalemchurch.org/event/salem-strivers-youth-meeting-2-2/
CATEGORIES:youth
ATTACH;FMTTYPE=image/png:https://marionsalemchurch.org/wp-content/uploads/2024/09/Screenshot-2024-09-09-at-1.16.17-PM-1.png
END:VEVENT
END:VCALENDAR