BEGIN:VCALENDAR
VERSION:2.0
PRODID:-//Marion Salem Church - ECPv6.15.20//NONSGML v1.0//EN
CALSCALE:GREGORIAN
METHOD:PUBLISH
X-WR-CALNAME:Marion Salem Church
X-ORIGINAL-URL:https://marionsalemchurch.org
X-WR-CALDESC:Events for Marion Salem Church
REFRESH-INTERVAL;VALUE=DURATION:PT1H
X-Robots-Tag:noindex
X-PUBLISHED-TTL:PT1H
BEGIN:VTIMEZONE
TZID:America/New_York
BEGIN:DAYLIGHT
TZOFFSETFROM:-0500
TZOFFSETTO:-0400
TZNAME:EDT
DTSTART:20240310T070000
END:DAYLIGHT
BEGIN:STANDARD
TZOFFSETFROM:-0400
TZOFFSETTO:-0500
TZNAME:EST
DTSTART:20241103T060000
END:STANDARD
BEGIN:DAYLIGHT
TZOFFSETFROM:-0500
TZOFFSETTO:-0400
TZNAME:EDT
DTSTART:20250309T070000
END:DAYLIGHT
BEGIN:STANDARD
TZOFFSETFROM:-0400
TZOFFSETTO:-0500
TZNAME:EST
DTSTART:20251102T060000
END:STANDARD
BEGIN:DAYLIGHT
TZOFFSETFROM:-0500
TZOFFSETTO:-0400
TZNAME:EDT
DTSTART:20260308T070000
END:DAYLIGHT
BEGIN:STANDARD
TZOFFSETFROM:-0400
TZOFFSETTO:-0500
TZNAME:EST
DTSTART:20261101T060000
END:STANDARD
END:VTIMEZONE
BEGIN:VEVENT
DTSTART;TZID=America/New_York:20251102T100000
DTEND;TZID=America/New_York:20251102T113000
DTSTAMP:20260422T185152
CREATED:20251101T195227Z
LAST-MODIFIED:20251114T205358Z
UID:2255-1762077600-1762083000@marionsalemchurch.org
SUMMARY:All Saints Sunday
DESCRIPTION:We will be observing All Saints Sunday on Sun. Nov. 2nd. All members who have passed in the last year will be recognized. In addition\, anyone who has lost a loved one since November 1st last year is welcome to send name\, date of passing\, and a picture to Pastor Jason to include in the memorial during worship that day.
URL:https://marionsalemchurch.org/event/all-saints-sunday-2/
CATEGORIES:Church
ATTACH;FMTTYPE=image/png:https://marionsalemchurch.org/wp-content/uploads/2025/11/Screenshot-2025-11-14-at-3.51.05-PM.png
END:VEVENT
BEGIN:VEVENT
DTSTART;TZID=America/New_York:20251102T180000
DTEND;TZID=America/New_York:20251102T193000
DTSTAMP:20260422T185152
CREATED:20251101T194059Z
LAST-MODIFIED:20251114T204123Z
UID:2242-1762106400-1762111800@marionsalemchurch.org
SUMMARY:Salem Strivers Youth Meeting
DESCRIPTION:Strive for peace with everyone\, and for the holiness without which no one will see the Lord. Hebrews 12:14 \n  \nNovember Schedule: \n11/2: Welcome Pastor Heather—6pm Youth in grades 6-12 and their parents come join us for a time of fellowship and planning! Hotdogs & drinks provided bring a dish to share. \nRegular youth group meetings start at 6pm on Nov. 9\, 16\, 23\, and 30! \nHello!
URL:https://marionsalemchurch.org/event/salem-strivers-youth-meeting/
CATEGORIES:youth
ATTACH;FMTTYPE=image/png:https://marionsalemchurch.org/wp-content/uploads/2024/09/Screenshot-2024-09-09-at-1.16.17-PM-1.png
END:VEVENT
BEGIN:VEVENT
DTSTART;TZID=America/New_York:20251103T160000
DTEND;TZID=America/New_York:20251103T170000
DTSTAMP:20260422T185152
CREATED:20251101T193400Z
LAST-MODIFIED:20251114T203418Z
UID:2234-1762185600-1762189200@marionsalemchurch.org
SUMMARY:Monday Afternoon Bible Study
DESCRIPTION:The second part of the Bible Live! Series with the Book of Acts. You do not need to have attend the previous Matthew Bible Live! Series to drop into the Acts class. Come and learn about the historical\, cultural\, and theological background of the first Christians. \n11/3: Acts 5:12-6:7 \n11/10: Acts 6:8-8:1 \n11/17: Acts 8:2-40 \n11/24: Acts 9:1-31 \nAfternoon study will be on hiatus after November until daylight returns.
URL:https://marionsalemchurch.org/event/monday-afternoon-bible-study-2-2/
CATEGORIES:Church
ATTACH;FMTTYPE=image/png:https://marionsalemchurch.org/wp-content/uploads/2024/09/Screenshot-2024-09-09-at-12.57.03-PM-2.png
END:VEVENT
BEGIN:VEVENT
DTSTART;TZID=America/New_York:20251103T183000
DTEND;TZID=America/New_York:20251103T193000
DTSTAMP:20260422T185152
CREATED:20251101T195945Z
LAST-MODIFIED:20251114T210025Z
UID:2264-1762194600-1762198200@marionsalemchurch.org
SUMMARY:SPRC Meeting
DESCRIPTION:
URL:https://marionsalemchurch.org/event/sprc-meeting/
CATEGORIES:Church
END:VEVENT
BEGIN:VEVENT
DTSTART;VALUE=DATE:20251104
DTEND;VALUE=DATE:20251105
DTSTAMP:20260422T185152
CREATED:20251101T200136Z
LAST-MODIFIED:20251114T210149Z
UID:2266-1762214400-1762300799@marionsalemchurch.org
SUMMARY:Election Day
DESCRIPTION:
URL:https://marionsalemchurch.org/event/election-day/
CATEGORIES:Church
END:VEVENT
BEGIN:VEVENT
DTSTART;TZID=America/New_York:20251105T130000
DTEND;TZID=America/New_York:20251105T140000
DTSTAMP:20260422T185152
CREATED:20251101T200519Z
LAST-MODIFIED:20251114T210531Z
UID:2272-1762347600-1762351200@marionsalemchurch.org
SUMMARY:Knitting/Crafting
DESCRIPTION:Come join the fun! \n 
URL:https://marionsalemchurch.org/event/knitting-crafting-12/
CATEGORIES:Church
ATTACH;FMTTYPE=image/jpeg:https://marionsalemchurch.org/wp-content/uploads/2024/09/yarn.jpg
END:VEVENT
BEGIN:VEVENT
DTSTART;TZID=America/New_York:20251109T180000
DTEND;TZID=America/New_York:20251109T193000
DTSTAMP:20260422T185152
CREATED:20251101T194221Z
LAST-MODIFIED:20251114T204234Z
UID:2244-1762711200-1762716600@marionsalemchurch.org
SUMMARY:Salem Strivers Youth Meeting
DESCRIPTION:Strive for peace with everyone\, and for the holiness without which no one will see the Lord. Hebrews 12:14 \n  \nNovember Schedule: \nRegular youth group meetings start at 6pm on Nov. 9\, 16\, 23\, and 30!
URL:https://marionsalemchurch.org/event/salem-strivers-youth-meeting-2/
CATEGORIES:youth
ATTACH;FMTTYPE=image/png:https://marionsalemchurch.org/wp-content/uploads/2024/09/Screenshot-2024-09-09-at-1.16.17-PM-1.png
END:VEVENT
BEGIN:VEVENT
DTSTART;TZID=America/New_York:20251110T160000
DTEND;TZID=America/New_York:20251110T170000
DTSTAMP:20260422T185152
CREATED:20251101T193457Z
LAST-MODIFIED:20251114T203516Z
UID:2236-1762790400-1762794000@marionsalemchurch.org
SUMMARY:Monday Afternoon Bible Study
DESCRIPTION:The second part of the Bible Live! Series with the Book of Acts. You do not need to have attend the previous Matthew Bible Live! Series to drop into the Acts class. Come and learn about the historical\, cultural\, and theological background of the first Christians. \n11/10: Acts 6:8-8:1 \n11/17: Acts 8:2-40 \n11/24: Acts 9:1-31 \nAfternoon study will be on hiatus after November until daylight returns.
URL:https://marionsalemchurch.org/event/monday-afternoon-bible-study-2-2-2/
CATEGORIES:Church
ATTACH;FMTTYPE=image/png:https://marionsalemchurch.org/wp-content/uploads/2024/09/Screenshot-2024-09-09-at-12.57.03-PM-2.png
END:VEVENT
BEGIN:VEVENT
DTSTART;VALUE=DATE:20251111
DTEND;VALUE=DATE:20251112
DTSTAMP:20260422T185152
CREATED:20251101T200249Z
LAST-MODIFIED:20251114T210302Z
UID:2270-1762819200-1762905599@marionsalemchurch.org
SUMMARY:Veterans Day
DESCRIPTION:
URL:https://marionsalemchurch.org/event/veterans-day/
CATEGORIES:Church
END:VEVENT
BEGIN:VEVENT
DTSTART;TZID=America/New_York:20251112T130000
DTEND;TZID=America/New_York:20251112T140000
DTSTAMP:20260422T185152
CREATED:20251101T200618Z
LAST-MODIFIED:20251114T210634Z
UID:2274-1762952400-1762956000@marionsalemchurch.org
SUMMARY:Knitting/Crafting
DESCRIPTION:Come join the fun! \n 
URL:https://marionsalemchurch.org/event/knitting-crafting-12-2/
CATEGORIES:Church
ATTACH;FMTTYPE=image/jpeg:https://marionsalemchurch.org/wp-content/uploads/2024/09/yarn.jpg
END:VEVENT
BEGIN:VEVENT
DTSTART;TZID=America/New_York:20251112T190000
DTEND;TZID=America/New_York:20251112T200000
DTSTAMP:20260422T185152
CREATED:20251101T192957Z
LAST-MODIFIED:20251114T203031Z
UID:2229-1762974000-1762977600@marionsalemchurch.org
SUMMARY:Basic Christian Faith Study
DESCRIPTION:Join Pastor Jason for an engaging time of discussion as we explore basic teachings of Christian Faith. This is a paced study and you can drop in anytime.  \n 
URL:https://marionsalemchurch.org/event/basic-christian-faith-study-sept-24-2/
CATEGORIES:Church
ATTACH;FMTTYPE=image/jpeg:https://marionsalemchurch.org/wp-content/uploads/2024/02/Bible-Studies.jpg
END:VEVENT
BEGIN:VEVENT
DTSTART;TZID=America/New_York:20251116T110000
DTEND;TZID=America/New_York:20251116T120000
DTSTAMP:20260422T185152
CREATED:20251114T205615Z
LAST-MODIFIED:20251114T205626Z
UID:2258-1763290800-1763294400@marionsalemchurch.org
SUMMARY:All Church Thanksgiving Dinner
DESCRIPTION:All Church Thanksgiving Dinner Nov. 16 after worship \nThank you to the Genesis Class for providing turkey & potatoes while we complete the meal with sides and desserts!
URL:https://marionsalemchurch.org/event/all-church-thanksgiving-dinner/
CATEGORIES:Church
ATTACH;FMTTYPE=image/png:https://marionsalemchurch.org/wp-content/uploads/2025/11/Screenshot-2025-11-14-at-3.55.08-PM.png
END:VEVENT
BEGIN:VEVENT
DTSTART;TZID=America/New_York:20251116T180000
DTEND;TZID=America/New_York:20251116T193000
DTSTAMP:20260422T185152
CREATED:20251114T204318Z
LAST-MODIFIED:20251114T204318Z
UID:2246-1763316000-1763321400@marionsalemchurch.org
SUMMARY:Salem Strivers Youth Meeting
DESCRIPTION:Strive for peace with everyone\, and for the holiness without which no one will see the Lord. Hebrews 12:14 \n  \nNovember Schedule: \nRegular youth group meetings start at 6pm on Nov. 16\, 23\, and 30!
URL:https://marionsalemchurch.org/event/salem-strivers-youth-meeting-2-2/
CATEGORIES:youth
ATTACH;FMTTYPE=image/png:https://marionsalemchurch.org/wp-content/uploads/2024/09/Screenshot-2024-09-09-at-1.16.17-PM-1.png
END:VEVENT
BEGIN:VEVENT
DTSTART;TZID=America/New_York:20251117T160000
DTEND;TZID=America/New_York:20251117T170000
DTSTAMP:20260422T185152
CREATED:20251114T203548Z
LAST-MODIFIED:20251114T203548Z
UID:2238-1763395200-1763398800@marionsalemchurch.org
SUMMARY:Monday Afternoon Bible Study
DESCRIPTION:The second part of the Bible Live! Series with the Book of Acts. You do not need to have attend the previous Matthew Bible Live! Series to drop into the Acts class. Come and learn about the historical\, cultural\, and theological background of the first Christians. \n11/17: Acts 8:2-40 \n11/24: Acts 9:1-31 \nAfternoon study will be on hiatus after November until daylight returns.
URL:https://marionsalemchurch.org/event/monday-afternoon-bible-study-2-2-2-2/
CATEGORIES:Church
ATTACH;FMTTYPE=image/png:https://marionsalemchurch.org/wp-content/uploads/2024/09/Screenshot-2024-09-09-at-12.57.03-PM-2.png
END:VEVENT
BEGIN:VEVENT
DTSTART;TZID=America/New_York:20251117T190000
DTEND;TZID=America/New_York:20251117T200000
DTSTAMP:20260422T185152
CREATED:20251205T174000Z
LAST-MODIFIED:20251205T174244Z
UID:2349-1763406000-1763409600@marionsalemchurch.org
SUMMARY:Basic Christian Faith Study
DESCRIPTION:Join Pastor Jason for an engaging time of discussion as we explore basic teachings of Christian Faith. This is a paced study and you can drop in anytime.  \n 
URL:https://marionsalemchurch.org/event/basic-christian-faith-study-dec-17/
CATEGORIES:Church
ATTACH;FMTTYPE=image/jpeg:https://marionsalemchurch.org/wp-content/uploads/2024/02/Bible-Studies.jpg
END:VEVENT
BEGIN:VEVENT
DTSTART;TZID=America/New_York:20251119T130000
DTEND;TZID=America/New_York:20251119T140000
DTSTAMP:20260422T185152
CREATED:20251114T210727Z
LAST-MODIFIED:20251114T210727Z
UID:2276-1763557200-1763560800@marionsalemchurch.org
SUMMARY:Knitting/Crafting
DESCRIPTION:Come join the fun! \n 
URL:https://marionsalemchurch.org/event/knitting-crafting-nov-19/
CATEGORIES:Church
ATTACH;FMTTYPE=image/jpeg:https://marionsalemchurch.org/wp-content/uploads/2024/09/yarn.jpg
END:VEVENT
BEGIN:VEVENT
DTSTART;TZID=America/New_York:20251119T190000
DTEND;TZID=America/New_York:20251119T200000
DTSTAMP:20260422T185152
CREATED:20251114T203117Z
LAST-MODIFIED:20251114T203117Z
UID:2231-1763578800-1763582400@marionsalemchurch.org
SUMMARY:Basic Christian Faith Study
DESCRIPTION:Join Pastor Jason for an engaging time of discussion as we explore basic teachings of Christian Faith. This is a paced study and you can drop in anytime.  \n 
URL:https://marionsalemchurch.org/event/basic-christian-faith-study-sept-24-2-2/
CATEGORIES:Church
ATTACH;FMTTYPE=image/jpeg:https://marionsalemchurch.org/wp-content/uploads/2024/02/Bible-Studies.jpg
END:VEVENT
BEGIN:VEVENT
DTSTART;TZID=America/New_York:20251123T090000
DTEND;TZID=America/New_York:20251123T100000
DTSTAMP:20260422T185152
CREATED:20251114T205819Z
LAST-MODIFIED:20251114T205842Z
UID:2261-1763888400-1763892000@marionsalemchurch.org
SUMMARY:Thanksgiving Baskets
DESCRIPTION:The Children’s Sunday school classes will be making Thanksgiving baskets on Sunday\, November 23 during the Sunday school hour. If you would like a basket made for someone\, please give the name to Cheryl Slack or Jana Bauer. If you are able to deliver a basket\, please let Cheryl or Jana know. \nWe also need help with donations of food items for the baskets. \n¨ Apples\, bananas\, oranges \n¨ Individual oatmeal packets \n¨ Hot Chocolate \n¨ Pudding\, Jello\, fruit & applesauce cups\, raisins \n¨ Breakfast\, snack\, nutrition bars\, peanut butter & cheese crackers. \n¨ Individually wrapped hard candy \nThank you for your love and support!
URL:https://marionsalemchurch.org/event/thanksgiving-baskets/
CATEGORIES:Church
ATTACH;FMTTYPE=image/png:https://marionsalemchurch.org/wp-content/uploads/2025/11/Screenshot-2025-11-14-at-3.57.39-PM.png
END:VEVENT
BEGIN:VEVENT
DTSTART;TZID=America/New_York:20251123T180000
DTEND;TZID=America/New_York:20251123T193000
DTSTAMP:20260422T185152
CREATED:20251114T204353Z
LAST-MODIFIED:20251114T204353Z
UID:2248-1763920800-1763926200@marionsalemchurch.org
SUMMARY:Salem Strivers Youth Meeting
DESCRIPTION:Strive for peace with everyone\, and for the holiness without which no one will see the Lord. Hebrews 12:14 \n  \nNovember Schedule: \nRegular youth group meetings start at 6pm on Nov. 23\, and 30!
URL:https://marionsalemchurch.org/event/salem-strivers-youth-meeting-2-2-2/
CATEGORIES:youth
ATTACH;FMTTYPE=image/png:https://marionsalemchurch.org/wp-content/uploads/2024/09/Screenshot-2024-09-09-at-1.16.17-PM-1.png
END:VEVENT
BEGIN:VEVENT
DTSTART;TZID=America/New_York:20251124T160000
DTEND;TZID=America/New_York:20251124T170000
DTSTAMP:20260422T185152
CREATED:20251114T203619Z
LAST-MODIFIED:20251114T203619Z
UID:2240-1764000000-1764003600@marionsalemchurch.org
SUMMARY:Monday Afternoon Bible Study
DESCRIPTION:The second part of the Bible Live! Series with the Book of Acts. You do not need to have attend the previous Matthew Bible Live! Series to drop into the Acts class. Come and learn about the historical\, cultural\, and theological background of the first Christians. \n11/24: Acts 9:1-31 \nAfternoon study will be on hiatus after November until daylight returns.
URL:https://marionsalemchurch.org/event/monday-afternoon-bible-study-2-2-2-2-2/
CATEGORIES:Church
ATTACH;FMTTYPE=image/png:https://marionsalemchurch.org/wp-content/uploads/2024/09/Screenshot-2024-09-09-at-12.57.03-PM-2.png
END:VEVENT
BEGIN:VEVENT
DTSTART;VALUE=DATE:20251127
DTEND;VALUE=DATE:20251128
DTSTAMP:20260422T185152
CREATED:20251114T210824Z
LAST-MODIFIED:20251114T210824Z
UID:2278-1764201600-1764287999@marionsalemchurch.org
SUMMARY:Thanksgiving Day
DESCRIPTION:
URL:https://marionsalemchurch.org/event/thanksgiving-day/
CATEGORIES:Church
END:VEVENT
BEGIN:VEVENT
DTSTART;TZID=America/New_York:20251130T180000
DTEND;TZID=America/New_York:20251130T193000
DTSTAMP:20260422T185152
CREATED:20251114T204425Z
LAST-MODIFIED:20251114T204425Z
UID:2250-1764525600-1764531000@marionsalemchurch.org
SUMMARY:Salem Strivers Youth Meeting
DESCRIPTION:Strive for peace with everyone\, and for the holiness without which no one will see the Lord. Hebrews 12:14 \n  \nNovember Schedule: \nRegular youth group meetings start at 6pm.
URL:https://marionsalemchurch.org/event/salem-strivers-youth-meeting-2-2-2-2/
CATEGORIES:youth
ATTACH;FMTTYPE=image/png:https://marionsalemchurch.org/wp-content/uploads/2024/09/Screenshot-2024-09-09-at-1.16.17-PM-1.png
END:VEVENT
BEGIN:VEVENT
DTSTART;TZID=America/New_York:20251202T180000
DTEND;TZID=America/New_York:20251202T190000
DTSTAMP:20260422T185152
CREATED:20251205T171154Z
LAST-MODIFIED:20251205T171154Z
UID:2323-1764698400-1764702000@marionsalemchurch.org
SUMMARY:Ladies Christmas Party
DESCRIPTION:
URL:https://marionsalemchurch.org/event/ladies-christmas-party-2/
CATEGORIES:Church
ATTACH;FMTTYPE=image/png:https://marionsalemchurch.org/wp-content/uploads/2025/12/Screenshot-2025-12-05-at-12.08.59-PM.png
END:VEVENT
BEGIN:VEVENT
DTSTART;TZID=America/New_York:20251207T100000
DTEND;TZID=America/New_York:20251207T110000
DTSTAMP:20260422T185152
CREATED:20251205T165948Z
LAST-MODIFIED:20251205T170044Z
UID:2312-1765101600-1765105200@marionsalemchurch.org
SUMMARY:Advent/Christmas Series: Hope\, Standing Firm\, and Comforted
DESCRIPTION:1 Thessalonians 4:13-18\, 2 Thessalonians 2
URL:https://marionsalemchurch.org/event/advent-christmas-seried-hope-standing-firm-and-comforted/
CATEGORIES:Church
END:VEVENT
BEGIN:VEVENT
DTSTART;TZID=America/New_York:20251207T180000
DTEND;TZID=America/New_York:20251207T193000
DTSTAMP:20260422T185152
CREATED:20251205T172529Z
LAST-MODIFIED:20251205T172529Z
UID:2335-1765130400-1765135800@marionsalemchurch.org
SUMMARY:Salem Strivers Youth Meeting
DESCRIPTION:Strive for peace with everyone\, and for the holiness without which no one will see the Lord. Hebrews 12:14 \n  \nDecember Schedule: \nRegular youth group meetings start at 6pm. \nDecember 7\, The Advent Conspiracy\nDecember 14\, Youth Christmas Party\nDecember 21\, New Year\nDecember 28—No Youth Group—Happy New Year!
URL:https://marionsalemchurch.org/event/salem-strivers-youth-meeting-3/
CATEGORIES:youth
ATTACH;FMTTYPE=image/png:https://marionsalemchurch.org/wp-content/uploads/2024/09/Screenshot-2024-09-09-at-1.16.17-PM-1.png
END:VEVENT
BEGIN:VEVENT
DTSTART;TZID=America/New_York:20251210T120000
DTEND;TZID=America/New_York:20251210T130000
DTSTAMP:20260422T185152
CREATED:20251205T171413Z
LAST-MODIFIED:20251205T171413Z
UID:2327-1765368000-1765371600@marionsalemchurch.org
SUMMARY:Senior Lunch
DESCRIPTION:Menu: Pizza \nWhite Elephant Exchange
URL:https://marionsalemchurch.org/event/senior-lunch-8/
CATEGORIES:seniors
ATTACH;FMTTYPE=image/png:https://marionsalemchurch.org/wp-content/uploads/2025/04/Screenshot-2025-04-15-at-10.23.09-AM.png
END:VEVENT
BEGIN:VEVENT
DTSTART;TZID=America/New_York:20251210T130000
DTEND;TZID=America/New_York:20251210T140000
DTSTAMP:20260422T185152
CREATED:20251205T175550Z
LAST-MODIFIED:20251205T175550Z
UID:2357-1765371600-1765375200@marionsalemchurch.org
SUMMARY:Knitting/Crafting
DESCRIPTION:Come Join the Fun!
URL:https://marionsalemchurch.org/event/knitting-crafting-13/
CATEGORIES:Church
ATTACH;FMTTYPE=image/jpeg:https://marionsalemchurch.org/wp-content/uploads/2024/09/yarn.jpg
END:VEVENT
BEGIN:VEVENT
DTSTART;TZID=America/New_York:20251210T183000
DTEND;TZID=America/New_York:20251210T193000
DTSTAMP:20260422T185152
CREATED:20251205T173102Z
LAST-MODIFIED:20251205T173102Z
UID:2341-1765391400-1765395000@marionsalemchurch.org
SUMMARY:Blue Christmas Memorial Service
DESCRIPTION:When painful memories cloud Christmas cheer… \nWhen the hustle and bustle has made you sour… \nWhen celebrating is the last thing on your mind… \nCome to Remember and Be Remembered \nIn the Church Sanctuary.
URL:https://marionsalemchurch.org/event/blue-christmas-memorial-service-2/
CATEGORIES:Church
ATTACH;FMTTYPE=image/png:https://marionsalemchurch.org/wp-content/uploads/2025/12/Screenshot-2025-12-05-at-12.28.53-PM.png
END:VEVENT
BEGIN:VEVENT
DTSTART;TZID=America/New_York:20251211T183000
DTEND;TZID=America/New_York:20251211T193000
DTSTAMP:20260422T185152
CREATED:20251205T171604Z
LAST-MODIFIED:20251205T171604Z
UID:2329-1765477800-1765481400@marionsalemchurch.org
SUMMARY:Rhema Academy Christmas Program
DESCRIPTION:Everyone is Invited!
URL:https://marionsalemchurch.org/event/rhema-academy-christmas-program/
CATEGORIES:Church
ATTACH;FMTTYPE=image/png:https://marionsalemchurch.org/wp-content/uploads/2025/12/Screenshot-2025-12-05-at-12.14.44-PM.png
END:VEVENT
BEGIN:VEVENT
DTSTART;TZID=America/New_York:20251213T140000
DTEND;TZID=America/New_York:20251213T170000
DTSTAMP:20260422T185152
CREATED:20251205T173716Z
LAST-MODIFIED:20251205T173716Z
UID:2346-1765634400-1765645200@marionsalemchurch.org
SUMMARY:Sharp Family Christmas Open House
DESCRIPTION:The Sharp Family Invites you to a Christmas Open House. \nFrom the Sharp Family: \nJoin us at the parsonage on Saturday\, December 13. \nCome and go anytime between 2 and 5pm \nEnjoy some snacks and conversation. \nPlease enter at our front door.
URL:https://marionsalemchurch.org/event/sharp-family-christmas-open-house/
CATEGORIES:Church
ATTACH;FMTTYPE=image/png:https://marionsalemchurch.org/wp-content/uploads/2025/12/Screenshot-2025-12-05-at-12.34.42-PM.png
END:VEVENT
END:VCALENDAR