BEGIN:VCALENDAR
VERSION:2.0
PRODID:-//Marion Salem Church - ECPv6.15.20//NONSGML v1.0//EN
CALSCALE:GREGORIAN
METHOD:PUBLISH
X-ORIGINAL-URL:https://marionsalemchurch.org
X-WR-CALDESC:Events for Marion Salem Church
REFRESH-INTERVAL;VALUE=DURATION:PT1H
X-Robots-Tag:noindex
X-PUBLISHED-TTL:PT1H
BEGIN:VTIMEZONE
TZID:America/New_York
BEGIN:DAYLIGHT
TZOFFSETFROM:-0500
TZOFFSETTO:-0400
TZNAME:EDT
DTSTART:20250309T070000
END:DAYLIGHT
BEGIN:STANDARD
TZOFFSETFROM:-0400
TZOFFSETTO:-0500
TZNAME:EST
DTSTART:20251102T060000
END:STANDARD
BEGIN:DAYLIGHT
TZOFFSETFROM:-0500
TZOFFSETTO:-0400
TZNAME:EDT
DTSTART:20260308T070000
END:DAYLIGHT
BEGIN:STANDARD
TZOFFSETFROM:-0400
TZOFFSETTO:-0500
TZNAME:EST
DTSTART:20261101T060000
END:STANDARD
BEGIN:DAYLIGHT
TZOFFSETFROM:-0500
TZOFFSETTO:-0400
TZNAME:EDT
DTSTART:20270314T070000
END:DAYLIGHT
BEGIN:STANDARD
TZOFFSETFROM:-0400
TZOFFSETTO:-0500
TZNAME:EST
DTSTART:20271107T060000
END:STANDARD
END:VTIMEZONE
BEGIN:VEVENT
DTSTART;TZID=America/New_York:20260225T190000
DTEND;TZID=America/New_York:20260225T200000
DTSTAMP:20260423T011535
CREATED:20260202T214447Z
LAST-MODIFIED:20260202T214447Z
UID:2481-1772046000-1772049600@marionsalemchurch.org
SUMMARY:Basic Christian Faith Study
DESCRIPTION:Join Pastor Jason for an engaging time of discussion as we explore basic teachings of Christian Faith. This is a paced study and you can drop in anytime.  \nFebruary Studies: \n25th: Study continues
URL:https://marionsalemchurch.org/event/basic-christian-faith-study-feb-11-25/
CATEGORIES:Church
ATTACH;FMTTYPE=image/jpeg:https://marionsalemchurch.org/wp-content/uploads/2024/02/Bible-Studies.jpg
END:VEVENT
BEGIN:VEVENT
DTSTART;TZID=America/New_York:20260301T100000
DTEND;TZID=America/New_York:20260301T110000
DTSTAMP:20260423T011535
CREATED:20260202T211702Z
LAST-MODIFIED:20260202T211702Z
UID:2452-1772359200-1772362800@marionsalemchurch.org
SUMMARY:“Two Solutions” 2 Corinthians 5
DESCRIPTION:Sermons \nUpcoming Lenten Series:  \nThe Cure Based off a book by the same name\, we will explore the paths of Pleasing God and Trusting God\, learning that one is built on self-effort and the other on humility. This series is for those seeking a deeper relationship with Christ no matter where they are starting on the journey. \n3/1: “Two Solutions” 2 Corinthians 5 \n3/8: “Two Healings” 1 John 4:7-21 \n3/15: “Two Friends” John 3:16-21 \n3/22: “Two Destinies” John 12:12-16 \n  \n 
URL:https://marionsalemchurch.org/event/two-faces-feb-22-2/
CATEGORIES:Church
END:VEVENT
BEGIN:VEVENT
DTSTART;TZID=America/New_York:20260302T160000
DTEND;TZID=America/New_York:20260302T170000
DTSTAMP:20260423T011535
CREATED:20260302T144952Z
LAST-MODIFIED:20260302T144952Z
UID:2576-1772467200-1772470800@marionsalemchurch.org
SUMMARY:Monday Bible Study
DESCRIPTION:Join in the study where we watch the Word come to life with the Visual Bible’s presentation of the Book of Acts. Study resumes on March 2. \nMarch 2: Review & Acts 9:32-43 \nMarch 9: Acts 10 \nMarch 16: Acts 11 \nMarch 23: Acts 12 \nMarch 30: No Study (Holy Week)
URL:https://marionsalemchurch.org/event/monday-bible-study/
CATEGORIES:Church
END:VEVENT
BEGIN:VEVENT
DTSTART;TZID=America/New_York:20260304T190000
DTEND;TZID=America/New_York:20260304T200000
DTSTAMP:20260423T011535
CREATED:20260302T144322Z
LAST-MODIFIED:20260302T144322Z
UID:2569-1772650800-1772654400@marionsalemchurch.org
SUMMARY:Basic Christian Faith Study
DESCRIPTION:Join Pastor Jason for an engaging time of discussion as we explore basic teachings of Christian Faith. This is a paced study and you can drop in anytime.  \nMarch Studies: \n4th: Study continues \n11th: Study continues \n18th: Study continues \n25th: No Study (Our Easter Hearts)
URL:https://marionsalemchurch.org/event/basic-christian-faith-study-mar-4-26/
CATEGORIES:Church
ATTACH;FMTTYPE=image/jpeg:https://marionsalemchurch.org/wp-content/uploads/2024/02/Bible-Studies.jpg
END:VEVENT
BEGIN:VEVENT
DTSTART;VALUE=DATE:20260306
DTEND;VALUE=DATE:20260307
DTSTAMP:20260423T011535
CREATED:20260302T145559Z
LAST-MODIFIED:20260302T145559Z
UID:2584-1772755200-1772841599@marionsalemchurch.org
SUMMARY:Salem Strivers Youth Project/Meetings
DESCRIPTION:Strive for peace with everyone\, and for the holiness without which no one will see the Lord. Hebrews 12:14 \nStrivers Youth Schedule \n• Mar 6-7 (TBA): Help with set-up\, serving and tearing down at the An-nual Spaghetti Dinner & Auction \n• Mar 8\, 6pm: Youth Group \n• Mar 15\, 6pm: Youth Group \n• Mar 22\, 6pm: Youth Group \n• Mar 28\, 2pm: Help with the Easter Eggstravaganza \n• Mar 29: NO YOUTH GROUP \nHave a blessed Palm Sunday and Holy Week!
URL:https://marionsalemchurch.org/event/salem-strivers-youth-meeting-mar-6-7-26/
CATEGORIES:youth
ATTACH;FMTTYPE=image/png:https://marionsalemchurch.org/wp-content/uploads/2024/09/Screenshot-2024-09-09-at-1.16.17-PM-1.png
END:VEVENT
BEGIN:VEVENT
DTSTART;TZID=America/New_York:20260307T173000
DTEND;TZID=America/New_York:20260307T210000
DTSTAMP:20260423T011535
CREATED:20260202T215357Z
LAST-MODIFIED:20260216T145015Z
UID:2485-1772904600-1772917200@marionsalemchurch.org
SUMMARY:Spaghetti Dinner & Auction
DESCRIPTION:\ \nDonations for the auction are still being collected…. \n Donate a new item or service that can be auctioned off.  \nContact your place of business for a donation. (You will have more influence than a stranger asking them). Ask your family members to do the same.  \nDo you have friends or family members that make quality crafts? Woodworking – quilts – dolls – paintings? Are you an excellent baker or candy maker? Do you sell products such as Mary Kay\, Pamper Chef\, Scentsy\, Thirty-One\, Lula Roe\, Avon\, Tupperware\, or any other products such as these\, or know of someone who would like to donate items?  \nIf you can help in any way\, please contact Conni McChesney at 419-210-0925. We would like to THANK YOU in advance for your support. Please reserve your dinner tickets so that we can have an estimated number to prepare for. Tear off this section and put it in the offering plate or give it to Conni McChesney. \n 
URL:https://marionsalemchurch.org/event/spaghetti-dinner-auction/
CATEGORIES:Church
ATTACH;FMTTYPE=image/jpeg:https://marionsalemchurch.org/wp-content/uploads/2026/02/updated-Salem-Spaghetti-Dinner-Facebook-event-2026-scaled.jpg
END:VEVENT
BEGIN:VEVENT
DTSTART;TZID=America/New_York:20260308T100000
DTEND;TZID=America/New_York:20260308T110000
DTSTAMP:20260423T011535
CREATED:20260202T211827Z
LAST-MODIFIED:20260202T211827Z
UID:2455-1772964000-1772967600@marionsalemchurch.org
SUMMARY:Two Healings” 1 John 4:7-21
DESCRIPTION:Sermons \nUpcoming Lenten Series:  \nThe Cure Based off a book by the same name\, we will explore the paths of Pleasing God and Trusting God\, learning that one is built on self-effort and the other on humility. This series is for those seeking a deeper relationship with Christ no matter where they are starting on the journey. \n3/8: “Two Healings” 1 John 4:7-21 \n3/15: “Two Friends” John 3:16-21 \n3/22: “Two Destinies” John 12:12-16 \n  \n 
URL:https://marionsalemchurch.org/event/two-healings-mar-1/
CATEGORIES:Church
END:VEVENT
BEGIN:VEVENT
DTSTART;TZID=America/New_York:20260308T180000
DTEND;TZID=America/New_York:20260308T190000
DTSTAMP:20260423T011535
CREATED:20260302T145726Z
LAST-MODIFIED:20260302T145726Z
UID:2586-1772992800-1772996400@marionsalemchurch.org
SUMMARY:Salem Strivers Youth Meetings
DESCRIPTION:Strive for peace with everyone\, and for the holiness without which no one will see the Lord. Hebrews 12:14 \nStrivers Youth Schedule \n• Mar 8\, 6pm: Youth Group \n• Mar 15\, 6pm: Youth Group \n• Mar 22\, 6pm: Youth Group \n• Mar 28\, 2pm: Help with the Easter Eggstravaganza \n• Mar 29: NO YOUTH GROUP \nHave a blessed Palm Sunday and Holy Week!
URL:https://marionsalemchurch.org/event/salem-strivers-youth-meeting-mar-8-26-2/
CATEGORIES:youth
ATTACH;FMTTYPE=image/png:https://marionsalemchurch.org/wp-content/uploads/2024/09/Screenshot-2024-09-09-at-1.16.17-PM-1.png
END:VEVENT
BEGIN:VEVENT
DTSTART;TZID=America/New_York:20260309T160000
DTEND;TZID=America/New_York:20260309T170000
DTSTAMP:20260423T011535
CREATED:20260302T145101Z
LAST-MODIFIED:20260302T145101Z
UID:2578-1773072000-1773075600@marionsalemchurch.org
SUMMARY:Monday Bible Study
DESCRIPTION:Join in the study where we watch the Word come to life with the Visual Bible’s presentation of the Book of Acts. Study resumes on March 2. \nMarch 9: Acts 10 \nMarch 16: Acts 11 \nMarch 23: Acts 12 \nMarch 30: No Study (Holy Week)
URL:https://marionsalemchurch.org/event/monday-bible-study-3-9/
CATEGORIES:Church
END:VEVENT
BEGIN:VEVENT
DTSTART;TZID=America/New_York:20260311T190000
DTEND;TZID=America/New_York:20260311T200000
DTSTAMP:20260423T011535
CREATED:20260302T144436Z
LAST-MODIFIED:20260302T144436Z
UID:2571-1773255600-1773259200@marionsalemchurch.org
SUMMARY:Basic Christian Faith Study
DESCRIPTION:Join Pastor Jason for an engaging time of discussion as we explore basic teachings of Christian Faith. This is a paced study and you can drop in anytime.  \nMarch Studies: \n11th: Study continues \n18th: Study continues \n25th: No Study (Our Easter Hearts)
URL:https://marionsalemchurch.org/event/basic-christian-faith-study-mar-11-26-2/
CATEGORIES:Church
ATTACH;FMTTYPE=image/jpeg:https://marionsalemchurch.org/wp-content/uploads/2024/02/Bible-Studies.jpg
END:VEVENT
BEGIN:VEVENT
DTSTART;TZID=America/New_York:20260315T100000
DTEND;TZID=America/New_York:20260315T110000
DTSTAMP:20260423T011535
CREATED:20260202T211947Z
LAST-MODIFIED:20260202T211947Z
UID:2457-1773568800-1773572400@marionsalemchurch.org
SUMMARY:“Two Friends” John 3:16-21
DESCRIPTION:Sermons \nUpcoming Lenten Series:  \nThe Cure Based off a book by the same name\, we will explore the paths of Pleasing God and Trusting God\, learning that one is built on self-effort and the other on humility. This series is for those seeking a deeper relationship with Christ no matter where they are starting on the journey. \n3/15: “Two Friends” John 3:16-21 \n3/22: “Two Destinies” John 12:12-16 \n  \n 
URL:https://marionsalemchurch.org/event/two-friends-mar-15/
CATEGORIES:Church
END:VEVENT
BEGIN:VEVENT
DTSTART;TZID=America/New_York:20260315T180000
DTEND;TZID=America/New_York:20260315T190000
DTSTAMP:20260423T011535
CREATED:20260302T145811Z
LAST-MODIFIED:20260302T145811Z
UID:2588-1773597600-1773601200@marionsalemchurch.org
SUMMARY:Salem Strivers Youth Meetings
DESCRIPTION:Strive for peace with everyone\, and for the holiness without which no one will see the Lord. Hebrews 12:14 \nStrivers Youth Schedule \n• Mar 15\, 6pm: Youth Group \n• Mar 22\, 6pm: Youth Group \n• Mar 28\, 2pm: Help with the Easter Eggstravaganza \n• Mar 29: NO YOUTH GROUP \nHave a blessed Palm Sunday and Holy Week!
URL:https://marionsalemchurch.org/event/salem-strivers-youth-meeting-mar-15-26/
CATEGORIES:youth
ATTACH;FMTTYPE=image/png:https://marionsalemchurch.org/wp-content/uploads/2024/09/Screenshot-2024-09-09-at-1.16.17-PM-1.png
END:VEVENT
BEGIN:VEVENT
DTSTART;TZID=America/New_York:20260316T160000
DTEND;TZID=America/New_York:20260316T170000
DTSTAMP:20260423T011535
CREATED:20260302T145147Z
LAST-MODIFIED:20260302T145147Z
UID:2580-1773676800-1773680400@marionsalemchurch.org
SUMMARY:Monday Bible Study
DESCRIPTION:Join in the study where we watch the Word come to life with the Visual Bible’s presentation of the Book of Acts. Study resumes on March 2. \nMarch 16: Acts 11 \nMarch 23: Acts 12 \nMarch 30: No Study (Holy Week)
URL:https://marionsalemchurch.org/event/monday-bible-study-3-16-26/
CATEGORIES:Church
END:VEVENT
BEGIN:VEVENT
DTSTART;TZID=America/New_York:20260318T190000
DTEND;TZID=America/New_York:20260318T200000
DTSTAMP:20260423T011535
CREATED:20260302T144532Z
LAST-MODIFIED:20260302T144532Z
UID:2573-1773860400-1773864000@marionsalemchurch.org
SUMMARY:Basic Christian Faith Study
DESCRIPTION:Join Pastor Jason for an engaging time of discussion as we explore basic teachings of Christian Faith. This is a paced study and you can drop in anytime.  \nMarch Studies: \n18th: Study continues \n25th: No Study (Our Easter Hearts)
URL:https://marionsalemchurch.org/event/basic-christian-faith-study-mar-18-26-2-2/
CATEGORIES:Church
ATTACH;FMTTYPE=image/jpeg:https://marionsalemchurch.org/wp-content/uploads/2024/02/Bible-Studies.jpg
END:VEVENT
BEGIN:VEVENT
DTSTART;TZID=America/New_York:20260322T100000
DTEND;TZID=America/New_York:20260322T110000
DTSTAMP:20260423T011535
CREATED:20260202T212038Z
LAST-MODIFIED:20260202T212058Z
UID:2459-1774173600-1774177200@marionsalemchurch.org
SUMMARY:“Two Destinies” John 12:12-16
DESCRIPTION:Sermons \nUpcoming Lenten Series:  \nThe Cure Based off a book by the same name\, we will explore the paths of Pleasing God and Trusting God\, learning that one is built on self-effort and the other on humility. This series is for those seeking a deeper relationship with Christ no matter where they are starting on the journey. \n3/22: “Two Destinies” John 12:12-16 \n  \n 
URL:https://marionsalemchurch.org/event/two-destinies-mar-22/
CATEGORIES:Church
END:VEVENT
BEGIN:VEVENT
DTSTART;TZID=America/New_York:20260322T180000
DTEND;TZID=America/New_York:20260322T190000
DTSTAMP:20260423T011535
CREATED:20260302T145900Z
LAST-MODIFIED:20260302T145900Z
UID:2590-1774202400-1774206000@marionsalemchurch.org
SUMMARY:Salem Strivers Youth Meetings
DESCRIPTION:Strive for peace with everyone\, and for the holiness without which no one will see the Lord. Hebrews 12:14 \nStrivers Youth Schedule \n• Mar 22\, 6pm: Youth Group \n• Mar 28\, 2pm: Help with the Easter Eggstravaganza \n• Mar 29: NO YOUTH GROUP \nHave a blessed Palm Sunday and Holy Week!
URL:https://marionsalemchurch.org/event/salem-strivers-youth-meeting-mar-22-26/
CATEGORIES:youth
ATTACH;FMTTYPE=image/png:https://marionsalemchurch.org/wp-content/uploads/2024/09/Screenshot-2024-09-09-at-1.16.17-PM-1.png
END:VEVENT
BEGIN:VEVENT
DTSTART;TZID=America/New_York:20260323T160000
DTEND;TZID=America/New_York:20260323T170000
DTSTAMP:20260423T011535
CREATED:20260302T145242Z
LAST-MODIFIED:20260302T145242Z
UID:2582-1774281600-1774285200@marionsalemchurch.org
SUMMARY:Monday Bible Study
DESCRIPTION:Join in the study where we watch the Word come to life with the Visual Bible’s presentation of the Book of Acts. Study resumes on March 2. \nMarch 23: Acts 12 \nMarch 30: No Study (Holy Week)
URL:https://marionsalemchurch.org/event/monday-bible-study-3-23-26/
CATEGORIES:Church
END:VEVENT
BEGIN:VEVENT
DTSTART;TZID=America/New_York:20260325T120000
DTEND;TZID=America/New_York:20260325T130000
DTSTAMP:20260423T011535
CREATED:20260302T150834Z
LAST-MODIFIED:20260302T150853Z
UID:2600-1774440000-1774443600@marionsalemchurch.org
SUMMARY:Senior lunch
DESCRIPTION:Wed. March 25th—Noon \nMenu: Chicken sandwiches \nPlease bring a side or dessert to share
URL:https://marionsalemchurch.org/event/senior-lunch-11/
CATEGORIES:seniors
ATTACH;FMTTYPE=image/png:https://marionsalemchurch.org/wp-content/uploads/2025/04/Screenshot-2025-04-15-at-10.23.09-AM.png
END:VEVENT
BEGIN:VEVENT
DTSTART;TZID=America/New_York:20260325T190000
DTEND;TZID=America/New_York:20260325T200000
DTSTAMP:20260423T011535
CREATED:20260302T144119Z
LAST-MODIFIED:20260302T144119Z
UID:2567-1774465200-1774468800@marionsalemchurch.org
SUMMARY:Prayer Service
DESCRIPTION:We will join together to pray over the Easter Hearts: those unchurched\, dechurched\, or unsaved loved ones.  \nPraying starts at 7pm and you can leave when you are done praying.
URL:https://marionsalemchurch.org/event/prayer-service/
CATEGORIES:Church
END:VEVENT
BEGIN:VEVENT
DTSTART;TZID=America/New_York:20260328T140000
DTEND;TZID=America/New_York:20260328T160000
DTSTAMP:20260423T011535
CREATED:20260302T150019Z
LAST-MODIFIED:20260302T150053Z
UID:2592-1774706400-1774713600@marionsalemchurch.org
SUMMARY:Salem Strivers Youth Project
DESCRIPTION:Strive for peace with everyone\, and for the holiness without which no one will see the Lord. Hebrews 12:14 \nStrivers Youth Schedule \n• Mar 28\, 2pm: Help with the Easter Eggstravaganza \n• Mar 29: NO YOUTH GROUP \nHave a blessed Palm Sunday and Holy Week!
URL:https://marionsalemchurch.org/event/salem-strivers-youth-meeting-mar-28-26/
CATEGORIES:youth
ATTACH;FMTTYPE=image/png:https://marionsalemchurch.org/wp-content/uploads/2024/09/Screenshot-2024-09-09-at-1.16.17-PM-1.png
END:VEVENT
BEGIN:VEVENT
DTSTART;TZID=America/New_York:20260328T140000
DTEND;TZID=America/New_York:20260328T160000
DTSTAMP:20260423T011535
CREATED:20260302T150449Z
LAST-MODIFIED:20260302T150449Z
UID:2595-1774706400-1774713600@marionsalemchurch.org
SUMMARY:Easter Eggstravaganza
DESCRIPTION:This free event is for children of all ages and families. Invite a friend or two!  \nCome any time\, stay as long as the party lasts. \nFun for the whole family Photo booth Games and prizes! Crafts and cookie.
URL:https://marionsalemchurch.org/event/easter-eggstravaganza-2/
CATEGORIES:Church
ATTACH;FMTTYPE=image/png:https://marionsalemchurch.org/wp-content/uploads/2026/03/Screenshot-2026-03-02-at-10.04.24-AM.png
END:VEVENT
BEGIN:VEVENT
DTSTART;TZID=America/New_York:20260329T100000
DTEND;TZID=America/New_York:20260329T110000
DTSTAMP:20260423T011535
CREATED:20260302T143414Z
LAST-MODIFIED:20260302T143414Z
UID:2557-1774778400-1774782000@marionsalemchurch.org
SUMMARY:Palm Sunday
DESCRIPTION:
URL:https://marionsalemchurch.org/event/palm-sunday-2/
CATEGORIES:Church
ATTACH;FMTTYPE=image/png:https://marionsalemchurch.org/wp-content/uploads/2026/03/Screenshot-2026-03-02-at-9.33.39-AM.png
END:VEVENT
BEGIN:VEVENT
DTSTART;TZID=America/New_York:20260402T190000
DTEND;TZID=America/New_York:20260402T200000
DTSTAMP:20260423T011535
CREATED:20260302T143559Z
LAST-MODIFIED:20260302T143559Z
UID:2561-1775156400-1775160000@marionsalemchurch.org
SUMMARY:Maundy Thursday
DESCRIPTION:A service focused on the grace of Christ offered during the Last Supper with Communion.
URL:https://marionsalemchurch.org/event/maundy-thursday-2/
CATEGORIES:Church
END:VEVENT
BEGIN:VEVENT
DTSTART;TZID=America/New_York:20260403T190000
DTEND;TZID=America/New_York:20260403T200000
DTSTAMP:20260423T011535
CREATED:20260302T143746Z
LAST-MODIFIED:20260302T143746Z
UID:2563-1775242800-1775246400@marionsalemchurch.org
SUMMARY:Good Friday
DESCRIPTION:Message will focus on the Crucifixion and we will remember through the Passion play of John’s Gospel.
URL:https://marionsalemchurch.org/event/good-friday-2/
CATEGORIES:Church
END:VEVENT
BEGIN:VEVENT
DTSTART;TZID=America/New_York:20260405T080000
DTEND;TZID=America/New_York:20260405T090000
DTSTAMP:20260423T011535
CREATED:20260302T143947Z
LAST-MODIFIED:20260302T150245Z
UID:2565-1775376000-1775379600@marionsalemchurch.org
SUMMARY:Easter Sunday Sonrise Service & Breakfast
DESCRIPTION:Youth-led Sonrise Service at 8am (youth should arrive at 7:30am) and Breakfast at 8:30am both in the Family Center.  \nSunday School and Sunday Worship will continue as normal.
URL:https://marionsalemchurch.org/event/easter-sunday-sunrise-service-breakfast/
CATEGORIES:Church
END:VEVENT
BEGIN:VEVENT
DTSTART;TZID=America/New_York:20260408T061500
DTEND;TZID=America/New_York:20260408T190000
DTSTAMP:20260423T011535
CREATED:20260409T145953Z
LAST-MODIFIED:20260409T145953Z
UID:2634-1775628900-1775674800@marionsalemchurch.org
SUMMARY:Choir Practice
DESCRIPTION:Choir Practice
URL:https://marionsalemchurch.org/event/choir-practice-12/
CATEGORIES:Church
END:VEVENT
BEGIN:VEVENT
DTSTART;TZID=America/New_York:20260408T190000
DTEND;TZID=America/New_York:20260408T200000
DTSTAMP:20260423T011535
CREATED:20260409T143742Z
LAST-MODIFIED:20260409T143742Z
UID:2610-1775674800-1775678400@marionsalemchurch.org
SUMMARY:Basic Christian Faith Study
DESCRIPTION:Join Pastor Jason for an engaging time of discussion as we explore basic teachings of Christian Faith. This is a paced study and you can drop in anytime.  \nApril Studies \n8th: Study continues \n15th: Study continues \n22nd: Study continues \n29th: Study continues
URL:https://marionsalemchurch.org/event/basic-christian-faith-study-april-8-26/
CATEGORIES:Church
ATTACH;FMTTYPE=image/jpeg:https://marionsalemchurch.org/wp-content/uploads/2024/02/Bible-Studies.jpg
END:VEVENT
BEGIN:VEVENT
DTSTART;TZID=America/New_York:20260409T183000
DTEND;TZID=America/New_York:20260409T193000
DTSTAMP:20260423T011535
CREATED:20260409T150054Z
LAST-MODIFIED:20260409T150054Z
UID:2636-1775759400-1775763000@marionsalemchurch.org
SUMMARY:SPRC Meeting
DESCRIPTION:Staff Parish Relations Committee
URL:https://marionsalemchurch.org/event/sprc-meeting-2/
CATEGORIES:Church
END:VEVENT
BEGIN:VEVENT
DTSTART;TZID=America/New_York:20260412T100000
DTEND;TZID=America/New_York:20260412T110000
DTSTAMP:20260423T011535
CREATED:20260302T150644Z
LAST-MODIFIED:20260302T150644Z
UID:2598-1775988000-1775991600@marionsalemchurch.org
SUMMARY:Holy Humor Sunday
DESCRIPTION:Holy Humor Sunday is the Sunday after Easter\, when God’s people get to laugh at the devil because Jesus rose from the dead and the devil lost! Pastor Jason invites the congregation to participate in this service through the creation of an on-the-spot message utilizing images that the congregation provides.  \nA box is in the sanctuary marked “Sermon in a Box.” Everyone is encouraged to place a picture of an object (no words) in the box (photographs can be sent to marionsalem1640@gmail.com to be printed). Keep these secret from Pastor Jason! He will not be looking at the photographs prior to the service.  \nOne picture will be drawn randomly on Easter Sunday for Pastor to start working on ideas for the message on Holy Humor Sunday. On Holy Humor Sunday another 4 pictures will be drawn at the beginning of the service. Pastor Jason is challenged with incorporating all 5 pictures into the message. At the end of service we’ll enjoy some ice cream treats together.
URL:https://marionsalemchurch.org/event/holy-humor-sunday-2/
CATEGORIES:Church
END:VEVENT
BEGIN:VEVENT
DTSTART;TZID=America/New_York:20260412T110000
DTEND;TZID=America/New_York:20260412T233000
DTSTAMP:20260423T011535
CREATED:20260202T220431Z
LAST-MODIFIED:20260202T220512Z
UID:2497-1775991600-1776036600@marionsalemchurch.org
SUMMARY:Family Ministries Council Meeting
DESCRIPTION:Thank you to everyone who came to our first meeting in January. I am over-whelmed with gratitude for the support! Together\, we have already made a lot of plans: a Valentine’s fundraiser\, Easter Eggstravaganza\, VBS\, and we have even discussed plans for future BRAND-NEW ministry for 4th-6th grad-ers that we hope to be launching in the fall! Stay tuned for more updates. \nThe next meeting of the Family Ministries Council will be Sunday\, April 12\, following the worship service. \nPastor Heather
URL:https://marionsalemchurch.org/event/family-ministries-council-meeting/
CATEGORIES:Church
ATTACH;FMTTYPE=image/png:https://marionsalemchurch.org/wp-content/uploads/2026/02/Screenshot-2026-02-02-at-5.02.29-PM.png
END:VEVENT
END:VCALENDAR