BEGIN:VCALENDAR
VERSION:2.0
PRODID:-//Marion Salem Church - ECPv6.15.20//NONSGML v1.0//EN
CALSCALE:GREGORIAN
METHOD:PUBLISH
X-WR-CALNAME:Marion Salem Church
X-ORIGINAL-URL:https://marionsalemchurch.org
X-WR-CALDESC:Events for Marion Salem Church
REFRESH-INTERVAL;VALUE=DURATION:PT1H
X-Robots-Tag:noindex
X-PUBLISHED-TTL:PT1H
BEGIN:VTIMEZONE
TZID:America/New_York
BEGIN:DAYLIGHT
TZOFFSETFROM:-0500
TZOFFSETTO:-0400
TZNAME:EDT
DTSTART:20250309T070000
END:DAYLIGHT
BEGIN:STANDARD
TZOFFSETFROM:-0400
TZOFFSETTO:-0500
TZNAME:EST
DTSTART:20251102T060000
END:STANDARD
BEGIN:DAYLIGHT
TZOFFSETFROM:-0500
TZOFFSETTO:-0400
TZNAME:EDT
DTSTART:20260308T070000
END:DAYLIGHT
BEGIN:STANDARD
TZOFFSETFROM:-0400
TZOFFSETTO:-0500
TZNAME:EST
DTSTART:20261101T060000
END:STANDARD
BEGIN:DAYLIGHT
TZOFFSETFROM:-0500
TZOFFSETTO:-0400
TZNAME:EDT
DTSTART:20270314T070000
END:DAYLIGHT
BEGIN:STANDARD
TZOFFSETFROM:-0400
TZOFFSETTO:-0500
TZNAME:EST
DTSTART:20271107T060000
END:STANDARD
END:VTIMEZONE
BEGIN:VEVENT
DTSTART;TZID=America/New_York:20260420T160000
DTEND;TZID=America/New_York:20260420T170000
DTSTAMP:20260423T071837
CREATED:20260409T144301Z
LAST-MODIFIED:20260409T144301Z
UID:2621-1776700800-1776704400@marionsalemchurch.org
SUMMARY:Monday Bible Study
DESCRIPTION:Join in the study where we watch the Word come to life with the Visual Bible’s presentation of the Book of Acts. Study resumes on March 2. \nApril 20: Acts 14  \nApril 27: Acts 15
URL:https://marionsalemchurch.org/event/monday-bible-study-4-20-26/
CATEGORIES:Church
END:VEVENT
BEGIN:VEVENT
DTSTART;TZID=America/New_York:20260420T183000
DTEND;TZID=America/New_York:20260420T200000
DTSTAMP:20260423T071837
CREATED:20260409T150241Z
LAST-MODIFIED:20260409T150310Z
UID:2640-1776709800-1776715200@marionsalemchurch.org
SUMMARY:Ad Council
DESCRIPTION:Ad Council Meeting\, includes fianance.
URL:https://marionsalemchurch.org/event/ad-council/
CATEGORIES:Church
END:VEVENT
BEGIN:VEVENT
DTSTART;TZID=America/New_York:20260422T190000
DTEND;TZID=America/New_York:20260422T200000
DTSTAMP:20260423T071837
CREATED:20260409T143950Z
LAST-MODIFIED:20260409T143950Z
UID:2615-1776884400-1776888000@marionsalemchurch.org
SUMMARY:Basic Christian Faith Study
DESCRIPTION:Join Pastor Jason for an engaging time of discussion as we explore basic teachings of Christian Faith. This is a paced study and you can drop in anytime.  \nApril Studies \n22nd: Study continues \n29th: Study continues
URL:https://marionsalemchurch.org/event/basic-christian-faith-study-april-22-26/
CATEGORIES:Church
ATTACH;FMTTYPE=image/jpeg:https://marionsalemchurch.org/wp-content/uploads/2024/02/Bible-Studies.jpg
END:VEVENT
BEGIN:VEVENT
DTSTART;VALUE=DATE:20260424
DTEND;VALUE=DATE:20260427
DTSTAMP:20260423T071837
CREATED:20260409T145502Z
LAST-MODIFIED:20260409T145557Z
UID:2632-1776988800-1777247999@marionsalemchurch.org
SUMMARY:Salem Strivers Youth Meetings
DESCRIPTION:Strive for peace with everyone\, and for the holiness without which no one will see the Lord. Hebrews 12:14 \nStrivers Youth Schedule \n• April 24-26 Encounter Retreat \n• April 26 NO YOUTH GROUP
URL:https://marionsalemchurch.org/event/salem-strivers-youth-meeting-apr-24-26/
CATEGORIES:youth
ATTACH;FMTTYPE=image/png:https://marionsalemchurch.org/wp-content/uploads/2024/09/Screenshot-2024-09-09-at-1.16.17-PM-1.png
END:VEVENT
BEGIN:VEVENT
DTSTART;TZID=America/New_York:20260427T160000
DTEND;TZID=America/New_York:20260427T170000
DTSTAMP:20260423T071837
CREATED:20260409T144340Z
LAST-MODIFIED:20260409T144340Z
UID:2623-1777305600-1777309200@marionsalemchurch.org
SUMMARY:Monday Bible Study
DESCRIPTION:Join in the study where we watch the Word come to life with the Visual Bible’s presentation of the Book of Acts. Study resumes on March 2. \nApril 27: Acts 15
URL:https://marionsalemchurch.org/event/monday-bible-study-4-27-26/
CATEGORIES:Church
END:VEVENT
BEGIN:VEVENT
DTSTART;TZID=America/New_York:20260429T120000
DTEND;TZID=America/New_York:20260429T130000
DTSTAMP:20260423T071837
CREATED:20260409T150435Z
LAST-MODIFIED:20260409T150435Z
UID:2642-1777464000-1777467600@marionsalemchurch.org
SUMMARY:Senior Luncheon
DESCRIPTION:Come join us!
URL:https://marionsalemchurch.org/event/senior-luncheon-2/
CATEGORIES:seniors
ATTACH;FMTTYPE=image/png:https://marionsalemchurch.org/wp-content/uploads/2025/04/Screenshot-2025-04-15-at-10.23.09-AM.png
END:VEVENT
BEGIN:VEVENT
DTSTART;TZID=America/New_York:20260429T190000
DTEND;TZID=America/New_York:20260429T200000
DTSTAMP:20260423T071837
CREATED:20260409T144030Z
LAST-MODIFIED:20260409T144030Z
UID:2617-1777489200-1777492800@marionsalemchurch.org
SUMMARY:Basic Christian Faith Study
DESCRIPTION:Join Pastor Jason for an engaging time of discussion as we explore basic teachings of Christian Faith. This is a paced study and you can drop in anytime.  \nApril Studies \n29th: Study continues
URL:https://marionsalemchurch.org/event/basic-christian-faith-study-april-29-26/
CATEGORIES:Church
ATTACH;FMTTYPE=image/jpeg:https://marionsalemchurch.org/wp-content/uploads/2024/02/Bible-Studies.jpg
END:VEVENT
END:VCALENDAR