BEGIN:VCALENDAR
VERSION:2.0
PRODID:-//Marion Salem Church - ECPv6.15.20//NONSGML v1.0//EN
CALSCALE:GREGORIAN
METHOD:PUBLISH
X-WR-CALNAME:Marion Salem Church
X-ORIGINAL-URL:https://marionsalemchurch.org
X-WR-CALDESC:Events for Marion Salem Church
REFRESH-INTERVAL;VALUE=DURATION:PT1H
X-Robots-Tag:noindex
X-PUBLISHED-TTL:PT1H
BEGIN:VTIMEZONE
TZID:America/New_York
BEGIN:DAYLIGHT
TZOFFSETFROM:-0500
TZOFFSETTO:-0400
TZNAME:EDT
DTSTART:20220313T070000
END:DAYLIGHT
BEGIN:STANDARD
TZOFFSETFROM:-0400
TZOFFSETTO:-0500
TZNAME:EST
DTSTART:20221106T060000
END:STANDARD
BEGIN:DAYLIGHT
TZOFFSETFROM:-0500
TZOFFSETTO:-0400
TZNAME:EDT
DTSTART:20230312T070000
END:DAYLIGHT
BEGIN:STANDARD
TZOFFSETFROM:-0400
TZOFFSETTO:-0500
TZNAME:EST
DTSTART:20231105T060000
END:STANDARD
BEGIN:DAYLIGHT
TZOFFSETFROM:-0500
TZOFFSETTO:-0400
TZNAME:EDT
DTSTART:20240310T070000
END:DAYLIGHT
BEGIN:STANDARD
TZOFFSETFROM:-0400
TZOFFSETTO:-0500
TZNAME:EST
DTSTART:20241103T060000
END:STANDARD
BEGIN:DAYLIGHT
TZOFFSETFROM:-0500
TZOFFSETTO:-0400
TZNAME:EDT
DTSTART:20250309T070000
END:DAYLIGHT
BEGIN:STANDARD
TZOFFSETFROM:-0400
TZOFFSETTO:-0500
TZNAME:EST
DTSTART:20251102T060000
END:STANDARD
END:VTIMEZONE
BEGIN:VEVENT
DTSTART;TZID=America/New_York:20240115T140000
DTEND;TZID=America/New_York:20240115T150000
DTSTAMP:20260421T161340
CREATED:20240201T222642Z
LAST-MODIFIED:20240201T222642Z
UID:673-1705327200-1705330800@marionsalemchurch.org
SUMMARY:Bible Study
DESCRIPTION:
URL:https://marionsalemchurch.org/event/bible-study-2/
CATEGORIES:Church
END:VEVENT
BEGIN:VEVENT
DTSTART;TZID=America/New_York:20240110T080000
DTEND;TZID=America/New_York:20240110T090000
DTSTAMP:20260421T161340
CREATED:20240201T222554Z
LAST-MODIFIED:20240201T222554Z
UID:671-1704873600-1704877200@marionsalemchurch.org
SUMMARY:Knitting/Craft
DESCRIPTION:January 10\, Knitting/Craft 1pm
URL:https://marionsalemchurch.org/event/knitting-craft/
CATEGORIES:Church
END:VEVENT
BEGIN:VEVENT
DTSTART;TZID=America/New_York:20240109T140000
DTEND;TZID=America/New_York:20240109T150000
DTSTAMP:20260421T161340
CREATED:20240201T222456Z
LAST-MODIFIED:20240201T222456Z
UID:669-1704808800-1704812400@marionsalemchurch.org
SUMMARY:Choir Practice
DESCRIPTION:
URL:https://marionsalemchurch.org/event/choir-practice/
CATEGORIES:Church
END:VEVENT
BEGIN:VEVENT
DTSTART;TZID=America/New_York:20240108T140000
DTEND;TZID=America/New_York:20240108T150000
DTSTAMP:20260421T161340
CREATED:20240201T222351Z
LAST-MODIFIED:20240201T222351Z
UID:667-1704722400-1704726000@marionsalemchurch.org
SUMMARY:Bible Study
DESCRIPTION:
URL:https://marionsalemchurch.org/event/bible-study/
CATEGORIES:Church
END:VEVENT
BEGIN:VEVENT
DTSTART;TZID=America/New_York:20240107T000000
DTEND;TZID=America/New_York:20240107T010000
DTSTAMP:20260421T161340
CREATED:20240201T221728Z
LAST-MODIFIED:20240201T222222Z
UID:654-1704585600-1704589200@marionsalemchurch.org
SUMMARY:Communion
DESCRIPTION:Join us at 10am for our worship and communion service.
URL:https://marionsalemchurch.org/event/communion/
CATEGORIES:Church
END:VEVENT
BEGIN:VEVENT
DTSTART;VALUE=DATE:20231231
DTEND;VALUE=DATE:20240102
DTSTAMP:20260421T161340
CREATED:20240201T221520Z
LAST-MODIFIED:20240201T221520Z
UID:652-1704031200-1704117599@marionsalemchurch.org
SUMMARY:New Year's Day
DESCRIPTION:We want to extend greetings to all of our church members and the hope for a prosperous\, healthy and spiritually awakened New Year!
URL:https://marionsalemchurch.org/event/new-years-day/
CATEGORIES:Holidays
END:VEVENT
END:VCALENDAR