BEGIN:VCALENDAR
VERSION:2.0
PRODID:-//Marion Salem Church - ECPv6.15.20//NONSGML v1.0//EN
CALSCALE:GREGORIAN
METHOD:PUBLISH
X-WR-CALNAME:Marion Salem Church
X-ORIGINAL-URL:https://marionsalemchurch.org
X-WR-CALDESC:Events for Marion Salem Church
REFRESH-INTERVAL;VALUE=DURATION:PT1H
X-Robots-Tag:noindex
X-PUBLISHED-TTL:PT1H
BEGIN:VTIMEZONE
TZID:America/New_York
BEGIN:DAYLIGHT
TZOFFSETFROM:-0500
TZOFFSETTO:-0400
TZNAME:EDT
DTSTART:20230312T070000
END:DAYLIGHT
BEGIN:STANDARD
TZOFFSETFROM:-0400
TZOFFSETTO:-0500
TZNAME:EST
DTSTART:20231105T060000
END:STANDARD
BEGIN:DAYLIGHT
TZOFFSETFROM:-0500
TZOFFSETTO:-0400
TZNAME:EDT
DTSTART:20240310T070000
END:DAYLIGHT
BEGIN:STANDARD
TZOFFSETFROM:-0400
TZOFFSETTO:-0500
TZNAME:EST
DTSTART:20241103T060000
END:STANDARD
BEGIN:DAYLIGHT
TZOFFSETFROM:-0500
TZOFFSETTO:-0400
TZNAME:EDT
DTSTART:20250309T070000
END:DAYLIGHT
BEGIN:STANDARD
TZOFFSETFROM:-0400
TZOFFSETTO:-0500
TZNAME:EST
DTSTART:20251102T060000
END:STANDARD
END:VTIMEZONE
BEGIN:VEVENT
DTSTART;TZID=America/New_York:20240729T183000
DTEND;TZID=America/New_York:20240729T193000
DTSTAMP:20260421T222642
CREATED:20240729T141451Z
LAST-MODIFIED:20240729T141451Z
UID:1263-1722277800-1722281400@marionsalemchurch.org
SUMMARY:Financial/Admin Meeting
DESCRIPTION:
URL:https://marionsalemchurch.org/event/financial-admin-meeting/
CATEGORIES:Church
END:VEVENT
BEGIN:VEVENT
DTSTART;TZID=America/New_York:20240731T190000
DTEND;TZID=America/New_York:20240731T190000
DTSTAMP:20260421T222642
CREATED:20240706T134722Z
LAST-MODIFIED:20240706T134727Z
UID:1238-1722452400-1722452400@marionsalemchurch.org
SUMMARY:Bible Study—Basic Christian Faith
DESCRIPTION:Pastor’s Small Group Class—Basic Christian Faith \nWednesdays 7pm \nJoin Pastor Jason for an engaging time of discussion as we explore basic teachings of Christian Faith. This is a paced study and you can drop in anytime. \nJuly Schedule: \nJuly 3rd: No Study\, Family Holiday \nJuly 10th: No Study\, Ice Cream Social \nJuly 17th: Session 14 \nJuly 24th: Session 15
URL:https://marionsalemchurch.org/event/bible-study-basic-christian-faith-2/
CATEGORIES:Church
END:VEVENT
BEGIN:VEVENT
DTSTART;TZID=America/New_York:20240804T100000
DTEND;TZID=America/New_York:20240804T110000
DTSTAMP:20260421T222642
CREATED:20240729T141552Z
LAST-MODIFIED:20240729T142414Z
UID:1265-1722765600-1722769200@marionsalemchurch.org
SUMMARY:Communion Sunday
DESCRIPTION:
URL:https://marionsalemchurch.org/event/communion-sunday/
CATEGORIES:Church
END:VEVENT
BEGIN:VEVENT
DTSTART;TZID=America/New_York:20240805T160000
DTEND;TZID=America/New_York:20240805T170000
DTSTAMP:20260421T222642
CREATED:20240729T144449Z
LAST-MODIFIED:20240729T144449Z
UID:1288-1722873600-1722877200@marionsalemchurch.org
SUMMARY:Bible Study—The Gospel LIVE!
DESCRIPTION:Discover the Gospel of Matthew in a whole new way with the Visual Bible. This portrayal of Scripture is taken directly from the 1984 New International Version—word for word. Every line of dialogue spoken is either by the narrator (Matthew) or the individuals in Scripture. The screenplay follows the Gospel as closely as possible. We’ll work slowly through the Gospel\, comparing to the other Gospel texts and the rest of the Scripture. We will also explore the historical and cultural elements that the Visual Bible highlights as we dive into Scripture together. \n 
URL:https://marionsalemchurch.org/event/bible-study-the-gospel-live/
CATEGORIES:Church
END:VEVENT
BEGIN:VEVENT
DTSTART;TZID=America/New_York:20240807T130000
DTEND;TZID=America/New_York:20240807T140000
DTSTAMP:20260421T222642
CREATED:20240729T141659Z
LAST-MODIFIED:20240729T141659Z
UID:1267-1723035600-1723039200@marionsalemchurch.org
SUMMARY:Knitting/Craft
DESCRIPTION:Join us! You don’t need to know how to knit; we will teach you. Lots of fun and fellowship.
URL:https://marionsalemchurch.org/event/knitting-craft-7/
CATEGORIES:Church
END:VEVENT
BEGIN:VEVENT
DTSTART;TZID=America/New_York:20240807T190000
DTEND;TZID=America/New_York:20240807T200000
DTSTAMP:20260421T222642
CREATED:20240729T142045Z
LAST-MODIFIED:20240729T143515Z
UID:1275-1723057200-1723060800@marionsalemchurch.org
SUMMARY:Bible Study—Basic Christian Faith
DESCRIPTION:Pastor’s Small Group Class\nBasic Christian Faith \nJoin Pastor Jason for an engaging time of discussion as we explore basic teachings of Christian Faith. This is a paced study and you can drop in anytime. \nAugust 7: Session 17\nAugust 14: Session 18\nAugust 21: Session 19\nAugust 28: Session 20
URL:https://marionsalemchurch.org/event/bible-study-11/
CATEGORIES:Church
END:VEVENT
BEGIN:VEVENT
DTSTART;TZID=America/New_York:20240811T160000
DTEND;TZID=America/New_York:20240811T200000
DTSTAMP:20260421T222642
CREATED:20240729T150151Z
LAST-MODIFIED:20240729T150200Z
UID:1303-1723392000-1723406400@marionsalemchurch.org
SUMMARY:Salem Strivers—Pool Party
DESCRIPTION:There will be a Pool Party for Salem Strivers—youth who are going into 6th grade Fall 2024 up to those who just graduated from 12th grade this past Spring 2024. \nLocation: Jerry and Karen Marquis \nDinner at 7 pm
URL:https://marionsalemchurch.org/event/salem-strivers-pool-party-2/
CATEGORIES:youth
END:VEVENT
BEGIN:VEVENT
DTSTART;TZID=America/New_York:20240812T160000
DTEND;TZID=America/New_York:20240812T170000
DTSTAMP:20260421T222642
CREATED:20240729T144530Z
LAST-MODIFIED:20240729T144530Z
UID:1290-1723478400-1723482000@marionsalemchurch.org
SUMMARY:Bible Study—The Gospel LIVE!
DESCRIPTION:Discover the Gospel of Matthew in a whole new way with the Visual Bible. This portrayal of Scripture is taken directly from the 1984 New International Version—word for word. Every line of dialogue spoken is either by the narrator (Matthew) or the individuals in Scripture. The screenplay follows the Gospel as closely as possible. We’ll work slowly through the Gospel\, comparing to the other Gospel texts and the rest of the Scripture. We will also explore the historical and cultural elements that the Visual Bible highlights as we dive into Scripture together. \n 
URL:https://marionsalemchurch.org/event/bible-study-the-gospel-live-2/
CATEGORIES:Church
END:VEVENT
BEGIN:VEVENT
DTSTART;TZID=America/New_York:20240814T190000
DTEND;TZID=America/New_York:20240814T200000
DTSTAMP:20260421T222642
CREATED:20240729T142127Z
LAST-MODIFIED:20240729T143627Z
UID:1277-1723662000-1723665600@marionsalemchurch.org
SUMMARY:Bible Study—Basic Christian Faith
DESCRIPTION:Pastor’s Small Group Class\nBasic Christian Faith \nJoin Pastor Jason for an engaging time of discussion as we explore basic teachings of Christian Faith. This is a paced study and you can drop in anytime. \nAugust 14: Session 18\nAugust 21: Session 19\nAugust 28: Session 20
URL:https://marionsalemchurch.org/event/bible-study-12/
CATEGORIES:Church
END:VEVENT
BEGIN:VEVENT
DTSTART;TZID=America/New_York:20240819T160000
DTEND;TZID=America/New_York:20240819T170000
DTSTAMP:20260421T222642
CREATED:20240729T144610Z
LAST-MODIFIED:20240729T144610Z
UID:1292-1724083200-1724086800@marionsalemchurch.org
SUMMARY:Bible Study—Gospel LIVE!
DESCRIPTION:Discover the Gospel of Matthew in a whole new way with the Visual Bible. This portrayal of Scripture is taken directly from the 1984 New International Version—word for word. Every line of dialogue spoken is either by the narrator (Matthew) or the individuals in Scripture. The screenplay follows the Gospel as closely as possible. We’ll work slowly through the Gospel\, comparing to the other Gospel texts and the rest of the Scripture. We will also explore the historical and cultural elements that the Visual Bible highlights as we dive into Scripture together. \n 
URL:https://marionsalemchurch.org/event/bible-study-gospel-live-3/
CATEGORIES:Church
END:VEVENT
BEGIN:VEVENT
DTSTART;TZID=America/New_York:20240821T190000
DTEND;TZID=America/New_York:20240821T200000
DTSTAMP:20260421T222642
CREATED:20240729T142203Z
LAST-MODIFIED:20240729T143712Z
UID:1279-1724266800-1724270400@marionsalemchurch.org
SUMMARY:Bible Study—Basic Christian Faith
DESCRIPTION:Pastor’s Small Group Class\nBasic Christian Faith \nJoin Pastor Jason for an engaging time of discussion as we explore basic teachings of Christian Faith. This is a paced study and you can drop in anytime.\nAugust 21: Session 19\nAugust 28: Session 20
URL:https://marionsalemchurch.org/event/bible-study-13/
CATEGORIES:Church
END:VEVENT
BEGIN:VEVENT
DTSTART;TZID=America/New_York:20240825T100000
DTEND;TZID=America/New_York:20240825T120000
DTSTAMP:20260421T222642
CREATED:20240729T145225Z
LAST-MODIFIED:20240729T145308Z
UID:1299-1724580000-1724587200@marionsalemchurch.org
SUMMARY:New Members Sunday
DESCRIPTION:New members will be welcomed to Salem Church.\nA fellowship meal will follow worship. \nPlease bring a dish or dessert to share. Drinks and tableware will be provided.
URL:https://marionsalemchurch.org/event/new-members-sunday/
CATEGORIES:Church
END:VEVENT
BEGIN:VEVENT
DTSTART;TZID=America/New_York:20240826T160000
DTEND;TZID=America/New_York:20240826T170000
DTSTAMP:20260421T222642
CREATED:20240729T144650Z
LAST-MODIFIED:20240729T144650Z
UID:1294-1724688000-1724691600@marionsalemchurch.org
SUMMARY:Bible Study—The Gospel LIVE!
DESCRIPTION:Discover the Gospel of Matthew in a whole new way with the Visual Bible. This portrayal of Scripture is taken directly from the 1984 New International Version—word for word. Every line of dialogue spoken is either by the narrator (Matthew) or the individuals in Scripture. The screenplay follows the Gospel as closely as possible. We’ll work slowly through the Gospel\, comparing to the other Gospel texts and the rest of the Scripture. We will also explore the historical and cultural elements that the Visual Bible highlights as we dive into Scripture together.  \n 
URL:https://marionsalemchurch.org/event/bible-study-the-gospel-live-3/
CATEGORIES:Church
END:VEVENT
BEGIN:VEVENT
DTSTART;TZID=America/New_York:20240828T190000
DTEND;TZID=America/New_York:20240828T200000
DTSTAMP:20260421T222642
CREATED:20240729T142242Z
LAST-MODIFIED:20240729T143942Z
UID:1281-1724871600-1724875200@marionsalemchurch.org
SUMMARY:Bible Study—Basic Christian Faith
DESCRIPTION:Pastor’s Small Group Class\nBasic Christian Faith \nJoin Pastor Jason for an engaging time of discussion as we explore basic teachings of Christian Faith. This is a paced study and you can drop in anytime.
URL:https://marionsalemchurch.org/event/1281/
CATEGORIES:Church
END:VEVENT
BEGIN:VEVENT
DTSTART;TZID=America/New_York:20240909T160000
DTEND;TZID=America/New_York:20240909T170000
DTSTAMP:20260421T222642
CREATED:20240909T170546Z
LAST-MODIFIED:20240909T170546Z
UID:1372-1725897600-1725901200@marionsalemchurch.org
SUMMARY:Bible Study—Gospel LIVE!
DESCRIPTION:Discover the Gospel of Matthew in a whole new way with the Visual Bible. This portrayal of Scripture is taken directly from the 1984 New International Version\, word for word. Every line of dialogue spoken is either by the narrator (Matthew) or the individuals in Scripture. The screenplay follows the Gospel as closely as possible. We’ll work slowly through the Gospel\, comparing to the other Gospel texts and the rest of Scripture. We will also explore the historical and cultural elements that the Visual Bible highlights as we dive into Scripture together.
URL:https://marionsalemchurch.org/event/bible-study-gospel-live-4/
CATEGORIES:Church
END:VEVENT
BEGIN:VEVENT
DTSTART;TZID=America/New_York:20240910T190000
DTEND;TZID=America/New_York:20240910T200000
DTSTAMP:20260421T222642
CREATED:20240909T171932Z
LAST-MODIFIED:20240909T172008Z
UID:1383-1725994800-1725998400@marionsalemchurch.org
SUMMARY:Choir Practice
DESCRIPTION:Salem Singers: Meet in the choir room beside the office. All are welcome!
URL:https://marionsalemchurch.org/event/choir-practice-11/
CATEGORIES:Church
ATTACH;FMTTYPE=image/png:https://marionsalemchurch.org/wp-content/uploads/2024/09/Screenshot-2024-09-09-at-1.18.31-PM.png
END:VEVENT
BEGIN:VEVENT
DTSTART;TZID=America/New_York:20240911T130000
DTEND;TZID=America/New_York:20240911T140000
DTSTAMP:20260421T222642
CREATED:20240909T172303Z
LAST-MODIFIED:20240909T173614Z
UID:1386-1726059600-1726063200@marionsalemchurch.org
SUMMARY:Knitting/Crafting
DESCRIPTION:
URL:https://marionsalemchurch.org/event/knitting-craft-8/
CATEGORIES:Church
ATTACH;FMTTYPE=image/png:https://marionsalemchurch.org/wp-content/uploads/2024/09/Screenshot-2024-09-09-at-1.22.36-PM.png
END:VEVENT
BEGIN:VEVENT
DTSTART;TZID=America/New_York:20240911T190000
DTEND;TZID=America/New_York:20240911T200000
DTSTAMP:20260421T222642
CREATED:20240909T165758Z
LAST-MODIFIED:20240909T165758Z
UID:1363-1726081200-1726084800@marionsalemchurch.org
SUMMARY:Basic Christian Faith Bible Study
DESCRIPTION:Join Pastor Jason for an engaging time of discussion as we explore basic teachings of Christian Faith. This is a paced study and you can drop in anytime.
URL:https://marionsalemchurch.org/event/basic-christian-faith-bible-study/
CATEGORIES:Church
ATTACH;FMTTYPE=image/png:https://marionsalemchurch.org/wp-content/uploads/2024/09/Screenshot-2024-09-09-at-12.57.03-PM.png
END:VEVENT
BEGIN:VEVENT
DTSTART;TZID=America/New_York:20240912T180000
DTEND;TZID=America/New_York:20240912T190000
DTSTAMP:20260421T222642
CREATED:20240909T173036Z
LAST-MODIFIED:20240909T173036Z
UID:1397-1726164000-1726167600@marionsalemchurch.org
SUMMARY:Trustees Meeting
DESCRIPTION:
URL:https://marionsalemchurch.org/event/trustees-meeting/
CATEGORIES:Church
END:VEVENT
BEGIN:VEVENT
DTSTART;TZID=America/New_York:20240915T100000
DTEND;TZID=America/New_York:20240915T110000
DTSTAMP:20260421T222642
CREATED:20240729T144940Z
LAST-MODIFIED:20240909T165247Z
UID:1297-1726394400-1726398000@marionsalemchurch.org
SUMMARY:Back to Church Sunday
DESCRIPTION:Mark your calendars. Who will you invite?
URL:https://marionsalemchurch.org/event/back-to-church-sunday/
CATEGORIES:Church
ATTACH;FMTTYPE=image/png:https://marionsalemchurch.org/wp-content/uploads/2024/07/Screenshot-2024-09-09-at-12.35.22-PM.png
END:VEVENT
BEGIN:VEVENT
DTSTART;TZID=America/New_York:20240915T183000
DTEND;TZID=America/New_York:20240915T200000
DTSTAMP:20260421T222642
CREATED:20240909T173205Z
LAST-MODIFIED:20240909T173205Z
UID:1399-1726425000-1726430400@marionsalemchurch.org
SUMMARY:Youth Group
DESCRIPTION:Salem Strivers\, our youth group\, will meet.
URL:https://marionsalemchurch.org/event/youth-group/
CATEGORIES:youth
ATTACH;FMTTYPE=image/png:https://marionsalemchurch.org/wp-content/uploads/2024/09/Screenshot-2024-09-09-at-1.16.17-PM.png
END:VEVENT
BEGIN:VEVENT
DTSTART;TZID=America/New_York:20240916T160000
DTEND;TZID=America/New_York:20240916T170000
DTSTAMP:20260421T222642
CREATED:20240909T170646Z
LAST-MODIFIED:20240909T170646Z
UID:1374-1726502400-1726506000@marionsalemchurch.org
SUMMARY:Bible Study—The Gospel LIVE!
DESCRIPTION:Discover the Gospel of Matthew in a whole new way with the Visual Bible. This portrayal of Scripture is taken directly from the 1984 New International Version\, word for word. Every line of dialogue spoken is either by the narrator (Matthew) or the individuals in Scripture. The screenplay follows the Gospel as closely as possible. We’ll work slowly through the Gospel\, comparing to the other Gospel texts and the rest of Scripture. We will also explore the historical and cultural elements that the Visual Bible highlights as we dive into Scripture together.
URL:https://marionsalemchurch.org/event/bible-study-the-gospel-live-4/
CATEGORIES:Church
END:VEVENT
BEGIN:VEVENT
DTSTART;TZID=America/New_York:20240918T130000
DTEND;TZID=America/New_York:20240918T140000
DTSTAMP:20260421T222642
CREATED:20240909T172402Z
LAST-MODIFIED:20240909T172402Z
UID:1389-1726664400-1726668000@marionsalemchurch.org
SUMMARY:Knitting/Crafting
DESCRIPTION:
URL:https://marionsalemchurch.org/event/knitting-crafting-2/
CATEGORIES:Church
ATTACH;FMTTYPE=image/png:https://marionsalemchurch.org/wp-content/uploads/2024/09/Screenshot-2024-09-09-at-1.22.36-PM.png
END:VEVENT
BEGIN:VEVENT
DTSTART;TZID=America/New_York:20240918T190000
DTEND;TZID=America/New_York:20240918T200000
DTSTAMP:20260421T222642
CREATED:20240909T165929Z
LAST-MODIFIED:20240909T165929Z
UID:1366-1726686000-1726689600@marionsalemchurch.org
SUMMARY:Basic Christian Faith Bible Study
DESCRIPTION:Join Pastor Jason for an engaging time of discussion as we explore basic teachings of Christian Faith. This is a paced study and you can drop in anytime.
URL:https://marionsalemchurch.org/event/basic-christian-faith-bible-study-2/
CATEGORIES:Church
ATTACH;FMTTYPE=image/png:https://marionsalemchurch.org/wp-content/uploads/2024/09/Screenshot-2024-09-09-at-12.57.03-PM-1.png
END:VEVENT
BEGIN:VEVENT
DTSTART;TZID=America/New_York:20240922T183000
DTEND;TZID=America/New_York:20240922T200000
DTSTAMP:20260421T222642
CREATED:20240909T173320Z
LAST-MODIFIED:20240909T173320Z
UID:1402-1727029800-1727035200@marionsalemchurch.org
SUMMARY:Youth Group
DESCRIPTION:Salem Strivers\, our youth group\, will meet.
URL:https://marionsalemchurch.org/event/youth-group-2/
CATEGORIES:youth
ATTACH;FMTTYPE=image/png:https://marionsalemchurch.org/wp-content/uploads/2024/09/Screenshot-2024-09-09-at-1.16.17-PM-1.png
END:VEVENT
BEGIN:VEVENT
DTSTART;TZID=America/New_York:20240923T160000
DTEND;TZID=America/New_York:20240923T170000
DTSTAMP:20260421T222642
CREATED:20240909T170733Z
LAST-MODIFIED:20240909T170733Z
UID:1376-1727107200-1727110800@marionsalemchurch.org
SUMMARY:Bible Study—The Gospel LIVE!
DESCRIPTION:Discover the Gospel of Matthew in a whole new way with the Visual Bible. This portrayal of Scripture is taken directly from the 1984 New International Version\, word for word. Every line of dialogue spoken is either by the narrator (Matthew) or the individuals in Scripture. The screenplay follows the Gospel as closely as possible. We’ll work slowly through the Gospel\, comparing to the other Gospel texts and the rest of Scripture. We will also explore the historical and cultural elements that the Visual Bible highlights as we dive into Scripture together.
URL:https://marionsalemchurch.org/event/bible-study-the-gospel-live-5/
CATEGORIES:Church
END:VEVENT
BEGIN:VEVENT
DTSTART;TZID=America/New_York:20240925T120000
DTEND;TZID=America/New_York:20240925T140000
DTSTAMP:20260421T222643
CREATED:20240909T164503Z
LAST-MODIFIED:20240909T164503Z
UID:1355-1727265600-1727272800@marionsalemchurch.org
SUMMARY:Senior Lunch
DESCRIPTION:Seniors! Join us for lunch at Noon\, Wednesday\, September 25. \nMenu: Mexican \nCome join the fun\, come see what’s going on!
URL:https://marionsalemchurch.org/event/senior-lunch-3/
CATEGORIES:seniors
ATTACH;FMTTYPE=image/png:https://marionsalemchurch.org/wp-content/uploads/2024/09/Screenshot-2024-09-09-at-12.44.37-PM.png
END:VEVENT
BEGIN:VEVENT
DTSTART;TZID=America/New_York:20240925T130000
DTEND;TZID=America/New_York:20240925T140000
DTSTAMP:20260421T222643
CREATED:20240909T172940Z
LAST-MODIFIED:20240909T172940Z
UID:1394-1727269200-1727272800@marionsalemchurch.org
SUMMARY:Knitting/Crafting
DESCRIPTION:
URL:https://marionsalemchurch.org/event/knitting-crafting-4/
ATTACH;FMTTYPE=image/jpeg:https://marionsalemchurch.org/wp-content/uploads/2024/09/yarn.jpg
END:VEVENT
BEGIN:VEVENT
DTSTART;TZID=America/New_York:20240925T190000
DTEND;TZID=America/New_York:20240925T200000
DTSTAMP:20260421T222643
CREATED:20240909T170039Z
LAST-MODIFIED:20240909T170039Z
UID:1369-1727290800-1727294400@marionsalemchurch.org
SUMMARY:Basic Christian Faith Bible Study
DESCRIPTION:Join Pastor Jason for an engaging time of discussion as we explore basic teachings of Christian Faith. This is a paced study and you can drop in anytime.
URL:https://marionsalemchurch.org/event/basic-christian-faith-bible-study-3/
CATEGORIES:Church
ATTACH;FMTTYPE=image/png:https://marionsalemchurch.org/wp-content/uploads/2024/09/Screenshot-2024-09-09-at-12.57.03-PM-2.png
END:VEVENT
BEGIN:VEVENT
DTSTART;TZID=America/New_York:20240929T113000
DTEND;TZID=America/New_York:20240929T120000
DTSTAMP:20260421T222643
CREATED:20240909T165204Z
LAST-MODIFIED:20240909T165204Z
UID:1358-1727609400-1727611200@marionsalemchurch.org
SUMMARY:Peanut Butter Sandwich Making
DESCRIPTION:Join us to make sandwiches for the Peanut Butter Jelly Truck. We will meet right after church Sept. 29 in the kitchen.\n\nPeanut Butter Jelly Truck is part of the Luke 3?11 Ministries in Marion\n\nOur mission is to share our extra food with the hungry\, so our family bought an antique ice cream truck to facilitate the distribution of free peanut butter jelly sandwiches to Marion\, Ohio.We now have at least one of our 3 PBJ Trucks out in some part of Marion every afternoon of the week\, and served over 36\,000+ meals in 2024. \n\nLuke 3:11\nOur ministry is committed to showing God’s love to the world. Experience God through serving our neighbors together with us!
URL:https://marionsalemchurch.org/event/peanut-butter-sandwich-making-2/
CATEGORIES:Church
ATTACH;FMTTYPE=image/png:https://marionsalemchurch.org/wp-content/uploads/2024/09/Screenshot-2024-09-09-at-12.45.55-PM.png
END:VEVENT
END:VCALENDAR