BEGIN:VCALENDAR
VERSION:2.0
PRODID:-//Marion Salem Church - ECPv6.15.20//NONSGML v1.0//EN
CALSCALE:GREGORIAN
METHOD:PUBLISH
X-ORIGINAL-URL:https://marionsalemchurch.org
X-WR-CALDESC:Events for Marion Salem Church
REFRESH-INTERVAL;VALUE=DURATION:PT1H
X-Robots-Tag:noindex
X-PUBLISHED-TTL:PT1H
BEGIN:VTIMEZONE
TZID:America/New_York
BEGIN:DAYLIGHT
TZOFFSETFROM:-0500
TZOFFSETTO:-0400
TZNAME:EDT
DTSTART:20230312T070000
END:DAYLIGHT
BEGIN:STANDARD
TZOFFSETFROM:-0400
TZOFFSETTO:-0500
TZNAME:EST
DTSTART:20231105T060000
END:STANDARD
BEGIN:DAYLIGHT
TZOFFSETFROM:-0500
TZOFFSETTO:-0400
TZNAME:EDT
DTSTART:20240310T070000
END:DAYLIGHT
BEGIN:STANDARD
TZOFFSETFROM:-0400
TZOFFSETTO:-0500
TZNAME:EST
DTSTART:20241103T060000
END:STANDARD
BEGIN:DAYLIGHT
TZOFFSETFROM:-0500
TZOFFSETTO:-0400
TZNAME:EDT
DTSTART:20250309T070000
END:DAYLIGHT
BEGIN:STANDARD
TZOFFSETFROM:-0400
TZOFFSETTO:-0500
TZNAME:EST
DTSTART:20251102T060000
END:STANDARD
END:VTIMEZONE
BEGIN:VEVENT
DTSTART;TZID=America/New_York:20241028T183000
DTEND;TZID=America/New_York:20241028T190000
DTSTAMP:20260421T193256
CREATED:20240929T202601Z
LAST-MODIFIED:20240929T202601Z
UID:1454-1730140200-1730142000@marionsalemchurch.org
SUMMARY:Finance Meeting
DESCRIPTION:
URL:https://marionsalemchurch.org/event/finance-meeting/
CATEGORIES:Church
END:VEVENT
BEGIN:VEVENT
DTSTART;TZID=America/New_York:20241028T190000
DTEND;TZID=America/New_York:20241028T200000
DTSTAMP:20260421T193256
CREATED:20240929T202632Z
LAST-MODIFIED:20240929T202632Z
UID:1456-1730142000-1730145600@marionsalemchurch.org
SUMMARY:Ad Council Meeting
DESCRIPTION:
URL:https://marionsalemchurch.org/event/ad-council-meeting-2/
CATEGORIES:Church
END:VEVENT
BEGIN:VEVENT
DTSTART;TZID=America/New_York:20241030T120000
DTEND;TZID=America/New_York:20241030T130000
DTSTAMP:20260421T193256
CREATED:20240929T202112Z
LAST-MODIFIED:20240929T203436Z
UID:1446-1730289600-1730293200@marionsalemchurch.org
SUMMARY:Senior Lunch
DESCRIPTION:Join us for fellowship and lunch. \nMenu: Potluck
URL:https://marionsalemchurch.org/event/senior-lunch-4/
CATEGORIES:seniors
END:VEVENT
BEGIN:VEVENT
DTSTART;TZID=America/New_York:20241103T100000
DTEND;TZID=America/New_York:20241103T230000
DTSTAMP:20260421T193256
CREATED:20241030T151515Z
LAST-MODIFIED:20241030T151515Z
UID:1509-1730628000-1730674800@marionsalemchurch.org
SUMMARY:All Saints Sunday
DESCRIPTION:We will be observing All Saints Sunday on Sun. Nov. 3rd. All members who have passed in the last year will be recognized. In addition\, anyone who has lost a loved one since November 1st last year is welcome to send name\, date of passing\, and a picture to Pastor Jason to include in the memorial during worship that day.
URL:https://marionsalemchurch.org/event/all-saints-sunday/
CATEGORIES:Church
ATTACH;FMTTYPE=image/png:https://marionsalemchurch.org/wp-content/uploads/2024/10/Screenshot-2024-10-30-at-11.10.55-AM.png
END:VEVENT
BEGIN:VEVENT
DTSTART;TZID=America/New_York:20241103T183000
DTEND;TZID=America/New_York:20241103T200000
DTSTAMP:20260421T193256
CREATED:20241030T154858Z
LAST-MODIFIED:20241030T154858Z
UID:1539-1730658600-1730664000@marionsalemchurch.org
SUMMARY:Youth Group
DESCRIPTION:The Strivers Youth Group meets Sunday Evenings for activities and snacks. \nStrive for peace with everyone\, and for the holiness without which no one will see the Lord. Hebrews 12:14 \n 
URL:https://marionsalemchurch.org/event/youth-group-5/
CATEGORIES:youth
ATTACH;FMTTYPE=image/png:https://marionsalemchurch.org/wp-content/uploads/2024/09/Screenshot-2024-09-09-at-1.16.17-PM-1.png
END:VEVENT
BEGIN:VEVENT
DTSTART;TZID=America/New_York:20241104T160000
DTEND;TZID=America/New_York:20241104T170000
DTSTAMP:20260421T193256
CREATED:20241030T152708Z
LAST-MODIFIED:20241030T152708Z
UID:1522-1730736000-1730739600@marionsalemchurch.org
SUMMARY:The Gospel LIVE! Visual Bible Study
DESCRIPTION:Discover the Gospel of Matthew in a whole new way with the Visual Bible. This portrayal of Scripture is taken directly from the 1984 New International Version\, word for word. Every line of dialogue spoken is either by the narrator (Matthew) or the individuals in Scripture. The screenplay follows the Gospel as closely as possible. We’ll work slowly through the Gospel\, comparing to the other Gospel texts and the rest of Scripture. We will also explore the historical and cultural elements that the Visual Bible highlights as we dive into Scripture together. \nIn observance of Veteran’s Day\, no study 11/11.
URL:https://marionsalemchurch.org/event/the-gospel-live-visual-bible-study/
CATEGORIES:Church
END:VEVENT
BEGIN:VEVENT
DTSTART;TZID=America/New_York:20241106T130000
DTEND;TZID=America/New_York:20241106T143000
DTSTAMP:20260421T193256
CREATED:20241030T153657Z
LAST-MODIFIED:20241030T154300Z
UID:1529-1730898000-1730903400@marionsalemchurch.org
SUMMARY:Knitting/Crafting
DESCRIPTION:Join us for Knitting/Crafting and fellowship. \nYou do not need to know how to knit\, just come! \n 
URL:https://marionsalemchurch.org/event/knitting-crafting-8/
CATEGORIES:Church
ATTACH;FMTTYPE=image/jpeg:https://marionsalemchurch.org/wp-content/uploads/2024/09/yarn.jpg
END:VEVENT
BEGIN:VEVENT
DTSTART;TZID=America/New_York:20241106T190000
DTEND;TZID=America/New_York:20241106T200000
DTSTAMP:20260421T193256
CREATED:20241030T152102Z
LAST-MODIFIED:20241030T152102Z
UID:1514-1730919600-1730923200@marionsalemchurch.org
SUMMARY:Basic Christian Faith Bible Study
DESCRIPTION:Join Pastor Jason for an engaging time of discussion as we explore basic teachings of Christian Faith. This is a paced study and you can drop in anytime. \nNo Study 11/27.
URL:https://marionsalemchurch.org/event/basic-christian-faith-bible-study-6/
CATEGORIES:Church
END:VEVENT
BEGIN:VEVENT
DTSTART;TZID=America/New_York:20241110T183000
DTEND;TZID=America/New_York:20241110T200000
DTSTAMP:20260421T193256
CREATED:20241030T154939Z
LAST-MODIFIED:20241030T154939Z
UID:1541-1731263400-1731268800@marionsalemchurch.org
SUMMARY:Youth Group
DESCRIPTION:The Strivers Youth Group meets Sunday Evenings for activities and snacks. \nStrive for peace with everyone\, and for the holiness without which no one will see the Lord. Hebrews 12:14 \n 
URL:https://marionsalemchurch.org/event/youth-group-5-2/
CATEGORIES:youth
ATTACH;FMTTYPE=image/png:https://marionsalemchurch.org/wp-content/uploads/2024/09/Screenshot-2024-09-09-at-1.16.17-PM-1.png
END:VEVENT
BEGIN:VEVENT
DTSTART;TZID=America/New_York:20241113T130000
DTEND;TZID=America/New_York:20241113T143000
DTSTAMP:20260421T193256
CREATED:20241030T153753Z
LAST-MODIFIED:20241030T154202Z
UID:1531-1731502800-1731508200@marionsalemchurch.org
SUMMARY:Knitting/Crafting
DESCRIPTION:Join us for Knitting/Crafting and fellowship. \nYou do not need to know how to knit\, just come! \n 
URL:https://marionsalemchurch.org/event/knitting-crafting-8-2/
CATEGORIES:Church
ATTACH;FMTTYPE=image/jpeg:https://marionsalemchurch.org/wp-content/uploads/2024/09/yarn.jpg
END:VEVENT
BEGIN:VEVENT
DTSTART;TZID=America/New_York:20241113T190000
DTEND;TZID=America/New_York:20241113T200000
DTSTAMP:20260421T193256
CREATED:20241030T152200Z
LAST-MODIFIED:20241030T152200Z
UID:1516-1731524400-1731528000@marionsalemchurch.org
SUMMARY:Basic Christian Faith Bible Study
DESCRIPTION:Join Pastor Jason for an engaging time of discussion as we explore basic teachings of Christian Faith. This is a paced study and you can drop in anytime. \nNo Study 11/27.
URL:https://marionsalemchurch.org/event/basic-christian-faith-bible-study-6-2/
CATEGORIES:Church
END:VEVENT
BEGIN:VEVENT
DTSTART;TZID=America/New_York:20241117T110000
DTEND;TZID=America/New_York:20241117T120000
DTSTAMP:20260421T193256
CREATED:20241030T152516Z
LAST-MODIFIED:20241030T152531Z
UID:1520-1731841200-1731844800@marionsalemchurch.org
SUMMARY:All Thanksgiving Dinner
DESCRIPTION:Join us for our All Church Thanksgiving Dinner following worship. \nThank you to the Genesis Sunday School Class for providing the turkey and potatoes while we complete the meal with sides and desserts! \nAll are welcome!
URL:https://marionsalemchurch.org/event/all-thanksgiving-dinner/
CATEGORIES:Church
END:VEVENT
BEGIN:VEVENT
DTSTART;TZID=America/New_York:20241117T183000
DTEND;TZID=America/New_York:20241117T200000
DTSTAMP:20260421T193256
CREATED:20241030T155020Z
LAST-MODIFIED:20241030T155020Z
UID:1543-1731868200-1731873600@marionsalemchurch.org
SUMMARY:Youth Group
DESCRIPTION:The Strivers Youth Group meets Sunday Evenings for activities and snacks. \nStrive for peace with everyone\, and for the holiness without which no one will see the Lord. Hebrews 12:14 \n 
URL:https://marionsalemchurch.org/event/youth-group-5-2-2/
CATEGORIES:youth
ATTACH;FMTTYPE=image/png:https://marionsalemchurch.org/wp-content/uploads/2024/09/Screenshot-2024-09-09-at-1.16.17-PM-1.png
END:VEVENT
BEGIN:VEVENT
DTSTART;TZID=America/New_York:20241118T160000
DTEND;TZID=America/New_York:20241118T170000
DTSTAMP:20260421T193256
CREATED:20241030T152835Z
LAST-MODIFIED:20241030T152835Z
UID:1525-1731945600-1731949200@marionsalemchurch.org
SUMMARY:The Gospel LIVE! Visual Bible Study
DESCRIPTION:Discover the Gospel of Matthew in a whole new way with the Visual Bible. This portrayal of Scripture is taken directly from the 1984 New International Version\, word for word. Every line of dialogue spoken is either by the narrator (Matthew) or the individuals in Scripture. The screenplay follows the Gospel as closely as possible. We’ll work slowly through the Gospel\, comparing to the other Gospel texts and the rest of Scripture. We will also explore the historical and cultural elements that the Visual Bible highlights as we dive into Scripture together. \nIn observance of Veteran’s Day\, no study 11/11.
URL:https://marionsalemchurch.org/event/the-gospel-live-visual-bible-study-2/
CATEGORIES:Church
END:VEVENT
BEGIN:VEVENT
DTSTART;TZID=America/New_York:20241120T120000
DTEND;TZID=America/New_York:20241120T130000
DTSTAMP:20260421T193256
CREATED:20241030T154429Z
LAST-MODIFIED:20241119T192417Z
UID:1537-1732104000-1732107600@marionsalemchurch.org
SUMMARY:Senior Lunch Cancelled
DESCRIPTION:Event is Cancelled. \nJoin us for the Monthly Senior Luncheon.  \nIt is great good food and fellowship!
URL:https://marionsalemchurch.org/event/senior-lunch-5/
CATEGORIES:seniors
END:VEVENT
BEGIN:VEVENT
DTSTART;TZID=America/New_York:20241120T130000
DTEND;TZID=America/New_York:20241120T143000
DTSTAMP:20260421T193256
CREATED:20241030T153907Z
LAST-MODIFIED:20241030T155204Z
UID:1533-1732107600-1732113000@marionsalemchurch.org
SUMMARY:Knitting/Crafting
DESCRIPTION:Join us for Knitting/Crafting and fellowship. \nYou do not need to know how to knit\, just come! \n 
URL:https://marionsalemchurch.org/event/knitting-crafting-8-2-2/
CATEGORIES:Church
ATTACH;FMTTYPE=image/jpeg:https://marionsalemchurch.org/wp-content/uploads/2024/09/yarn.jpg
END:VEVENT
BEGIN:VEVENT
DTSTART;TZID=America/New_York:20241120T190000
DTEND;TZID=America/New_York:20241120T200000
DTSTAMP:20260421T193256
CREATED:20241030T155135Z
LAST-MODIFIED:20241030T155135Z
UID:1524-1732129200-1732132800@marionsalemchurch.org
SUMMARY:Basic Christian Faith Bible Study
DESCRIPTION:Join Pastor Jason for an engaging time of discussion as we explore basic teachings of Christian Faith. This is a paced study and you can drop in anytime. \nNo Study 11/27.
URL:https://marionsalemchurch.org/event/basic-christian-faith-bible-study-6-2-2-2/
CATEGORIES:Church
END:VEVENT
BEGIN:VEVENT
DTSTART;TZID=America/New_York:20241124T183000
DTEND;TZID=America/New_York:20241124T200000
DTSTAMP:20260421T193256
CREATED:20241030T155053Z
LAST-MODIFIED:20241030T155053Z
UID:1545-1732473000-1732478400@marionsalemchurch.org
SUMMARY:Youth Group
DESCRIPTION:The Strivers Youth Group meets Sunday Evenings for activities and snacks. \nStrive for peace with everyone\, and for the holiness without which no one will see the Lord. Hebrews 12:14 \n 
URL:https://marionsalemchurch.org/event/youth-group-5-2-2-2/
CATEGORIES:youth
ATTACH;FMTTYPE=image/png:https://marionsalemchurch.org/wp-content/uploads/2024/09/Screenshot-2024-09-09-at-1.16.17-PM-1.png
END:VEVENT
BEGIN:VEVENT
DTSTART;TZID=America/New_York:20241125T160000
DTEND;TZID=America/New_York:20241125T170000
DTSTAMP:20260421T193256
CREATED:20241030T152931Z
LAST-MODIFIED:20241030T152931Z
UID:1527-1732550400-1732554000@marionsalemchurch.org
SUMMARY:The Gospel LIVE! Visual Bible Study
DESCRIPTION:Discover the Gospel of Matthew in a whole new way with the Visual Bible. This portrayal of Scripture is taken directly from the 1984 New International Version\, word for word. Every line of dialogue spoken is either by the narrator (Matthew) or the individuals in Scripture. The screenplay follows the Gospel as closely as possible. We’ll work slowly through the Gospel\, comparing to the other Gospel texts and the rest of Scripture. We will also explore the historical and cultural elements that the Visual Bible highlights as we dive into Scripture together. \nIn observance of Veteran’s Day\, no study 11/11.
URL:https://marionsalemchurch.org/event/the-gospel-live-visual-bible-study-2-2/
CATEGORIES:Church
END:VEVENT
BEGIN:VEVENT
DTSTART;TZID=America/New_York:20241127T130000
DTEND;TZID=America/New_York:20241127T143000
DTSTAMP:20260421T193256
CREATED:20241030T153948Z
LAST-MODIFIED:20241030T154029Z
UID:1535-1732712400-1732717800@marionsalemchurch.org
SUMMARY:Knitting/Crafting
DESCRIPTION:Join us for Knitting/Crafting and fellowship. \nYou do not need to know how to knit\, just come! \n 
URL:https://marionsalemchurch.org/event/knitting-crafting-8-2-2-2/
CATEGORIES:Church
ATTACH;FMTTYPE=image/jpeg:https://marionsalemchurch.org/wp-content/uploads/2024/09/yarn.jpg
END:VEVENT
BEGIN:VEVENT
DTSTART;TZID=America/New_York:20241201T063000
DTEND;TZID=America/New_York:20241201T200000
DTSTAMP:20260421T193256
CREATED:20241202T135735Z
LAST-MODIFIED:20241202T135735Z
UID:1612-1733034600-1733083200@marionsalemchurch.org
SUMMARY:Strivers on Location!
DESCRIPTION:Salem Strivers Youth Group will be at Tony and Charisse Smith’s\, \nPlease join us at 5703 County Rd 66\, Edison\, OH 43320. 
URL:https://marionsalemchurch.org/event/strivers-on-location/
CATEGORIES:youth
ATTACH;FMTTYPE=image/png:https://marionsalemchurch.org/wp-content/uploads/2024/12/Screenshot-2024-12-02-at-8.56.29-AM.png
END:VEVENT
BEGIN:VEVENT
DTSTART;TZID=America/New_York:20241202T160000
DTEND;TZID=America/New_York:20241202T170000
DTSTAMP:20260421T193256
CREATED:20241202T132833Z
LAST-MODIFIED:20241202T132833Z
UID:1584-1733155200-1733158800@marionsalemchurch.org
SUMMARY:Gospel LIVE!
DESCRIPTION:Discover the Gospel of Matthew in a whole new way with the Visual Bible. This portrayal of Scripture is taken directly from the 1984 New International Version\, word for word. Every line of dialogue spoken is either by the narrator (Matthew) or the individuals in Scripture. The screenplay follows the Gospel as closely as possible. We’ll work slowly through the Gospel\, comparing to the other Gospel texts and the rest of Scripture. We will also explore the historical and cultural elements that the Visual Bible highlights as we dive into Scripture together.  \nNo study 12/23 or 30. 
URL:https://marionsalemchurch.org/event/gospel-live/
CATEGORIES:Church
END:VEVENT
BEGIN:VEVENT
DTSTART;TZID=America/New_York:20241204T130000
DTEND;TZID=America/New_York:20241204T143000
DTSTAMP:20260421T193256
CREATED:20241202T140408Z
LAST-MODIFIED:20241202T140408Z
UID:1619-1733317200-1733322600@marionsalemchurch.org
SUMMARY:Knitting/Crafting
DESCRIPTION:Join us for knitting and fellowship!
URL:https://marionsalemchurch.org/event/knitting-crafting-9/
CATEGORIES:Church
ATTACH;FMTTYPE=image/jpeg:https://marionsalemchurch.org/wp-content/uploads/2024/09/yarn.jpg
END:VEVENT
BEGIN:VEVENT
DTSTART;TZID=America/New_York:20241204T190000
DTEND;TZID=America/New_York:20241204T200000
DTSTAMP:20260421T193256
CREATED:20241202T132407Z
LAST-MODIFIED:20241202T132407Z
UID:1577-1733338800-1733342400@marionsalemchurch.org
SUMMARY:Basic Christian Faith Bible Study
DESCRIPTION:Join Pastor Jason for an engaging time of discussion as we explore basic teachings of Christian Faith.  \nThis is a paced study and you can drop in anytime.  \nNo Study 12/25 or 1/1. 
URL:https://marionsalemchurch.org/event/basic-christian-faith-bible-study-7/
CATEGORIES:Church
ATTACH;FMTTYPE=image/png:https://marionsalemchurch.org/wp-content/uploads/2024/09/Screenshot-2024-09-09-at-12.57.03-PM-2.png
END:VEVENT
BEGIN:VEVENT
DTSTART;TZID=America/New_York:20241209T160000
DTEND;TZID=America/New_York:20241209T170000
DTSTAMP:20260421T193256
CREATED:20241202T132909Z
LAST-MODIFIED:20241202T132909Z
UID:1586-1733760000-1733763600@marionsalemchurch.org
SUMMARY:Gospel LIVE!
DESCRIPTION:Discover the Gospel of Matthew in a whole new way with the Visual Bible. This portrayal of Scripture is taken directly from the 1984 New International Version\, word for word. Every line of dialogue spoken is either by the narrator (Matthew) or the individuals in Scripture. The screenplay follows the Gospel as closely as possible. We’ll work slowly through the Gospel\, comparing to the other Gospel texts and the rest of Scripture. We will also explore the historical and cultural elements that the Visual Bible highlights as we dive into Scripture together.  \nNo study 12/23 or 30. 
URL:https://marionsalemchurch.org/event/gospel-live-2/
CATEGORIES:Church
END:VEVENT
BEGIN:VEVENT
DTSTART;TZID=America/New_York:20241211T130000
DTEND;TZID=America/New_York:20241211T143000
DTSTAMP:20260421T193256
CREATED:20241202T140509Z
LAST-MODIFIED:20241202T140509Z
UID:1621-1733922000-1733927400@marionsalemchurch.org
SUMMARY:Knitting/Crafting
DESCRIPTION:Join us for knitting and fellowship!
URL:https://marionsalemchurch.org/event/knitting-crafting-9-2/
CATEGORIES:Church
ATTACH;FMTTYPE=image/jpeg:https://marionsalemchurch.org/wp-content/uploads/2024/09/yarn.jpg
END:VEVENT
BEGIN:VEVENT
DTSTART;TZID=America/New_York:20241211T190000
DTEND;TZID=America/New_York:20241211T200000
DTSTAMP:20260421T193256
CREATED:20241202T132502Z
LAST-MODIFIED:20241202T132523Z
UID:1579-1733943600-1733947200@marionsalemchurch.org
SUMMARY:Basic Christian Faith Bible Study
DESCRIPTION:Join Pastor Jason for an engaging time of discussion as we explore basic teachings of Christian Faith.  \nThis is a paced study and you can drop in anytime.  \nNo Study 12/25 or 1/1. 
URL:https://marionsalemchurch.org/event/basic-christian-faith-bible-study-7-2/
CATEGORIES:Church
ATTACH;FMTTYPE=image/png:https://marionsalemchurch.org/wp-content/uploads/2024/09/Screenshot-2024-09-09-at-12.57.03-PM-2.png
END:VEVENT
BEGIN:VEVENT
DTSTART;TZID=America/New_York:20241212T180000
DTEND;TZID=America/New_York:20241212T200000
DTSTAMP:20260421T193256
CREATED:20241202T133553Z
LAST-MODIFIED:20241202T133656Z
UID:1594-1734026400-1734033600@marionsalemchurch.org
SUMMARY:Ladies' Christmas Party
DESCRIPTION:Attention Ladies of the church!  \nYou’re invited to an evening of fun and fellowship on Dec. 12 at 6 pm in the Fellowship Hall.  \nMark your calendars now and stay tuned for more details and a sign-up sheet on the information table in the sanctuary and will be available outside the kitchen in the family center. 
URL:https://marionsalemchurch.org/event/ladies-christmas-party/
CATEGORIES:Church
ATTACH;FMTTYPE=image/png:https://marionsalemchurch.org/wp-content/uploads/2024/12/Screenshot-2024-12-02-at-8.34.20-AM.png
END:VEVENT
BEGIN:VEVENT
DTSTART;TZID=America/New_York:20241215T100000
DTEND;TZID=America/New_York:20241215T113000
DTSTAMP:20260421T193256
CREATED:20241202T131320Z
LAST-MODIFIED:20241202T131458Z
UID:1570-1734256800-1734262200@marionsalemchurch.org
SUMMARY:The Christmas Promise children's program
DESCRIPTION:The children of Marion Salem will be presenting their version of The Christmas Promise on Sunday\, December 15 during the morning service. \nThere will be worship\, special music\, the children’s bell choir and more. \nCome and enjoy watching the children give their best to Jesus! 
URL:https://marionsalemchurch.org/event/the-christmas-promise-childrens-program/
CATEGORIES:Church
ATTACH;FMTTYPE=image/png:https://marionsalemchurch.org/wp-content/uploads/2024/12/Screenshot-2024-12-02-at-8.08.33-AM.png
END:VEVENT
BEGIN:VEVENT
DTSTART;TZID=America/New_York:20241215T180000
DTEND;TZID=America/New_York:20241215T200000
DTSTAMP:20260421T193256
CREATED:20241202T135435Z
LAST-MODIFIED:20241202T135435Z
UID:1609-1734285600-1734292800@marionsalemchurch.org
SUMMARY:Youth Christmas Party
DESCRIPTION:You better watch out\nYou better not cry.\nYou better not pout.\nWhy? Because it’s the youth Christmas Party!!!  \nJoin in the fun: \n• Christmas Cookie Decorating\n• Dollar Tree Gift Exchange  \nMenu: \nMini-Chinese Buffet  \nGames & Prizes  \nAnd if there’s time\, a round of sardines! 
URL:https://marionsalemchurch.org/event/youth-christmas-party/
CATEGORIES:youth
ATTACH;FMTTYPE=image/png:https://marionsalemchurch.org/wp-content/uploads/2024/12/Screenshot-2024-12-02-at-8.51.20-AM.png
END:VEVENT
END:VCALENDAR