BEGIN:VCALENDAR
VERSION:2.0
PRODID:-//Marion Salem Church - ECPv6.15.20//NONSGML v1.0//EN
CALSCALE:GREGORIAN
METHOD:PUBLISH
X-ORIGINAL-URL:https://marionsalemchurch.org
X-WR-CALDESC:Events for Marion Salem Church
REFRESH-INTERVAL;VALUE=DURATION:PT1H
X-Robots-Tag:noindex
X-PUBLISHED-TTL:PT1H
BEGIN:VTIMEZONE
TZID:America/New_York
BEGIN:DAYLIGHT
TZOFFSETFROM:-0500
TZOFFSETTO:-0400
TZNAME:EDT
DTSTART:20230312T070000
END:DAYLIGHT
BEGIN:STANDARD
TZOFFSETFROM:-0400
TZOFFSETTO:-0500
TZNAME:EST
DTSTART:20231105T060000
END:STANDARD
BEGIN:DAYLIGHT
TZOFFSETFROM:-0500
TZOFFSETTO:-0400
TZNAME:EDT
DTSTART:20240310T070000
END:DAYLIGHT
BEGIN:STANDARD
TZOFFSETFROM:-0400
TZOFFSETTO:-0500
TZNAME:EST
DTSTART:20241103T060000
END:STANDARD
BEGIN:DAYLIGHT
TZOFFSETFROM:-0500
TZOFFSETTO:-0400
TZNAME:EDT
DTSTART:20250309T070000
END:DAYLIGHT
BEGIN:STANDARD
TZOFFSETFROM:-0400
TZOFFSETTO:-0500
TZNAME:EST
DTSTART:20251102T060000
END:STANDARD
BEGIN:DAYLIGHT
TZOFFSETFROM:-0500
TZOFFSETTO:-0400
TZNAME:EDT
DTSTART:20260308T070000
END:DAYLIGHT
BEGIN:STANDARD
TZOFFSETFROM:-0400
TZOFFSETTO:-0500
TZNAME:EST
DTSTART:20261101T060000
END:STANDARD
END:VTIMEZONE
BEGIN:VEVENT
DTSTART;TZID=America/New_York:20241209T160000
DTEND;TZID=America/New_York:20241209T170000
DTSTAMP:20260421T205757
CREATED:20241202T132909Z
LAST-MODIFIED:20241202T132909Z
UID:1586-1733760000-1733763600@marionsalemchurch.org
SUMMARY:Gospel LIVE!
DESCRIPTION:Discover the Gospel of Matthew in a whole new way with the Visual Bible. This portrayal of Scripture is taken directly from the 1984 New International Version\, word for word. Every line of dialogue spoken is either by the narrator (Matthew) or the individuals in Scripture. The screenplay follows the Gospel as closely as possible. We’ll work slowly through the Gospel\, comparing to the other Gospel texts and the rest of Scripture. We will also explore the historical and cultural elements that the Visual Bible highlights as we dive into Scripture together.  \nNo study 12/23 or 30. 
URL:https://marionsalemchurch.org/event/gospel-live-2/
CATEGORIES:Church
END:VEVENT
BEGIN:VEVENT
DTSTART;TZID=America/New_York:20241211T130000
DTEND;TZID=America/New_York:20241211T143000
DTSTAMP:20260421T205757
CREATED:20241202T140509Z
LAST-MODIFIED:20241202T140509Z
UID:1621-1733922000-1733927400@marionsalemchurch.org
SUMMARY:Knitting/Crafting
DESCRIPTION:Join us for knitting and fellowship!
URL:https://marionsalemchurch.org/event/knitting-crafting-9-2/
CATEGORIES:Church
ATTACH;FMTTYPE=image/jpeg:https://marionsalemchurch.org/wp-content/uploads/2024/09/yarn.jpg
END:VEVENT
BEGIN:VEVENT
DTSTART;TZID=America/New_York:20241211T190000
DTEND;TZID=America/New_York:20241211T200000
DTSTAMP:20260421T205757
CREATED:20241202T132502Z
LAST-MODIFIED:20241202T132523Z
UID:1579-1733943600-1733947200@marionsalemchurch.org
SUMMARY:Basic Christian Faith Bible Study
DESCRIPTION:Join Pastor Jason for an engaging time of discussion as we explore basic teachings of Christian Faith.  \nThis is a paced study and you can drop in anytime.  \nNo Study 12/25 or 1/1. 
URL:https://marionsalemchurch.org/event/basic-christian-faith-bible-study-7-2/
CATEGORIES:Church
ATTACH;FMTTYPE=image/png:https://marionsalemchurch.org/wp-content/uploads/2024/09/Screenshot-2024-09-09-at-12.57.03-PM-2.png
END:VEVENT
BEGIN:VEVENT
DTSTART;TZID=America/New_York:20241212T180000
DTEND;TZID=America/New_York:20241212T200000
DTSTAMP:20260421T205757
CREATED:20241202T133553Z
LAST-MODIFIED:20241202T133656Z
UID:1594-1734026400-1734033600@marionsalemchurch.org
SUMMARY:Ladies' Christmas Party
DESCRIPTION:Attention Ladies of the church!  \nYou’re invited to an evening of fun and fellowship on Dec. 12 at 6 pm in the Fellowship Hall.  \nMark your calendars now and stay tuned for more details and a sign-up sheet on the information table in the sanctuary and will be available outside the kitchen in the family center. 
URL:https://marionsalemchurch.org/event/ladies-christmas-party/
CATEGORIES:Church
ATTACH;FMTTYPE=image/png:https://marionsalemchurch.org/wp-content/uploads/2024/12/Screenshot-2024-12-02-at-8.34.20-AM.png
END:VEVENT
BEGIN:VEVENT
DTSTART;TZID=America/New_York:20241215T100000
DTEND;TZID=America/New_York:20241215T113000
DTSTAMP:20260421T205757
CREATED:20241202T131320Z
LAST-MODIFIED:20241202T131458Z
UID:1570-1734256800-1734262200@marionsalemchurch.org
SUMMARY:The Christmas Promise children's program
DESCRIPTION:The children of Marion Salem will be presenting their version of The Christmas Promise on Sunday\, December 15 during the morning service. \nThere will be worship\, special music\, the children’s bell choir and more. \nCome and enjoy watching the children give their best to Jesus! 
URL:https://marionsalemchurch.org/event/the-christmas-promise-childrens-program/
CATEGORIES:Church
ATTACH;FMTTYPE=image/png:https://marionsalemchurch.org/wp-content/uploads/2024/12/Screenshot-2024-12-02-at-8.08.33-AM.png
END:VEVENT
BEGIN:VEVENT
DTSTART;TZID=America/New_York:20241215T180000
DTEND;TZID=America/New_York:20241215T200000
DTSTAMP:20260421T205757
CREATED:20241202T135435Z
LAST-MODIFIED:20241202T135435Z
UID:1609-1734285600-1734292800@marionsalemchurch.org
SUMMARY:Youth Christmas Party
DESCRIPTION:You better watch out\nYou better not cry.\nYou better not pout.\nWhy? Because it’s the youth Christmas Party!!!  \nJoin in the fun: \n• Christmas Cookie Decorating\n• Dollar Tree Gift Exchange  \nMenu: \nMini-Chinese Buffet  \nGames & Prizes  \nAnd if there’s time\, a round of sardines! 
URL:https://marionsalemchurch.org/event/youth-christmas-party/
CATEGORIES:youth
ATTACH;FMTTYPE=image/png:https://marionsalemchurch.org/wp-content/uploads/2024/12/Screenshot-2024-12-02-at-8.51.20-AM.png
END:VEVENT
BEGIN:VEVENT
DTSTART;TZID=America/New_York:20241216T160000
DTEND;TZID=America/New_York:20241216T170000
DTSTAMP:20260421T205757
CREATED:20241202T132940Z
LAST-MODIFIED:20241202T132940Z
UID:1588-1734364800-1734368400@marionsalemchurch.org
SUMMARY:Gospel LIVE!
DESCRIPTION:Discover the Gospel of Matthew in a whole new way with the Visual Bible. This portrayal of Scripture is taken directly from the 1984 New International Version\, word for word. Every line of dialogue spoken is either by the narrator (Matthew) or the individuals in Scripture. The screenplay follows the Gospel as closely as possible. We’ll work slowly through the Gospel\, comparing to the other Gospel texts and the rest of Scripture. We will also explore the historical and cultural elements that the Visual Bible highlights as we dive into Scripture together.  \nNo study 12/23 or 30. 
URL:https://marionsalemchurch.org/event/gospel-live-2-2/
CATEGORIES:Church
END:VEVENT
BEGIN:VEVENT
DTSTART;TZID=America/New_York:20241218T130000
DTEND;TZID=America/New_York:20241218T143000
DTSTAMP:20260421T205757
CREATED:20241202T140542Z
LAST-MODIFIED:20241202T140542Z
UID:1623-1734526800-1734532200@marionsalemchurch.org
SUMMARY:Knitting/Crafting
DESCRIPTION:Join us for knitting and fellowship!
URL:https://marionsalemchurch.org/event/knitting-crafting-9-2-2/
CATEGORIES:Church
ATTACH;FMTTYPE=image/jpeg:https://marionsalemchurch.org/wp-content/uploads/2024/09/yarn.jpg
END:VEVENT
BEGIN:VEVENT
DTSTART;TZID=America/New_York:20241218T190000
DTEND;TZID=America/New_York:20241218T200000
DTSTAMP:20260421T205757
CREATED:20241202T132602Z
LAST-MODIFIED:20241202T132602Z
UID:1582-1734548400-1734552000@marionsalemchurch.org
SUMMARY:Basic Christian Faith Bible Study
DESCRIPTION:Join Pastor Jason for an engaging time of discussion as we explore basic teachings of Christian Faith.  \nThis is a paced study and you can drop in anytime.  \nNo Study 12/25 or 1/1. 
URL:https://marionsalemchurch.org/event/basic-christian-faith-bible-study-7-2-2/
CATEGORIES:Church
ATTACH;FMTTYPE=image/png:https://marionsalemchurch.org/wp-content/uploads/2024/09/Screenshot-2024-09-09-at-12.57.03-PM-2.png
END:VEVENT
BEGIN:VEVENT
DTSTART;TZID=America/New_York:20241222T173000
DTEND;TZID=America/New_York:20241222T183000
DTSTAMP:20260421T205757
CREATED:20241202T135031Z
LAST-MODIFIED:20241202T135031Z
UID:1605-1734888600-1734892200@marionsalemchurch.org
SUMMARY:Blue Christmas Memorial Service
DESCRIPTION:When painful memories\n       cloud Christmas cheer… \nWhen the hustle and bustle\nhas made you sour… \nWhen celebrating is the last\n       thing on your mind… \nCome to Remember and Be Remembered.
URL:https://marionsalemchurch.org/event/blue-christmas-memorial-service/
CATEGORIES:Church
ATTACH;FMTTYPE=image/png:https://marionsalemchurch.org/wp-content/uploads/2024/12/Screenshot-2024-12-02-at-8.46.57-AM.png
END:VEVENT
BEGIN:VEVENT
DTSTART;TZID=America/New_York:20241224T190000
DTEND;TZID=America/New_York:20241224T200000
DTSTAMP:20260421T205757
CREATED:20241202T133310Z
LAST-MODIFIED:20241202T133310Z
UID:1590-1735066800-1735070400@marionsalemchurch.org
SUMMARY:Christmas Eve Communion & Candlelight Service
DESCRIPTION:It’s tradition! This year we celebrate the coming of the King of Glory!  \nEven in the darkness and chaos of our world\, God’s Kingdom Comes!  \nRemember to invite your friends\, family\, and neighbors!  \nWe’ll celebrate communion together\, pass the flame around with candles\, and welcome the birth of Christ singing “Silent Night!” 
URL:https://marionsalemchurch.org/event/christmas-eve-communion-candlelight-service/
CATEGORIES:Church
ATTACH;FMTTYPE=image/png:https://marionsalemchurch.org/wp-content/uploads/2024/12/Screenshot-2024-12-02-at-8.30.28-AM.png
END:VEVENT
BEGIN:VEVENT
DTSTART;TZID=America/New_York:20241229T110000
DTEND;TZID=America/New_York:20241229T233000
DTSTAMP:20260421T205757
CREATED:20241202T132057Z
LAST-MODIFIED:20241202T132057Z
UID:1574-1735470000-1735515000@marionsalemchurch.org
SUMMARY:Peanut Butter Sandwich Making
DESCRIPTION:We’d love to have you join us to make peanut butter and jelly sandwiches for The Peanut Butter Jelly Truck\, part of the \nLuke 3:11 Ministries. Working to reduce poverty and spreading love in Marion\, Ohio. \nWe will be putting the sandwiches together  in the Family Center Kitchen right after worship. \n 
URL:https://marionsalemchurch.org/event/peanut-butter-sandwich-making-3/
CATEGORIES:Church
ATTACH;FMTTYPE=image/png:https://marionsalemchurch.org/wp-content/uploads/2024/12/Screenshot-2024-12-02-at-8.19.10-AM.png
END:VEVENT
BEGIN:VEVENT
DTSTART;TZID=America/New_York:20250105T113000
DTEND;TZID=America/New_York:20250105T120000
DTSTAMP:20260421T205757
CREATED:20241229T194820Z
LAST-MODIFIED:20241229T194820Z
UID:1682-1736076600-1736078400@marionsalemchurch.org
SUMMARY:All Church Birthday Party
DESCRIPTION:Come join a fun fellowship dinner themed around your birthday!\nTables will be setup for seating by month of birth so you get to know other birthday buddies. \nBring a dish to share. \nDrinks and cake will be provided.
URL:https://marionsalemchurch.org/event/all-church-birthday-party/
CATEGORIES:Church
ATTACH;FMTTYPE=image/png:https://marionsalemchurch.org/wp-content/uploads/2024/12/Screenshot-2024-12-29-at-2.46.57-PM.png
END:VEVENT
BEGIN:VEVENT
DTSTART;TZID=America/New_York:20250108T130000
DTEND;TZID=America/New_York:20250108T140000
DTSTAMP:20260421T205757
CREATED:20241229T201136Z
LAST-MODIFIED:20241229T201136Z
UID:1698-1736341200-1736344800@marionsalemchurch.org
SUMMARY:Knitting/Crafting
DESCRIPTION:Join us for fellowship and fun. You don’t have to know how to knit!
URL:https://marionsalemchurch.org/event/knitting-crafting-10/
CATEGORIES:seniors
ATTACH;FMTTYPE=image/jpeg:https://marionsalemchurch.org/wp-content/uploads/2024/09/yarn.jpg
END:VEVENT
BEGIN:VEVENT
DTSTART;TZID=America/New_York:20250108T190000
DTEND;TZID=America/New_York:20250108T200000
DTSTAMP:20260421T205757
CREATED:20241229T195635Z
LAST-MODIFIED:20241229T195635Z
UID:1685-1736362800-1736366400@marionsalemchurch.org
SUMMARY:Bible Study: Basic Christian Faith
DESCRIPTION:Join Pastor Jason for an engaging time of discussion as we explore basic teachings of Christian Faith. This is a paced study and you can drop in anytime. \n 
URL:https://marionsalemchurch.org/event/bible-study-basic-christian-faith-3/
CATEGORIES:Church
ATTACH;FMTTYPE=image/png:https://marionsalemchurch.org/wp-content/uploads/2024/09/Screenshot-2024-09-09-at-12.57.03-PM-2.png
END:VEVENT
BEGIN:VEVENT
DTSTART;TZID=America/New_York:20250112T183000
DTEND;TZID=America/New_York:20250112T193000
DTSTAMP:20260421T205757
CREATED:20241229T200404Z
LAST-MODIFIED:20241229T200404Z
UID:1691-1736706600-1736710200@marionsalemchurch.org
SUMMARY:Salem Strivers Youth Group
DESCRIPTION:
URL:https://marionsalemchurch.org/event/salem-strivers-youth-group-2/
CATEGORIES:youth
ATTACH;FMTTYPE=image/png:https://marionsalemchurch.org/wp-content/uploads/2024/09/Screenshot-2024-09-09-at-1.16.17-PM-1.png
END:VEVENT
BEGIN:VEVENT
DTSTART;TZID=America/New_York:20250115T130000
DTEND;TZID=America/New_York:20250115T140000
DTSTAMP:20260421T205757
CREATED:20241229T201255Z
LAST-MODIFIED:20241229T201255Z
UID:1700-1736946000-1736949600@marionsalemchurch.org
SUMMARY:Knitting/Crafting
DESCRIPTION:Join us for fellowship and fun. You don’t have to know how to knit!
URL:https://marionsalemchurch.org/event/knitting-crafting-10-2/
CATEGORIES:seniors
ATTACH;FMTTYPE=image/jpeg:https://marionsalemchurch.org/wp-content/uploads/2024/09/yarn.jpg
END:VEVENT
BEGIN:VEVENT
DTSTART;TZID=America/New_York:20250115T190000
DTEND;TZID=America/New_York:20250115T200000
DTSTAMP:20260421T205757
CREATED:20241229T195938Z
LAST-MODIFIED:20241229T195938Z
UID:1687-1736967600-1736971200@marionsalemchurch.org
SUMMARY:Bible Study: Basic Christian Faith
DESCRIPTION:Join Pastor Jason for an engaging time of discussion as we explore basic teachings \nof Christian Faith.  \nThis is a paced study and you can drop in anytime.
URL:https://marionsalemchurch.org/event/bible-study-basic-christian-faith-4/
CATEGORIES:Church
ATTACH;FMTTYPE=image/png:https://marionsalemchurch.org/wp-content/uploads/2024/09/Screenshot-2024-09-09-at-12.57.03-PM-2.png
END:VEVENT
BEGIN:VEVENT
DTSTART;TZID=America/New_York:20250119T183000
DTEND;TZID=America/New_York:20250119T193000
DTSTAMP:20260421T205757
CREATED:20241229T200514Z
LAST-MODIFIED:20241229T200514Z
UID:1693-1737311400-1737315000@marionsalemchurch.org
SUMMARY:Salem Strivers Youth Group
DESCRIPTION:
URL:https://marionsalemchurch.org/event/salem-strivers-youth-group-3/
CATEGORIES:youth
ATTACH;FMTTYPE=image/png:https://marionsalemchurch.org/wp-content/uploads/2024/09/Screenshot-2024-09-09-at-1.16.17-PM-1.png
END:VEVENT
BEGIN:VEVENT
DTSTART;TZID=America/New_York:20250122T130000
DTEND;TZID=America/New_York:20250122T140000
DTSTAMP:20260421T205757
CREATED:20241229T201335Z
LAST-MODIFIED:20241229T201335Z
UID:1702-1737550800-1737554400@marionsalemchurch.org
SUMMARY:Knitting/Crafting (copy)
DESCRIPTION:Join us for fellowship and fun. You don’t have to know how to knit!
URL:https://marionsalemchurch.org/event/knitting-crafting-10-3/
CATEGORIES:seniors
ATTACH;FMTTYPE=image/jpeg:https://marionsalemchurch.org/wp-content/uploads/2024/09/yarn.jpg
END:VEVENT
BEGIN:VEVENT
DTSTART;TZID=America/New_York:20250122T190000
DTEND;TZID=America/New_York:20250122T200000
DTSTAMP:20260421T205757
CREATED:20241229T200148Z
LAST-MODIFIED:20241229T200148Z
UID:1689-1737572400-1737576000@marionsalemchurch.org
SUMMARY:Bible Study: Basic Christian Faith
DESCRIPTION:Join Pastor Jason for an engaging time ofdiscussion as we explore basic teachings \nof Christian Faith. This is a paced study and you can drop in anytime.
URL:https://marionsalemchurch.org/event/bible-study-basic-christian-faith-5/
CATEGORIES:Church
ATTACH;FMTTYPE=image/png:https://marionsalemchurch.org/wp-content/uploads/2024/09/Screenshot-2024-09-09-at-12.57.03-PM-2.png
END:VEVENT
BEGIN:VEVENT
DTSTART;TZID=America/New_York:20250125T163000
DTEND;TZID=America/New_York:20250125T190000
DTSTAMP:20260421T205757
CREATED:20241229T200901Z
LAST-MODIFIED:20241229T200901Z
UID:1695-1737822600-1737831600@marionsalemchurch.org
SUMMARY:Salem Strivers Youth Group Family Trip
DESCRIPTION:Church Family Trip to WinterJam Concert. Doors open at 5pm\, must bring $15 for entry. \nChurch Family Trip to WinterJam! All families are invited to join together for this unique Christian concert experience. \nPastor Jason and family will be heading on vacation following the concert\, however you’re invited to meet them outside the Schottenstein Center at 4:45 pm. Tickets are only available at the door and seating is first come\, first serve so it’s important to get in line early (seats cannot be saved). Bring cash or check (check to: NewSong Ministries) for entry. Cards are only accepted by venders inside for concessions or merch.
URL:https://marionsalemchurch.org/event/salem-strivers-youth-group-family-trip/
CATEGORIES:youth
ATTACH;FMTTYPE=image/png:https://marionsalemchurch.org/wp-content/uploads/2024/12/Screenshot-2024-12-29-at-3.08.04-PM.png
END:VEVENT
BEGIN:VEVENT
DTSTART;TZID=America/New_York:20250203T160000
DTEND;TZID=America/New_York:20250203T170000
DTSTAMP:20260421T205757
CREATED:20250203T212603Z
LAST-MODIFIED:20250203T212603Z
UID:1771-1738598400-1738602000@marionsalemchurch.org
SUMMARY:The Gospel Live! Visual Bible Study
DESCRIPTION:Discover the Gospel of Matthew in a whole new way with the Visual Bible. This portrayal of Scripture is taken directly from the 1984 New International Version\, word for word.  \nEvery line of dialogue spoken is either by the narrator (Matthew) or the individuals in Scripture. The screenplay follows the Gospel as closely as possible. We’ll work slowly through the Gospel\, comparing to the other Gospel texts and the rest of Scripture. \n We will also explore the historical and cultural elements that the Visual Bible highlights as we dive into Scripture together.  \n 
URL:https://marionsalemchurch.org/event/the-gospel-live-visual-bible-study-3/
CATEGORIES:Church
END:VEVENT
BEGIN:VEVENT
DTSTART;TZID=America/New_York:20250205T130000
DTEND;TZID=America/New_York:20250205T140000
DTSTAMP:20260421T205757
CREATED:20250203T213253Z
LAST-MODIFIED:20250203T213253Z
UID:1783-1738760400-1738764000@marionsalemchurch.org
SUMMARY:Knitting & Crafting
DESCRIPTION:Come join us for crafting and fellowship.
URL:https://marionsalemchurch.org/event/knitting-crafting-11/
CATEGORIES:seniors
ATTACH;FMTTYPE=image/jpeg:https://marionsalemchurch.org/wp-content/uploads/2024/09/yarn.jpg
END:VEVENT
BEGIN:VEVENT
DTSTART;TZID=America/New_York:20250205T180000
DTEND;TZID=America/New_York:20250205T200000
DTSTAMP:20260421T205757
CREATED:20250203T210652Z
LAST-MODIFIED:20250203T210726Z
UID:1754-1738778400-1738785600@marionsalemchurch.org
SUMMARY:State of Marion Address
DESCRIPTION:State of Marion (City/County) Event  \nDate: Feb. 5\, 2025 \nTime: 6-8 PM MarionNaz 233 W. Church St.\, Marion\, OH \nPurpose: Come hear from your city and county leaders about the accomplishments of the past year\, \ncurrent goals\, and the promising future of our home! Get informed and inspired by the ways \nour local leadership is creating progress in Marion. \nLove Your City!
URL:https://marionsalemchurch.org/event/state-of-marion-address/
CATEGORIES:Church
ATTACH;FMTTYPE=image/png:https://marionsalemchurch.org/wp-content/uploads/2025/02/Screenshot-2025-02-03-at-4.05.51-PM.png
END:VEVENT
BEGIN:VEVENT
DTSTART;TZID=America/New_York:20250209T180000
DTEND;TZID=America/New_York:20250209T210000
DTSTAMP:20260421T205757
CREATED:20250203T204551Z
LAST-MODIFIED:20250203T205006Z
UID:1734-1739124000-1739134800@marionsalemchurch.org
SUMMARY:Salem Strivers Youth Group
DESCRIPTION:Strivers do all they can to seek after the Lord. Part of that is sharing Christ with others. \nRemember to invite someone to youth. \nSuperbowl Party a the Church \nPregame: 6pm\nGame: 6:30pm \nAll are welcome; bring friends!\nBring your favorite snack to share.\nFour screens to watch the game!
URL:https://marionsalemchurch.org/event/salem-strivers-youth-group-4/
CATEGORIES:youth
ATTACH;FMTTYPE=image/png:https://marionsalemchurch.org/wp-content/uploads/2025/02/Screenshot-2025-02-03-at-3.44.42-PM.png
END:VEVENT
BEGIN:VEVENT
DTSTART;TZID=America/New_York:20250210T160000
DTEND;TZID=America/New_York:20250210T170000
DTSTAMP:20260421T205757
CREATED:20250203T212659Z
LAST-MODIFIED:20250203T212659Z
UID:1773-1739203200-1739206800@marionsalemchurch.org
SUMMARY:The Gospel Live! Visual Bible Study
DESCRIPTION:Discover the Gospel of Matthew in a whole new way with the Visual Bible. This portrayal of Scripture is taken directly from the 1984 New International Version\, word for word.  \nEvery line of dialogue spoken is either by the narrator (Matthew) or the individuals in Scripture. The screenplay follows the Gospel as closely as possible. We’ll work slowly through the Gospel\, comparing to the other Gospel texts and the rest of Scripture. \n We will also explore the historical and cultural elements that the Visual Bible highlights as we dive into Scripture together.  \n 
URL:https://marionsalemchurch.org/event/the-gospel-live-visual-bible-study-3-2/
CATEGORIES:Church
END:VEVENT
BEGIN:VEVENT
DTSTART;TZID=America/New_York:20250212T130000
DTEND;TZID=America/New_York:20250212T140000
DTSTAMP:20260421T205757
CREATED:20250203T213333Z
LAST-MODIFIED:20250203T213333Z
UID:1785-1739365200-1739368800@marionsalemchurch.org
SUMMARY:Knitting & Crafting
DESCRIPTION:Come join us for crafting and fellowship.
URL:https://marionsalemchurch.org/event/knitting-crafting-11-2/
CATEGORIES:seniors
ATTACH;FMTTYPE=image/jpeg:https://marionsalemchurch.org/wp-content/uploads/2024/09/yarn.jpg
END:VEVENT
BEGIN:VEVENT
DTSTART;TZID=America/New_York:20250212T190000
DTEND;TZID=America/New_York:20250212T200000
DTSTAMP:20260421T205757
CREATED:20250203T212155Z
LAST-MODIFIED:20250203T212155Z
UID:1764-1739386800-1739390400@marionsalemchurch.org
SUMMARY:Basic Christian Faith Bible Study
DESCRIPTION:Join Pastor Jason for an engaging time of discussion as we explore basic teachings of Christian Faith.\nThis is a paced study and you can drop in anytime.
URL:https://marionsalemchurch.org/event/basic-christian-faith-bible-study-8/
CATEGORIES:Church
ATTACH;FMTTYPE=image/jpeg:https://marionsalemchurch.org/wp-content/uploads/2025/02/Bible-Studies.jpg
END:VEVENT
BEGIN:VEVENT
DTSTART;TZID=America/New_York:20250216T183000
DTEND;TZID=America/New_York:20250216T193000
DTSTAMP:20260421T205757
CREATED:20250203T204743Z
LAST-MODIFIED:20250203T204743Z
UID:1738-1739730600-1739734200@marionsalemchurch.org
SUMMARY:Salem Strivers Youth Group
DESCRIPTION:Come join us in the Family Center.
URL:https://marionsalemchurch.org/event/salem-strivers-youth-group-4-2/
CATEGORIES:youth
ATTACH;FMTTYPE=image/png:https://marionsalemchurch.org/wp-content/uploads/2024/09/Screenshot-2024-09-09-at-1.16.17-PM-1.png
END:VEVENT
END:VCALENDAR