BEGIN:VCALENDAR
VERSION:2.0
PRODID:-//Marion Salem Church - ECPv6.15.20//NONSGML v1.0//EN
CALSCALE:GREGORIAN
METHOD:PUBLISH
X-ORIGINAL-URL:https://marionsalemchurch.org
X-WR-CALDESC:Events for Marion Salem Church
REFRESH-INTERVAL;VALUE=DURATION:PT1H
X-Robots-Tag:noindex
X-PUBLISHED-TTL:PT1H
BEGIN:VTIMEZONE
TZID:America/New_York
BEGIN:DAYLIGHT
TZOFFSETFROM:-0500
TZOFFSETTO:-0400
TZNAME:EDT
DTSTART:20230312T070000
END:DAYLIGHT
BEGIN:STANDARD
TZOFFSETFROM:-0400
TZOFFSETTO:-0500
TZNAME:EST
DTSTART:20231105T060000
END:STANDARD
BEGIN:DAYLIGHT
TZOFFSETFROM:-0500
TZOFFSETTO:-0400
TZNAME:EDT
DTSTART:20240310T070000
END:DAYLIGHT
BEGIN:STANDARD
TZOFFSETFROM:-0400
TZOFFSETTO:-0500
TZNAME:EST
DTSTART:20241103T060000
END:STANDARD
BEGIN:DAYLIGHT
TZOFFSETFROM:-0500
TZOFFSETTO:-0400
TZNAME:EDT
DTSTART:20250309T070000
END:DAYLIGHT
BEGIN:STANDARD
TZOFFSETFROM:-0400
TZOFFSETTO:-0500
TZNAME:EST
DTSTART:20251102T060000
END:STANDARD
END:VTIMEZONE
BEGIN:VEVENT
DTSTART;TZID=America/New_York:20240204T100000
DTEND;TZID=America/New_York:20240204T110000
DTSTAMP:20260423T012205
CREATED:20240206T204711Z
LAST-MODIFIED:20240206T204711Z
UID:782-1707040800-1707044400@marionsalemchurch.org
SUMMARY:Communion Service
DESCRIPTION:We believe that the bread is an effectual sign of Christ’s body and the cup is an effectual sign of His blood shed for humanity. We believe that it is a means of grace and practice open communion. ALL are welcome to take communion who love Him\, earnestly repent of their sin\, and seek to be at peace with one another. 
URL:https://marionsalemchurch.org/event/communion-service/
CATEGORIES:Church
END:VEVENT
BEGIN:VEVENT
DTSTART;TZID=America/New_York:20240205T140000
DTEND;TZID=America/New_York:20240205T150000
DTSTAMP:20260423T012205
CREATED:20240201T224835Z
LAST-MODIFIED:20240201T224835Z
UID:695-1707141600-1707145200@marionsalemchurch.org
SUMMARY:Bible Study
DESCRIPTION:
URL:https://marionsalemchurch.org/event/bible-study-5/
CATEGORIES:Church
END:VEVENT
BEGIN:VEVENT
DTSTART;TZID=America/New_York:20240206T140000
DTEND;TZID=America/New_York:20240206T150000
DTSTAMP:20260423T012205
CREATED:20240201T225220Z
LAST-MODIFIED:20240201T225220Z
UID:704-1707228000-1707231600@marionsalemchurch.org
SUMMARY:Choir Practice
DESCRIPTION:
URL:https://marionsalemchurch.org/event/choir-practice-4/
CATEGORIES:Church
END:VEVENT
BEGIN:VEVENT
DTSTART;TZID=America/New_York:20240212T140000
DTEND;TZID=America/New_York:20240212T150000
DTSTAMP:20260423T012205
CREATED:20240201T224912Z
LAST-MODIFIED:20240206T204839Z
UID:697-1707746400-1707750000@marionsalemchurch.org
SUMMARY:Bible Study
DESCRIPTION:
URL:https://marionsalemchurch.org/event/bible-study-6/
CATEGORIES:Church
END:VEVENT
BEGIN:VEVENT
DTSTART;TZID=America/New_York:20240213T140000
DTEND;TZID=America/New_York:20240213T150000
DTSTAMP:20260423T012205
CREATED:20240201T225251Z
LAST-MODIFIED:20240201T225251Z
UID:706-1707832800-1707836400@marionsalemchurch.org
SUMMARY:Choir Practice
DESCRIPTION:
URL:https://marionsalemchurch.org/event/choir-practice-5/
CATEGORIES:Church
END:VEVENT
BEGIN:VEVENT
DTSTART;TZID=America/New_York:20240219T140000
DTEND;TZID=America/New_York:20240219T150000
DTSTAMP:20260423T012205
CREATED:20240201T224947Z
LAST-MODIFIED:20240201T224956Z
UID:699-1708351200-1708354800@marionsalemchurch.org
SUMMARY:Bible Study
DESCRIPTION:
URL:https://marionsalemchurch.org/event/bible-studu/
CATEGORIES:Church
END:VEVENT
BEGIN:VEVENT
DTSTART;TZID=America/New_York:20240220T140000
DTEND;TZID=America/New_York:20240220T150000
DTSTAMP:20260423T012205
CREATED:20240201T225315Z
LAST-MODIFIED:20240201T225315Z
UID:708-1708437600-1708441200@marionsalemchurch.org
SUMMARY:Choir Practice
DESCRIPTION:
URL:https://marionsalemchurch.org/event/choir-practice-6/
CATEGORIES:Church
END:VEVENT
BEGIN:VEVENT
DTSTART;TZID=America/New_York:20240226T140000
DTEND;TZID=America/New_York:20240226T150000
DTSTAMP:20260423T012205
CREATED:20240201T225119Z
LAST-MODIFIED:20240201T225119Z
UID:702-1708956000-1708959600@marionsalemchurch.org
SUMMARY:Bible Study
DESCRIPTION:
URL:https://marionsalemchurch.org/event/bible-study-7/
CATEGORIES:Church
END:VEVENT
BEGIN:VEVENT
DTSTART;TZID=America/New_York:20240227T140000
DTEND;TZID=America/New_York:20240227T150000
DTSTAMP:20260423T012205
CREATED:20240201T225343Z
LAST-MODIFIED:20240201T225343Z
UID:710-1709042400-1709046000@marionsalemchurch.org
SUMMARY:Choir Practice
DESCRIPTION:
URL:https://marionsalemchurch.org/event/choir-practice-7/
CATEGORIES:Church
END:VEVENT
END:VCALENDAR